BEGIN:VCALENDAR
VERSION:2.0
PRODID:-//News and Events - ECPv6.15.20//NONSGML v1.0//EN
CALSCALE:GREGORIAN
METHOD:PUBLISH
X-WR-CALNAME:News and Events
X-ORIGINAL-URL:https://hc.edu/news-and-events
X-WR-CALDESC:Events for News and Events
REFRESH-INTERVAL;VALUE=DURATION:PT1H
X-Robots-Tag:noindex
X-PUBLISHED-TTL:PT1H
BEGIN:VTIMEZONE
TZID:America/Chicago
BEGIN:DAYLIGHT
TZOFFSETFROM:-0600
TZOFFSETTO:-0500
TZNAME:CDT
DTSTART:20240310T080000
END:DAYLIGHT
BEGIN:STANDARD
TZOFFSETFROM:-0500
TZOFFSETTO:-0600
TZNAME:CST
DTSTART:20241103T070000
END:STANDARD
BEGIN:DAYLIGHT
TZOFFSETFROM:-0600
TZOFFSETTO:-0500
TZNAME:CDT
DTSTART:20250309T080000
END:DAYLIGHT
BEGIN:STANDARD
TZOFFSETFROM:-0500
TZOFFSETTO:-0600
TZNAME:CST
DTSTART:20251102T070000
END:STANDARD
BEGIN:DAYLIGHT
TZOFFSETFROM:-0600
TZOFFSETTO:-0500
TZNAME:CDT
DTSTART:20260308T080000
END:DAYLIGHT
BEGIN:STANDARD
TZOFFSETFROM:-0500
TZOFFSETTO:-0600
TZNAME:CST
DTSTART:20261101T070000
END:STANDARD
END:VTIMEZONE
BEGIN:VEVENT
DTSTART;TZID=America/Chicago:20251026T130000
DTEND;TZID=America/Chicago:20251026T150000
DTSTAMP:20260420T210811
CREATED:20250416T070214Z
LAST-MODIFIED:20260420T070132Z
UID:264449-1761483600-1761490800@hc.edu
SUMMARY:Women's Soccer vs McNeese on 10-26-2025
DESCRIPTION:[W] Houston Christian University Women’s Soccer vs McNeeseW 1-0Streaming Video: https://www.espn.com/watch/player/_/eventCalendarId/401797129?gameId=749763&sourceLang=en&om-navmethod=espn:globalsearch:results
URL:https://hc.edu/news-and-events/event/womens-soccer-vs-mcneese-on-10-26-2025/
LOCATION:Houston\, Texas\, Sorrels Field\, United States
CATEGORIES:Athletics,Women's Soccer
END:VEVENT
END:VCALENDAR