BEGIN:VCALENDAR
VERSION:2.0
PRODID:-//News and Events - ECPv6.15.20//NONSGML v1.0//EN
CALSCALE:GREGORIAN
METHOD:PUBLISH
X-WR-CALNAME:News and Events
X-ORIGINAL-URL:https://hc.edu/news-and-events
X-WR-CALDESC:Events for News and Events
REFRESH-INTERVAL;VALUE=DURATION:PT1H
X-Robots-Tag:noindex
X-PUBLISHED-TTL:PT1H
BEGIN:VTIMEZONE
TZID:America/Chicago
BEGIN:DAYLIGHT
TZOFFSETFROM:-0600
TZOFFSETTO:-0500
TZNAME:CDT
DTSTART:20240310T080000
END:DAYLIGHT
BEGIN:STANDARD
TZOFFSETFROM:-0500
TZOFFSETTO:-0600
TZNAME:CST
DTSTART:20241103T070000
END:STANDARD
BEGIN:DAYLIGHT
TZOFFSETFROM:-0600
TZOFFSETTO:-0500
TZNAME:CDT
DTSTART:20250309T080000
END:DAYLIGHT
BEGIN:STANDARD
TZOFFSETFROM:-0500
TZOFFSETTO:-0600
TZNAME:CST
DTSTART:20251102T070000
END:STANDARD
BEGIN:DAYLIGHT
TZOFFSETFROM:-0600
TZOFFSETTO:-0500
TZNAME:CDT
DTSTART:20260308T080000
END:DAYLIGHT
BEGIN:STANDARD
TZOFFSETFROM:-0500
TZOFFSETTO:-0600
TZNAME:CST
DTSTART:20261101T070000
END:STANDARD
END:VTIMEZONE
BEGIN:VEVENT
DTSTART;TZID=America/Chicago:20251028T000000
DTEND;TZID=America/Chicago:20251028T030000
DTSTAMP:20260420T175020
CREATED:20250815T070225Z
LAST-MODIFIED:20260420T070130Z
UID:265760-1761609600-1761620400@hc.edu
SUMMARY:Women's Golf at The Bear Brawl on 10-28-2025
DESCRIPTION:[N] Houston Christian University Women’s Golf at The Bear Brawl
URL:https://hc.edu/news-and-events/event/womens-golf-at-the-bear-brawl-on-10-28-2025/
LOCATION:Waco\, Texas\, United States
CATEGORIES:Athletics, Women's Gold
END:VEVENT
BEGIN:VEVENT
DTSTART;TZID=America/Chicago:20251028T110000
DTEND;TZID=America/Chicago:20251028T130000
DTSTAMP:20260420T175020
CREATED:20251028T060132Z
LAST-MODIFIED:20251104T060141Z
UID:266893-1761649200-1761656400@hc.edu
SUMMARY:Free Commuter Lunch
DESCRIPTION:
URL:https://hc.edu/news-and-events/event/free-commuter-lunch-2/
LOCATION:Collegium
CATEGORIES:HCU Events
END:VEVENT
BEGIN:VEVENT
DTSTART;TZID=America/Chicago:20251028T120000
DTEND;TZID=America/Chicago:20251028T130000
DTSTAMP:20260420T175020
CREATED:20251015T170724Z
LAST-MODIFIED:20251031T193957Z
UID:266772-1761652800-1761656400@hc.edu
SUMMARY:Yoga Class
DESCRIPTION:Noon Yoga Class at the Bradshaw Fitness Center! Find your balance between mind\, body and campus life! Join us for our afternoon rejuvenating yoga class at 12 p.m.\, Tuesdays & Thursdays. Relieve stress\, boost focus and recharge your energy in a calm space. Mats provided! \nFree for students and Staff and Faculty must be a member. \nFor more information\, email fitnesscenter@HC.edu.
URL:https://hc.edu/news-and-events/event/free-yoga-class-3/
LOCATION:Bradshaw Fitness Center
CATEGORIES:HCU Events
ORGANIZER;CN="Unnamed Organizer":MAILTO:lucas.stark@live.com
END:VEVENT
BEGIN:VEVENT
DTSTART;TZID=America/Chicago:20251028T190000
DTEND;TZID=America/Chicago:20251028T210000
DTSTAMP:20260420T175020
CREATED:20250819T060201Z
LAST-MODIFIED:20251104T060141Z
UID:265871-1761678000-1761685200@hc.edu
SUMMARY:Campus Outreach Weekly Meetings
DESCRIPTION:
URL:https://hc.edu/news-and-events/event/campus-outreach-weekly-meetings-9/
LOCATION:Cullen Parlor\, United States
CATEGORIES:HCU Events
END:VEVENT
END:VCALENDAR