BEGIN:VCALENDAR
VERSION:2.0
PRODID:-//News and Events - ECPv6.15.20//NONSGML v1.0//EN
CALSCALE:GREGORIAN
METHOD:PUBLISH
X-ORIGINAL-URL:https://hc.edu/news-and-events
X-WR-CALDESC:Events for News and Events
REFRESH-INTERVAL;VALUE=DURATION:PT1H
X-Robots-Tag:noindex
X-PUBLISHED-TTL:PT1H
BEGIN:VTIMEZONE
TZID:America/Chicago
BEGIN:DAYLIGHT
TZOFFSETFROM:-0600
TZOFFSETTO:-0500
TZNAME:CDT
DTSTART:20240310T080000
END:DAYLIGHT
BEGIN:STANDARD
TZOFFSETFROM:-0500
TZOFFSETTO:-0600
TZNAME:CST
DTSTART:20241103T070000
END:STANDARD
BEGIN:DAYLIGHT
TZOFFSETFROM:-0600
TZOFFSETTO:-0500
TZNAME:CDT
DTSTART:20250309T080000
END:DAYLIGHT
BEGIN:STANDARD
TZOFFSETFROM:-0500
TZOFFSETTO:-0600
TZNAME:CST
DTSTART:20251102T070000
END:STANDARD
BEGIN:DAYLIGHT
TZOFFSETFROM:-0600
TZOFFSETTO:-0500
TZNAME:CDT
DTSTART:20260308T080000
END:DAYLIGHT
BEGIN:STANDARD
TZOFFSETFROM:-0500
TZOFFSETTO:-0600
TZNAME:CST
DTSTART:20261101T070000
END:STANDARD
END:VTIMEZONE
BEGIN:VEVENT
DTSTART;TZID=America/Chicago:20251029T110000
DTEND;TZID=America/Chicago:20251029T115000
DTSTAMP:20260420T175115
CREATED:20250226T060213Z
LAST-MODIFIED:20251105T060128Z
UID:263771-1761735600-1761738600@hc.edu
SUMMARY:Wednesday Convocation
DESCRIPTION:Founders’ Day with Ramiro Peña \nAn HCU tradition is to celebrate the anniversary of the University’s founding on November 15\, 1960 at a Convocation in the middle of the fall semester. This is an opportunity to be reminded of the Christian convictions and missions that motivated our founders to courageously work and sacrificially give to start a new institution of higher education in Houston. It also gives us a moment to thank God for the gift that HCU is to each of us and to challenge us to faithfully steward the HCU legacy that has been entrusted to us. \nEach year we invite a distinguished alumnus or guest to address us in Convocation on this theme\, and this year we have the honor of hearing from the current chairman of the HCU Board of Trustees\, Rev. Ramiro Peña. Rev. Peña is the pastor of Christ the King Baptist Church in Waco\, Texas as well as a former administrator and regent at Baylor University. He has served as Special Court Master and Mediator for the 66th Judicial District Court of Texas and also served as a member of both the White House Commission on Hispanic Prosperity and the White House Faith and Opportunity Initiative during the first Trump Administration.
URL:https://hc.edu/news-and-events/event/wednesday-convocation-17/
LOCATION:Belin Chapel and Recital Hall\, United States
CATEGORIES:HCU Events,Spiritual Life
END:VEVENT
BEGIN:VEVENT
DTSTART;TZID=America/Chicago:20251029T110000
DTEND;TZID=America/Chicago:20251029T115000
DTSTAMP:20260420T175115
CREATED:20250226T060213Z
LAST-MODIFIED:20251105T060128Z
UID:263772-1761735600-1761738600@hc.edu
SUMMARY:Wednesday Convocation
DESCRIPTION:Founders’ Day with Ramiro Peña \nAn HCU tradition is to celebrate the anniversary of the University’s founding on November 15\, 1960 at a Convocation in the middle of the fall semester. This is an opportunity to be reminded of the Christian convictions and missions that motivated our founders to courageously work and sacrificially give to start a new institution of higher education in Houston. It also gives us a moment to thank God for the gift that HCU is to each of us and to challenge us to faithfully steward the HCU legacy that has been entrusted to us. \nEach year we invite a distinguished alumnus or guest to address us in Convocation on this theme\, and this year we have the honor of hearing from the current chairman of the HCU Board of Trustees\, Rev. Ramiro Peña. Rev. Peña is the pastor of Christ the King Baptist Church in Waco\, Texas as well as a former administrator and regent at Baylor University. He has served as Special Court Master and Mediator for the 66th Judicial District Court of Texas and also served as a member of both the White House Commission on Hispanic Prosperity and the White House Faith and Opportunity Initiative during the first Trump Administration.
URL:https://hc.edu/news-and-events/event/wednesday-convocation-18/
LOCATION:Dunham Theater\, United States
CATEGORIES:HCU Events,Spiritual Life
END:VEVENT
END:VCALENDAR