BEGIN:VCALENDAR
VERSION:2.0
PRODID:-//News and Events - ECPv6.15.20//NONSGML v1.0//EN
CALSCALE:GREGORIAN
METHOD:PUBLISH
X-ORIGINAL-URL:https://hc.edu/news-and-events
X-WR-CALDESC:Events for News and Events
REFRESH-INTERVAL;VALUE=DURATION:PT1H
X-Robots-Tag:noindex
X-PUBLISHED-TTL:PT1H
BEGIN:VTIMEZONE
TZID:America/Chicago
BEGIN:DAYLIGHT
TZOFFSETFROM:-0600
TZOFFSETTO:-0500
TZNAME:CDT
DTSTART:20240310T080000
END:DAYLIGHT
BEGIN:STANDARD
TZOFFSETFROM:-0500
TZOFFSETTO:-0600
TZNAME:CST
DTSTART:20241103T070000
END:STANDARD
BEGIN:DAYLIGHT
TZOFFSETFROM:-0600
TZOFFSETTO:-0500
TZNAME:CDT
DTSTART:20250309T080000
END:DAYLIGHT
BEGIN:STANDARD
TZOFFSETFROM:-0500
TZOFFSETTO:-0600
TZNAME:CST
DTSTART:20251102T070000
END:STANDARD
BEGIN:DAYLIGHT
TZOFFSETFROM:-0600
TZOFFSETTO:-0500
TZNAME:CDT
DTSTART:20260308T080000
END:DAYLIGHT
BEGIN:STANDARD
TZOFFSETFROM:-0500
TZOFFSETTO:-0600
TZNAME:CST
DTSTART:20261101T070000
END:STANDARD
END:VTIMEZONE
BEGIN:VEVENT
DTSTART;TZID=America/Chicago:20251030T120000
DTEND;TZID=America/Chicago:20251030T130000
DTSTAMP:20260420T211647
CREATED:20251015T171115Z
LAST-MODIFIED:20251029T210549Z
UID:266774-1761825600-1761829200@hc.edu
SUMMARY:Yoga Class
DESCRIPTION:Noon Yoga Class at the Bradshaw Fitness Center! Find your balance between mind\, body and campus life! Join us for our afternoon rejuvenating yoga class at 12 p.m.\, Tuesdays & Thursdays. Relieve stress\, boost focus and recharge your energy in a calm space. Mats provided! \nFor more information\, email fitnesscenter@HC.edu.
URL:https://hc.edu/news-and-events/event/free-yoga-class-4/
LOCATION:Bradshaw Fitness Center
CATEGORIES:HCU Events
ORGANIZER;CN="Bradshaw Fitness Center":MAILTO:fitnesscenter@HC.edu
END:VEVENT
BEGIN:VEVENT
DTSTART;TZID=America/Chicago:20251030T153000
DTEND;TZID=America/Chicago:20251030T163000
DTSTAMP:20260420T211647
CREATED:20250226T060213Z
LAST-MODIFIED:20251106T060136Z
UID:263773-1761838200-1761841800@hc.edu
SUMMARY:Thursday Convocation
DESCRIPTION:Spanish Convocation with Alex Martinez \nWe are excited to invite Alex Martinez to speak for out final Spanish Convocation of the Fall 2025 semester! Alex is the Pastor of Latino Ministry at Christ the King Presbyterian Church. He will be speaking from Acts 8:1-8 on how the church\, filled by the Holy Spirit despite being persecuted and dispersed\, are able to listen\, obey\, and rejoice in preaching the good news of the gospel. \nFocus will be leading worship in Spanish at this Belin Convocation service.
URL:https://hc.edu/news-and-events/event/thursday-convocation-9/
LOCATION:Belin Chapel and Recital Hall\, United States
CATEGORIES:HCU Events,Spiritual Life
END:VEVENT
BEGIN:VEVENT
DTSTART;TZID=America/Chicago:20251030T183000
DTEND;TZID=America/Chicago:20251030T203000
DTSTAMP:20260420T211647
CREATED:20250416T070214Z
LAST-MODIFIED:20260420T070132Z
UID:264450-1761849000-1761856200@hc.edu
SUMMARY:Women's Soccer at East Texas A&M on 10-30-2025
DESCRIPTION:[W] Houston Christian University Women’s Soccer at East Texas A&MW 2-0Streaming Video: https://www.espn.com/watch/player/_/eventCalendarId/401797115?gameId=749767&sourceLang=en&om-navmethod=espn:globalsearch:results
URL:https://hc.edu/news-and-events/event/womens-soccer-at-east-texas-am-on-10-30-2025/
LOCATION:Commerce\, Texas\, United States
CATEGORIES:Athletics,Women's Soccer
END:VEVENT
BEGIN:VEVENT
DTSTART;TZID=America/Chicago:20251030T183000
DTEND;TZID=America/Chicago:20251030T203000
DTSTAMP:20260420T211647
CREATED:20250510T070204Z
LAST-MODIFIED:20260420T070135Z
UID:264965-1761849000-1761856200@hc.edu
SUMMARY:Women's Volleyball vs East Texas A&M on 10-30-2025
DESCRIPTION:[L] Houston Christian University Women’s Volleyball vs East Texas A&ML 0-3
URL:https://hc.edu/news-and-events/event/womens-volleyball-vs-east-texas-am-on-10-30-2025/
LOCATION:Houston\, Texas\, Sharp Gym\, United States
CATEGORIES:Athletics,Women's Volleyball
END:VEVENT
BEGIN:VEVENT
DTSTART;TZID=America/Chicago:20251030T190000
DTEND;TZID=America/Chicago:20251030T210000
DTSTAMP:20260420T211647
CREATED:20250709T070145Z
LAST-MODIFIED:20260420T070122Z
UID:265558-1761850800-1761858000@hc.edu
SUMMARY:Men's Soccer vs Liberty on 10-30-2025
DESCRIPTION:[T] Houston Christian University Men’s Soccer vs Liberty T 0-0Streaming Video: https://www.espn.com/watch/player/_/id/c26fa65e-1340-46f0-ae04-9f52f91b8739
URL:https://hc.edu/news-and-events/event/mens-soccer-vs-liberty-on-10-30-2025/
LOCATION:Houston\, Texas\, Sorrels Field\, United States
CATEGORIES:Athletics, Soccer
END:VEVENT
BEGIN:VEVENT
DTSTART;TZID=America/Chicago:20251030T190000
DTEND;TZID=America/Chicago:20251030T210000
DTSTAMP:20260420T211647
CREATED:20250915T194559Z
LAST-MODIFIED:20251016T141921Z
UID:266270-1761850800-1761858000@hc.edu
SUMMARY:High School Choral Invitational Concert
DESCRIPTION:Make plans to attend the annual HCU Choral Invitational Concert featuring outstanding high school choirs from the Houston and surrounding areas in addition to HCU’s own Schola Cantorum. The performance will be held in Dunham Theater\, and there is no cost to attend. \nFor more information\, please contact Dr. Klotz at kklotz@hc.edu. \n 
URL:https://hc.edu/news-and-events/event/high-school-choral-invitational-concert-4/
LOCATION:Dunham Theater\, United States
CATEGORIES:Fine Arts,HCU Events
END:VEVENT
END:VCALENDAR