BEGIN:VCALENDAR
VERSION:2.0
PRODID:-//News and Events - ECPv6.15.20//NONSGML v1.0//EN
CALSCALE:GREGORIAN
METHOD:PUBLISH
X-WR-CALNAME:News and Events
X-ORIGINAL-URL:https://hc.edu/news-and-events
X-WR-CALDESC:Events for News and Events
REFRESH-INTERVAL;VALUE=DURATION:PT1H
X-Robots-Tag:noindex
X-PUBLISHED-TTL:PT1H
BEGIN:VTIMEZONE
TZID:America/Chicago
BEGIN:DAYLIGHT
TZOFFSETFROM:-0600
TZOFFSETTO:-0500
TZNAME:CDT
DTSTART:20240310T080000
END:DAYLIGHT
BEGIN:STANDARD
TZOFFSETFROM:-0500
TZOFFSETTO:-0600
TZNAME:CST
DTSTART:20241103T070000
END:STANDARD
BEGIN:DAYLIGHT
TZOFFSETFROM:-0600
TZOFFSETTO:-0500
TZNAME:CDT
DTSTART:20250309T080000
END:DAYLIGHT
BEGIN:STANDARD
TZOFFSETFROM:-0500
TZOFFSETTO:-0600
TZNAME:CST
DTSTART:20251102T070000
END:STANDARD
BEGIN:DAYLIGHT
TZOFFSETFROM:-0600
TZOFFSETTO:-0500
TZNAME:CDT
DTSTART:20260308T080000
END:DAYLIGHT
BEGIN:STANDARD
TZOFFSETFROM:-0500
TZOFFSETTO:-0600
TZNAME:CST
DTSTART:20261101T070000
END:STANDARD
BEGIN:DAYLIGHT
TZOFFSETFROM:-0600
TZOFFSETTO:-0500
TZNAME:CDT
DTSTART:20270314T080000
END:DAYLIGHT
BEGIN:STANDARD
TZOFFSETFROM:-0500
TZOFFSETTO:-0600
TZNAME:CST
DTSTART:20271107T070000
END:STANDARD
END:VTIMEZONE
BEGIN:VEVENT
DTSTART;TZID=America/Chicago:20251118T080000
DTEND;TZID=America/Chicago:20260117T170000
DTSTAMP:20260420T195453
CREATED:20251113T161429Z
LAST-MODIFIED:20251113T161429Z
UID:267396-1763452800-1768669200@hc.edu
SUMMARY:Nativites Around the World Exhibit
DESCRIPTION:HCU’s Museum of American Architecture and Decorative Arts will host a special exhibit\, “Nativities Around the World\,” during the upcoming Christmas season.  \nThis exhibit will feature antique and contemporary nativity sets crafted by international artists.  \nGenerously sponsored by the American Museum Society.
URL:https://hc.edu/news-and-events/event/nativites-around-the-world-exhibit/
LOCATION:Museum of American Architecture and Decorative Arts
END:VEVENT
BEGIN:VEVENT
DTSTART;TZID=America/Chicago:20251123T080000
DTEND;TZID=America/Chicago:20260131T170000
DTSTAMP:20260420T195453
CREATED:20251119T185321Z
LAST-MODIFIED:20251119T185321Z
UID:267573-1763884800-1769878800@hc.edu
SUMMARY:Join the HCU Choir!
DESCRIPTION:Join the HCU Choir next semester! We have two ensembles that meet for rehearsals and perform on campus: Schola Cantorum & University Singers. Singing in the HCU Choir is a wonderful way to meet new friends\, improve your singing technique\, and have a lot of fun along the way! \nFor more information and how to join/register\, please get in touch with the Director of Choral Activities\, Dr. Klotz at kklotz@hc.edu
URL:https://hc.edu/news-and-events/event/join-the-hcu-choir/
LOCATION:Choir Room
CATEGORIES:Fine Arts
END:VEVENT
BEGIN:VEVENT
DTSTART;VALUE=DATE:20251205
DTEND;VALUE=DATE:20251206
DTSTAMP:20260420T195453
CREATED:20250916T131541Z
LAST-MODIFIED:20250916T131541Z
UID:266311-1764892800-1764979199@hc.edu
SUMMARY:Veteran Services End-of-Year Celebration
DESCRIPTION:
URL:https://hc.edu/news-and-events/event/veteran-services-end-of-year-celebration/
CATEGORIES:HCU Events
END:VEVENT
BEGIN:VEVENT
DTSTART;TZID=America/Chicago:20251205T100000
DTEND;TZID=America/Chicago:20251205T120000
DTSTAMP:20260420T195453
CREATED:20250816T070205Z
LAST-MODIFIED:20260420T070128Z
UID:265791-1764928800-1764936000@hc.edu
SUMMARY:Women's Basketball at South Florida on 12-05-2025
DESCRIPTION:[L] Houston Christian University Women’s Basketball at South FloridaL 58-91Streaming Video: https://www.espn.com/watch/player/_/eventCalendarId/401820503?gameId=401820503&sourceLang=en&om-navmethod=espn:globalsearch:results
URL:https://hc.edu/news-and-events/event/womens-basketball-at-south-florida-on-12-05-2025/
LOCATION:Tampa\, Florida
CATEGORIES:Athletics, Women's Basketball
END:VEVENT
BEGIN:VEVENT
DTSTART;TZID=America/Chicago:20251205T193000
DTEND;TZID=America/Chicago:20251205T210000
DTSTAMP:20260420T195453
CREATED:20251119T184135Z
LAST-MODIFIED:20251119T184135Z
UID:267569-1764963000-1764968400@hc.edu
SUMMARY:Christmas at HCU Concert
DESCRIPTION:Please come and hear our HCU Choral Program in collaboration with the Houston Civic Symphony present “Christmas at HCU!” \nThis free concert will be held on Friday\, December 5\, at 7:30 p.m. in Dunham Theater. The program features works by Felix Mendelssohn\, Dan Forrest\, John Rutter\, Randol Alan Bass\, and many other wonderful composers. \nFor more information\, please contact Dr. Klotz at kklotz@hc.edu.
URL:https://hc.edu/news-and-events/event/christmas-at-hcu-concert/
LOCATION:Dunham Theater\, United States
CATEGORIES:Fine Arts
END:VEVENT
END:VCALENDAR