BEGIN:VCALENDAR
VERSION:2.0
PRODID:-//News and Events - ECPv6.15.20//NONSGML v1.0//EN
CALSCALE:GREGORIAN
METHOD:PUBLISH
X-ORIGINAL-URL:https://hc.edu/news-and-events
X-WR-CALDESC:Events for News and Events
REFRESH-INTERVAL;VALUE=DURATION:PT1H
X-Robots-Tag:noindex
X-PUBLISHED-TTL:PT1H
BEGIN:VTIMEZONE
TZID:America/Chicago
BEGIN:DAYLIGHT
TZOFFSETFROM:-0600
TZOFFSETTO:-0500
TZNAME:CDT
DTSTART:20250309T080000
END:DAYLIGHT
BEGIN:STANDARD
TZOFFSETFROM:-0500
TZOFFSETTO:-0600
TZNAME:CST
DTSTART:20251102T070000
END:STANDARD
BEGIN:DAYLIGHT
TZOFFSETFROM:-0600
TZOFFSETTO:-0500
TZNAME:CDT
DTSTART:20260308T080000
END:DAYLIGHT
BEGIN:STANDARD
TZOFFSETFROM:-0500
TZOFFSETTO:-0600
TZNAME:CST
DTSTART:20261101T070000
END:STANDARD
BEGIN:DAYLIGHT
TZOFFSETFROM:-0600
TZOFFSETTO:-0500
TZNAME:CDT
DTSTART:20270314T080000
END:DAYLIGHT
BEGIN:STANDARD
TZOFFSETFROM:-0500
TZOFFSETTO:-0600
TZNAME:CST
DTSTART:20271107T070000
END:STANDARD
END:VTIMEZONE
BEGIN:VEVENT
DTSTART;TZID=America/Chicago:20260301T123000
DTEND;TZID=America/Chicago:20260301T143000
DTSTAMP:20260420T095809
CREATED:20251209T070143Z
LAST-MODIFIED:20260420T070124Z
UID:268326-1772368200-1772375400@hc.edu
SUMMARY:Softball at New Mexico on 03-01-2026
DESCRIPTION:[L] Houston Christian University Softball at New MexicoL 2-3Streaming Video: https://golobos.com/watch
URL:https://hc.edu/news-and-events/event/softball-at-new-mexico-on-03-01-2026/
LOCATION:Albuquerque\, New Mexico\, United States
CATEGORIES:Athletics, Softball
END:VEVENT
BEGIN:VEVENT
DTSTART;TZID=America/Chicago:20260301T140000
DTEND;TZID=America/Chicago:20260301T170000
DTSTAMP:20260420T095809
CREATED:20251113T070126Z
LAST-MODIFIED:20260420T070113Z
UID:267351-1772373600-1772384400@hc.edu
SUMMARY:Baseball vs UIW on 03-01-2026
DESCRIPTION:[W] Houston Christian University Baseball vs UIWW 11-10Tickets: https://vivenu.com/event/baseball-vs-uiw-copy-bp3hfc
URL:https://hc.edu/news-and-events/event/baseball-vs-uiw-on-03-01-2026/
LOCATION:Houston\, Texas\, Husky Field\, United States
CATEGORIES:Athletics, Baseball
END:VEVENT
BEGIN:VEVENT
DTSTART;TZID=America/Chicago:20260302T000000
DTEND;TZID=America/Chicago:20260302T235900
DTSTAMP:20260420T095809
CREATED:20250802T070129Z
LAST-MODIFIED:20260420T070120Z
UID:265683-1772409600-1772495940@hc.edu
SUMMARY:Men's Golf vs Colin Montgomerie Invitational on 03-02-2026
DESCRIPTION:Houston Christian University Men’s Golf vs Colin Montgomerie Invitational
URL:https://hc.edu/news-and-events/event/mens-golf-vs-colin-montgomerie-invitational-on-03-02-2026/
LOCATION:Sugar Land\, Texas / Sweetwater CC
CATEGORIES:Athletics, Golf
END:VEVENT
BEGIN:VEVENT
DTSTART;TZID=America/Chicago:20260302T170000
DTEND;TZID=America/Chicago:20260302T190000
DTSTAMP:20260420T095809
CREATED:20250816T070212Z
LAST-MODIFIED:20260420T070130Z
UID:265813-1772470800-1772478000@hc.edu
SUMMARY:Women's Basketball vs Texas A&M - Corpus Christi on 03-02-2026
DESCRIPTION:[L] Houston Christian University Women’s Basketball vs Texas A&M – Corpus ChristiL 42-46Streaming Video: https://www.espn.com/watch/player/_/eventCalendarId/401820506?gameId=401820506&sourceLang=en&om-navmethod=espn:globalsearch:results
URL:https://hc.edu/news-and-events/event/womens-basketball-vs-texas-am-corpus-christi-on-03-02-2026/
LOCATION:Houston\, Texas\, Sharp Gym\, United States
CATEGORIES:Athletics, Women's Basketball
END:VEVENT
BEGIN:VEVENT
DTSTART;TZID=America/Chicago:20260302T193000
DTEND;TZID=America/Chicago:20260302T213000
DTSTAMP:20260420T095809
CREATED:20250828T070143Z
LAST-MODIFIED:20260420T070119Z
UID:265991-1772479800-1772487000@hc.edu
SUMMARY:Men's Basketball vs Lamar on 03-02-2026
DESCRIPTION:[W] Houston Christian University Men’s Basketball vs Lamar W 75-53Streaming Video: https://www.espn.com/watch/player/_/id/16bf8c40-74ed-4b2f-b3b6-02d2017eeb9c
URL:https://hc.edu/news-and-events/event/mens-basketball-vs-lamar-on-03-02-2026/
LOCATION:Houston\, Sharp Gym\, United States
CATEGORIES:Athletics, Men's Basketball
END:VEVENT
BEGIN:VEVENT
DTSTART;TZID=America/Chicago:20260303T120000
DTEND;TZID=America/Chicago:20260303T130000
DTSTAMP:20260420T095809
CREATED:20260218T162655Z
LAST-MODIFIED:20260218T162655Z
UID:269386-1772539200-1772542800@hc.edu
SUMMARY:Yoga Class
DESCRIPTION:Weekly Yoga Class at the Bradshaw Fitness Center! Find your balance between mind\, body and campus life! Join us for our afternoon rejuvenating yoga class at 12 p.m.\, Tuesdays & Thursdays. Relieve stress\, boost focus and recharge your energy in a calm space. Mats provided! \nFree for students. Staff and Faculty must be a member. \nFor more information\, email fitnesscenter@HC.edu.
URL:https://hc.edu/news-and-events/event/yoga-class-14/
LOCATION:Bradshaw Fitness Center
CATEGORIES:HCU Events
ORGANIZER;CN="Bradshaw Fitness Center":MAILTO:fitnesscenter@HC.edu
END:VEVENT
BEGIN:VEVENT
DTSTART;TZID=America/Chicago:20260303T183000
DTEND;TZID=America/Chicago:20260303T213000
DTSTAMP:20260420T095809
CREATED:20251113T070126Z
LAST-MODIFIED:20260420T070113Z
UID:267352-1772562600-1772573400@hc.edu
SUMMARY:Baseball at #3 Texas on 03-03-2026
DESCRIPTION:[L] Houston Christian University Baseball at #3 TexasL 3-16 (7 inn.)Streaming Video: https://www.espn.com/watch/player/_/eventCalendarId/401847620?gameId=401847620&sourceLang=en&om-navmethod=espn:globalsearch:results
URL:https://hc.edu/news-and-events/event/baseball-at-texas-on-03-03-2026/
LOCATION:Austin\, Texas\, United States
CATEGORIES:Athletics, Baseball
END:VEVENT
BEGIN:VEVENT
DTSTART;TZID=America/Chicago:20260303T190000
DTEND;TZID=America/Chicago:20260303T210000
DTSTAMP:20260420T095809
CREATED:20250819T060208Z
LAST-MODIFIED:20260310T060143Z
UID:265885-1772564400-1772571600@hc.edu
SUMMARY:Campus Outreach Weekly Meetings
DESCRIPTION:
URL:https://hc.edu/news-and-events/event/campus-outreach-weekly-meetings-23/
LOCATION:Cullen Parlor\, United States
CATEGORIES:HCU Events
END:VEVENT
BEGIN:VEVENT
DTSTART;TZID=America/Chicago:20260304T110000
DTEND;TZID=America/Chicago:20260304T115000
DTSTAMP:20260420T095809
CREATED:20250226T060218Z
LAST-MODIFIED:20260311T060124Z
UID:263791-1772622000-1772625000@hc.edu
SUMMARY:Wednesday Convocation
DESCRIPTION:
URL:https://hc.edu/news-and-events/event/wednesday-convocation-32/
LOCATION:Dunham Theater\, United States
CATEGORIES:HCU Events,Spiritual Life
END:VEVENT
BEGIN:VEVENT
DTSTART;TZID=America/Chicago:20260304T110000
DTEND;TZID=America/Chicago:20260304T120000
DTSTAMP:20260420T095809
CREATED:20260302T182730Z
LAST-MODIFIED:20260302T182730Z
UID:269594-1772622000-1772625600@hc.edu
SUMMARY:CONVO: Fully Allive: Habits for Intimacy with Jesus
DESCRIPTION:Led By: Intentional Relationships” with HCU Student Leaders Panel \nA panel of student leaders will explore how God uses intentional\, Christ-centered relationships to shape spiritual maturity. We will consider how believers grow through imitation\, spiritual example and loving discipleship within the body of Christ. Join us as student leaders reflect on pursuing deeper intimacy with Jesus through purposeful community.
URL:https://hc.edu/news-and-events/event/convo-fully-allive-habits-for-intimacy-with-jesus/
LOCATION:Dunham Theater\, United States
CATEGORIES:Community Life and Worship (CLW),HCU Events
END:VEVENT
BEGIN:VEVENT
DTSTART;TZID=America/Chicago:20260305T120000
DTEND;TZID=America/Chicago:20260305T130000
DTSTAMP:20260420T095809
CREATED:20260218T162806Z
LAST-MODIFIED:20260218T162806Z
UID:269388-1772712000-1772715600@hc.edu
SUMMARY:Yoga Class
DESCRIPTION:Weekly Yoga Class at the Bradshaw Fitness Center! Find your balance between mind\, body and campus life! Join us for our afternoon rejuvenating yoga class at 12 p.m.\, Tuesdays & Thursdays. Relieve stress\, boost focus and recharge your energy in a calm space. Mats provided! \nFree for students. Staff and Faculty must be a member. \nFor more information\, email fitnesscenter@HC.edu.
URL:https://hc.edu/news-and-events/event/yoga-class-15/
LOCATION:Bradshaw Fitness Center
CATEGORIES:HCU Events
ORGANIZER;CN="Bradshaw Fitness Center":MAILTO:fitnesscenter@HC.edu
END:VEVENT
BEGIN:VEVENT
DTSTART;TZID=America/Chicago:20260305T153000
DTEND;TZID=America/Chicago:20260305T163000
DTSTAMP:20260420T095809
CREATED:20260302T183015Z
LAST-MODIFIED:20260302T183100Z
UID:269597-1772724600-1772728200@hc.edu
SUMMARY:BELIN CONVO featuring guest speaker Joe Savona
DESCRIPTION:Joe Savona\, a 2022 HCU alumnus and the College Ministry Coordinator at Houston’s First Baptist Church – Downtown Campus\, will speak during Convo. He serves and invests in the lives of college students across Houston to help students know Jesus personally and grow in a faith that remains steady through every season of life.
URL:https://hc.edu/news-and-events/event/belin-convo-featuring-guest-speaker-joe-savona/
LOCATION:Belin Chapel
CATEGORIES:Community Life and Worship (CLW),HCU Events
END:VEVENT
BEGIN:VEVENT
DTSTART;TZID=America/Chicago:20260305T160000
DTEND;TZID=America/Chicago:20260305T180000
DTSTAMP:20260420T095809
CREATED:20251209T070143Z
LAST-MODIFIED:20260420T070124Z
UID:268327-1772726400-1772733600@hc.edu
SUMMARY:Softball vs Northwestern State on 03-05-2026
DESCRIPTION:[L] Houston Christian University Softball vs Northwestern State L 1-7Streaming Video: https://www.espn.com/watch/player/_/id/0a2aae49-2831-49e2-ba72-d7bdc42afa52
URL:https://hc.edu/news-and-events/event/softball-vs-northwestern-state-on-03-06-2026/
LOCATION:Houston\, Texas\, Husky Field\, United States
CATEGORIES:Athletics, Softball
END:VEVENT
BEGIN:VEVENT
DTSTART;TZID=America/Chicago:20260305T180000
DTEND;TZID=America/Chicago:20260305T200000
DTSTAMP:20260420T095809
CREATED:20251209T070144Z
LAST-MODIFIED:20260420T070124Z
UID:268328-1772733600-1772740800@hc.edu
SUMMARY:Softball vs Northwestern State on 03-05-2026
DESCRIPTION:[L] Houston Christian University Softball vs Northwestern State L 6-11Streaming Video: https://www.espn.com/watch/player/_/id/feeea1a9-b873-4312-aef5-16f129f22ef4
URL:https://hc.edu/news-and-events/event/softball-vs-northwestern-state-on-03-06-2026-2/
LOCATION:Houston\, Texas\, Husky Field\, United States
CATEGORIES:Athletics, Softball
END:VEVENT
BEGIN:VEVENT
DTSTART;TZID=America/Chicago:20260306T110000
DTEND;TZID=America/Chicago:20260306T130000
DTSTAMP:20260420T095809
CREATED:20251216T070157Z
LAST-MODIFIED:20260420T070137Z
UID:268433-1772794800-1772802000@hc.edu
SUMMARY:Beach Volleyball at #6 TCU on 03-06-2026
DESCRIPTION:[L] Houston Christian University Beach Volleyball at #6 TCUL 0-5
URL:https://hc.edu/news-and-events/event/beach-volleyball-at-tcu-invitational-on-03-06-2026/
LOCATION:Fort Worth\, Texas\, United States
CATEGORIES:Athletics, Women's Beach Volleyball
END:VEVENT
BEGIN:VEVENT
DTSTART;TZID=America/Chicago:20260306T120000
DTEND;TZID=America/Chicago:20260306T140000
DTSTAMP:20260420T095809
CREATED:20251209T070144Z
LAST-MODIFIED:20260420T070124Z
UID:268329-1772798400-1772805600@hc.edu
SUMMARY:Softball vs Northwestern State on 03-06-2026
DESCRIPTION:[W] Houston Christian University Softball vs Northwestern State W 3-2Streaming Video: https://www.espn.com/watch/player/_/id/54482266-53ea-4315-9e8d-419c27975376
URL:https://hc.edu/news-and-events/event/softball-vs-northwestern-state-on-03-07-2026/
LOCATION:Houston\, Texas\, Husky Field\, United States
CATEGORIES:Athletics, Softball
END:VEVENT
BEGIN:VEVENT
DTSTART;TZID=America/Chicago:20260306T130000
DTEND;TZID=America/Chicago:20260306T150000
DTSTAMP:20260420T095809
CREATED:20260129T070145Z
LAST-MODIFIED:20260420T070137Z
UID:268821-1772802000-1772809200@hc.edu
SUMMARY:Beach Volleyball vs Texas A&M - Corpus Christi on 03-06-2026
DESCRIPTION:[L] Houston Christian University Beach Volleyball vs Texas A&M – Corpus ChristiL 0-5
URL:https://hc.edu/news-and-events/event/beach-volleyball-vs-texas-am-corpus-christi-on-03-06-2026/
LOCATION:Fort Worth\, Texas\, United States
CATEGORIES:Athletics, Women's Beach Volleyball
END:VEVENT
BEGIN:VEVENT
DTSTART;TZID=America/Chicago:20260306T140000
DTEND;TZID=America/Chicago:20260306T170000
DTSTAMP:20260420T095809
CREATED:20251113T070127Z
LAST-MODIFIED:20260420T070113Z
UID:267355-1772805600-1772816400@hc.edu
SUMMARY:Baseball at McNeese on 03-06-2026
DESCRIPTION:[W] Houston Christian University Baseball at McNeeseW 3-1Streaming Video: https://www.espn.com/watch/player/_/id/8558c28f-68d8-4ef2-a4b7-6ba54fad2f29?om-navmethod=espn:globalsearch:results
URL:https://hc.edu/news-and-events/event/baseball-at-mcneese-on-03-08-2026/
LOCATION:Lake Charles\, Louisiana\, United States
CATEGORIES:Athletics, Baseball
END:VEVENT
BEGIN:VEVENT
DTSTART;TZID=America/Chicago:20260306T170000
DTEND;TZID=America/Chicago:20260306T190000
DTSTAMP:20260420T095809
CREATED:20260129T070145Z
LAST-MODIFIED:20260420T070137Z
UID:268822-1772816400-1772823600@hc.edu
SUMMARY:Beach Volleyball vs Florida Gulf Coast on 03-06-2026
DESCRIPTION:[L] Houston Christian University Beach Volleyball vs Florida Gulf CoastL 0-5
URL:https://hc.edu/news-and-events/event/beach-volleyball-vs-florida-gulf-coast-on-03-07-2026/
LOCATION:Fort Worth\, Texas\, United States
CATEGORIES:Athletics, Women's Beach Volleyball
END:VEVENT
BEGIN:VEVENT
DTSTART;TZID=America/Chicago:20260306T180000
DTEND;TZID=America/Chicago:20260306T210000
DTSTAMP:20260420T095809
CREATED:20251113T070126Z
LAST-MODIFIED:20260420T070113Z
UID:267353-1772820000-1772830800@hc.edu
SUMMARY:Baseball at McNeese on 03-06-2026
DESCRIPTION:[L] Houston Christian University Baseball at McNeeseL 2-4Streaming Video: https://www.espn.com/watch/player/_/id/f1cd0564-9205-4aae-9d3e-a80a5c89024d?om-navmethod=espn:globalsearch:results
URL:https://hc.edu/news-and-events/event/baseball-at-mcneese-on-03-06-2026/
LOCATION:Lake Charles\, Louisiana\, United States
CATEGORIES:Athletics, Baseball
END:VEVENT
BEGIN:VEVENT
DTSTART;TZID=America/Chicago:20260306T183000
DTEND;TZID=America/Chicago:20260306T220000
DTSTAMP:20260420T095809
CREATED:20250709T060209Z
LAST-MODIFIED:20260313T060136Z
UID:265536-1772821800-1772834400@hc.edu
SUMMARY:Houston Civic Symphony Concerts
DESCRIPTION:
URL:https://hc.edu/news-and-events/event/houston-civic-symphony-concerts-6/
LOCATION:McNair\, United States
CATEGORIES:HCU Events
END:VEVENT
BEGIN:VEVENT
DTSTART;TZID=America/Chicago:20260306T193000
DTEND;TZID=America/Chicago:20260306T210000
DTSTAMP:20260420T095809
CREATED:20250611T060217Z
LAST-MODIFIED:20260313T060136Z
UID:265379-1772825400-1772830800@hc.edu
SUMMARY:Houston Civic Symphony Concerts
DESCRIPTION:
URL:https://hc.edu/news-and-events/event/houston-civic-symphony-concerts-3/
LOCATION:Dunham Theater\, United States
CATEGORIES:HCU Events
END:VEVENT
BEGIN:VEVENT
DTSTART;TZID=America/Chicago:20260307T130000
DTEND;TZID=America/Chicago:20260307T160000
DTSTAMP:20260420T095809
CREATED:20251113T070126Z
LAST-MODIFIED:20260420T070113Z
UID:267354-1772888400-1772899200@hc.edu
SUMMARY:Baseball at McNeese on 03-07-2026
DESCRIPTION:[W] Houston Christian University Baseball at McNeeseW 12-4Streaming Video: https://www.espn.com/watch/player/_/id/b5263d82-d854-48f8-b0ee-9c5bee37441d?om-navmethod=espn:globalsearch:results
URL:https://hc.edu/news-and-events/event/baseball-at-mcneese-on-03-07-2026/
LOCATION:Lake Charles\, Louisiana\, United States
CATEGORIES:Athletics, Baseball
END:VEVENT
BEGIN:VEVENT
DTSTART;TZID=America/Chicago:20260307T150000
DTEND;TZID=America/Chicago:20260307T170000
DTSTAMP:20260420T095809
CREATED:20260129T070145Z
LAST-MODIFIED:20260302T070146Z
UID:268823-1772895600-1772902800@hc.edu
SUMMARY:Beach Volleyball vs Texas A&M - Corpus Christi on 03-07-2026
DESCRIPTION:Houston Christian University Beach Volleyball vs Texas A&M – Corpus Christi
URL:https://hc.edu/news-and-events/event/beach-volleyball-vs-texas-am-corpus-christi-on-03-07-2026/
LOCATION:Fort Worth\, Texas\, United States
CATEGORIES:Athletics, Women's Beach Volleyball
END:VEVENT
BEGIN:VEVENT
DTSTART;VALUE=DATE:20260308
DTEND;VALUE=DATE:20260309
DTSTAMP:20260420T095809
CREATED:20260305T164456Z
LAST-MODIFIED:20260305T164456Z
UID:269622-1772928000-1773014399@hc.edu
SUMMARY:HCU Men's Basketball in the Southland Conference Tournament
DESCRIPTION:Your HCU Men’s Basketball team begins play in the Southland Conference Tournament this Sunday\, Mar. 8\, against the New Orleans Privateers in Lake Charles\, La! \nTickets to the game are available to purchase now! All students get free admission by showing their current Student ID! \nMake the short drive to Lake Charles and support your Huskies!
URL:https://hc.edu/news-and-events/event/hcu-mens-basketball-in-the-southland-conference-tournament/
LOCATION:Lake Charles\, Louisiana\, United States
CATEGORIES:Athletics, Men's Basketball
END:VEVENT
BEGIN:VEVENT
DTSTART;TZID=America/Chicago:20260308T170000
DTEND;TZID=America/Chicago:20260308T190000
DTSTAMP:20260420T095809
CREATED:20250828T070144Z
LAST-MODIFIED:20260420T070119Z
UID:265992-1772989200-1772996400@hc.edu
SUMMARY:Men's Basketball vs New Orleans on 03-08-2026
DESCRIPTION:[L] Houston Christian University Men’s Basketball vs New OrleansL 60-73Streaming Video: https://www.espn.com/watch/player/_/id/93d32c3a-9926-4c99-b875-c860065ef6a5Tickets: https://securelb.imodules.com/s/1761/gid2/index.aspx?sid=1761&gid=2&pgid=3477&cid=6143
URL:https://hc.edu/news-and-events/event/mens-basketball-vs-southland-conference-tournament-on-03-08-2026/
LOCATION:Lake Charles\, LA\, United States
CATEGORIES:Athletics, Men's Basketball
END:VEVENT
BEGIN:VEVENT
DTSTART;TZID=America/Chicago:20260309T000000
DTEND;TZID=America/Chicago:20260309T235900
DTSTAMP:20260420T095809
CREATED:20250815T070227Z
LAST-MODIFIED:20260420T070130Z
UID:265764-1773014400-1773100740@hc.edu
SUMMARY:Women's Golf at Riverbend Intercollegiate on 03-09-2026
DESCRIPTION:[N] Houston Christian University Women’s Golf at Riverbend Intercollegiate
URL:https://hc.edu/news-and-events/event/womens-golf-at-riverbend-intercollegiate-on-03-09-2026/
LOCATION:Sugar Land\, Texas / Riverbend CC
CATEGORIES:Athletics, Women's Gold
END:VEVENT
BEGIN:VEVENT
DTSTART;TZID=America/Chicago:20260309T000000
DTEND;TZID=America/Chicago:20260311T235900
DTSTAMP:20260420T095809
CREATED:20250816T070212Z
LAST-MODIFIED:20260303T070135Z
UID:265814-1773014400-1773273540@hc.edu
SUMMARY:Women's Basketball at Southland Conference Tournament on 03-09-2026
DESCRIPTION:Houston Christian University Women’s Basketball at Southland Conference Tournament
URL:https://hc.edu/news-and-events/event/womens-basketball-at-southland-conference-tournament-on-03-09-2026/
LOCATION:Lake Charles\, Louisiana\, United States
CATEGORIES:Athletics, Women's Basketball
END:VEVENT
BEGIN:VEVENT
DTSTART;TZID=America/Chicago:20260310T120000
DTEND;TZID=America/Chicago:20260310T130000
DTSTAMP:20260420T095809
CREATED:20260218T162903Z
LAST-MODIFIED:20260218T162903Z
UID:269390-1773144000-1773147600@hc.edu
SUMMARY:Yoga Class
DESCRIPTION:Weekly Yoga Class at the Bradshaw Fitness Center! Find your balance between mind\, body and campus life! Join us for our afternoon rejuvenating yoga class at 12 p.m.\, Tuesdays & Thursdays. Relieve stress\, boost focus and recharge your energy in a calm space. Mats provided! \nFree for students. Staff and Faculty must be a member. \nFor more information\, email fitnesscenter@HC.edu.
URL:https://hc.edu/news-and-events/event/yoga-class-16/
LOCATION:Bradshaw Fitness Center
CATEGORIES:HCU Events
ORGANIZER;CN="Bradshaw Fitness Center":MAILTO:fitnesscenter@HC.edu
END:VEVENT
BEGIN:VEVENT
DTSTART;TZID=America/Chicago:20260312T120000
DTEND;TZID=America/Chicago:20260312T130000
DTSTAMP:20260420T095809
CREATED:20260218T163017Z
LAST-MODIFIED:20260218T163017Z
UID:269392-1773316800-1773320400@hc.edu
SUMMARY:Yoga Class
DESCRIPTION:Weekly Yoga Class at the Bradshaw Fitness Center! Find your balance between mind\, body and campus life! Join us for our afternoon rejuvenating yoga class at 12 p.m.\, Tuesdays & Thursdays. Relieve stress\, boost focus and recharge your energy in a calm space. Mats provided! \nFree for students. Staff and Faculty must be a member. \nFor more information\, email fitnesscenter@HC.edu.
URL:https://hc.edu/news-and-events/event/yoga-class-17/
LOCATION:Bradshaw Fitness Center
CATEGORIES:HCU Events
ORGANIZER;CN="Bradshaw Fitness Center":MAILTO:fitnesscenter@HC.edu
END:VEVENT
END:VCALENDAR