{"text_format":"1","workbook":"xlsx","n_sheets":5,"sheets":["33 RoP","33","Sheet3","30","Non-33 TT"],"not_rendered":{"charts":0,"images":0,"macros":1,"external_links":0,"defined_names":4,"comments":0,"pivot_tables":0},"unopened":[],"bounds":{"document_bytes":16777216,"sheet_cells":100000,"rows_first":2000,"rows_last":500,"rows_between":2000,"halvings":0,"cell_chars":16384,"cell_head_chars":4096},"cells_cut":0,"cells_raw":0,"read":"whole","date_system":"1900"}

{"sheet":"33 RoP","index":0,"n_rows":46,"n_cols":10,"rows_kept":46,"cut":false,"hidden":false,"merged":[[4,2,4,3],[4,4,4,5]]}
[]
[]
[]
[]
[null,null,"       TERM       ",null,"    HOLIDAY    "]
[]
[]
[null,null,"Start","End","Start","End","Term Type","Training Level","Hours","Grad FT Rate"]
[]
[null,"*1","2022-05-23","2022-08-08",null,null,"Non-Standard Semester","Undergrad",6]
[null,2]
[null,3]
[null,4]
[null,5]
[null,6]
[null,7]
[null,8]
[null,9]
[null,10]
[null,null,"*Important* The earliest term start date must be listed on line 1 above."]
[null,null,null,null,null,null,null,null,"Starting:"," The R of P is:"]
[]
[]
[]
[]
[null,null,null,null,null,null,null,null,{"$f":"'33'!F21","v":"2022-05-23"},{"$f":"'33'!G21","v":0.81820000000000004}]
[null,null,null,null,null,null,null,null,{"$f":"'33'!F22","v":"2022-08-09"},{"$f":"IF(AND('33'!G21=0,'33'!G22=0),\"\",'33'!G22)","v":0}]
[null,null,null,null,null,null,null,null,{"$f":"'33'!F23","v":"00:00:00"},{"$f":"IF(AND('33'!G22=0,'33'!G23=0),\"\",'33'!G23)","v":""}]
[null,null,null,null,null,null,null,null,{"$f":"'33'!F24","v":"00:00:00"},{"$f":"IF(AND('33'!G23=0,'33'!G24=0),\"\",'33'!G24)","v":""}]
[null,null,null,null,null,null,null,null,{"$f":"'33'!F25","v":"00:00:00"},{"$f":"IF(AND('33'!G24=0,'33'!G25=0),\"\",'33'!G25)","v":""}]
[null,null,null,null,null,null,null,null,{"$f":"'33'!F26","v":"00:00:00"},{"$f":"IF(AND('33'!G25=0,'33'!G26=0),\"\",'33'!G26)","v":""}]
[null,null,null,null,null,null,null,null,{"$f":"'33'!F27","v":"00:00:00"},{"$f":"IF(AND('33'!G26=0,'33'!G27=0),\"\",'33'!G27)","v":""}]
[null,null,null,null,null,null,null,null,{"$f":"'33'!F28","v":"00:00:00"},{"$f":"IF(AND('33'!G27=0,'33'!G28=0),\"\",'33'!G28)","v":""}]
[null,null,null,null,null,null,null,null,{"$f":"'33'!F29","v":"00:00:00"},{"$f":"IF(AND('33'!G28=0,'33'!G29=0),\"\",'33'!G29)","v":""}]
[null,null,null,null,null,null,null,null,{"$f":"'33'!F30","v":"00:00:00"},{"$f":"IF(AND('33'!G29=0,'33'!G30=0),\"\",'33'!G30)","v":""}]
[null,null,null,null,null,null,null,null,{"$f":"'33'!F31","v":"00:00:00"},{"$f":"IF(AND('33'!G30=0,'33'!G31=0),\"\",'33'!G31)","v":""}]
[null,null,null,null,null,null,null,null,{"$f":"'33'!F32","v":"00:00:00"},{"$f":"IF(AND('33'!G31=0,'33'!G32=0),\"\",'33'!G32)","v":""}]
[null,null,null,null,null,null,null,null,{"$f":"'33'!F33","v":"00:00:00"},{"$f":"IF(AND('33'!G32=0,'33'!G33=0),\"\",'33'!G33)","v":""}]
[null,null,null,null,null,null,null,null,{"$f":"'33'!F34","v":"00:00:00"},{"$f":"IF(AND('33'!G33=0,'33'!G34=0),\"\",'33'!G34)","v":""}]
[null,null,null,null,null,null,null,null,{"$f":"'33'!F35","v":"00:00:00"},{"$f":"IF(AND('33'!G34=0,'33'!G35=0),\"\",'33'!G35)","v":""}]
[null,null,null,null,null,null,null,null,{"$f":"'33'!F36","v":"00:00:00"},{"$f":"IF(AND('33'!G35=0,'33'!G36=0),\"\",'33'!G36)","v":""}]
[null,null,null,null,null,null,null,null,{"$f":"'33'!F37","v":"00:00:00"},{"$f":"IF(AND('33'!G36=0,'33'!G37=0),\"\",'33'!G37)","v":""}]
[null,null,null,null,null,null,null,null,{"$f":"'33'!F38","v":"00:00:00"},{"$f":"IF(AND('33'!G37=0,'33'!G38=0),\"\",'33'!G38)","v":""}]
[null,null,null,null,null,null,null,null,{"$f":"'33'!F39","v":"00:00:00"},{"$f":"IF(AND('33'!G38=0,'33'!G39=0),\"\",'33'!G39)","v":""}]
[null,null,null,null,null,null,null,null,{"$f":"'33'!F40","v":"00:00:00"},{"$f":"IF(AND('33'!G39=0,'33'!G40=0),\"\",'33'!G40)","v":""}]
[null,null,null,null,null,null,null,null,{"$f":"'33'!F41","v":"00:00:00"},{"$f":"IF(AND('33'!G40=0,'33'!G41=0),\"\",'33'!G41)","v":""}]

{"sheet":"33","index":1,"n_rows":415,"n_cols":19,"rows_kept":415,"cut":false,"hidden":true,"merged":[]}
[]
[]
[]
[]
[]
[null,null,"Term","Start","End","St Corr","End Corr","#Days","Start B","End B","Cor # Days","Weeks","Term Type","Trng Type","Hours","Grad FT","RoP St","Rop Non","RoP"]
[null,null,1,{"$f":"'33 RoP'!C10","v":"2022-05-23"},{"$f":"'33 RoP'!D10","v":"2022-08-08"},{"$f":"IF(DAY(D7)=31, D7+1,D7)","v":"2022-05-23"},{"$f":"IF(DAY(E7)=31, E7-1,E7)","v":"2022-08-08"},{"$f":"DAYS360(F7-1,G7,)","v":76},{"$f":"'33 RoP'!E10","v":"00:00:00"},{"$f":"'33 RoP'!F10","v":"00:00:00"},{"$f":"IF(AND(I7>D7,J7<E7,J7-I7>6),H7-(J7-I7),H7)","v":76},{"$f":"ROUND(K7/7,0)","v":11},{"$f":"'33 RoP'!G10","v":"Non-Standard Semester"},{"$f":"'33 RoP'!H10","v":"Undergrad"},{"$f":"'33 RoP'!I10","v":6},{"$f":"'33 RoP'!J10","v":0},{"$f":"IF(OR(N7=\"Undergrad\",N7=\"NCD\"),O7/12,O7/P7)","v":0.5},{"$f":"IF(M7=\"Non-Standard Semester\",IF(OR(N7=\"Undergrad\",N7=\"NCD\"),O7*18/L7/12,O7/P7),IF(OR(N7=\"Undergrad\",N7=\"NCD\"),O7*12/L7/12,O7/P7))","v":0.81818181818181823},{"$f":"ROUND(IF(OR(M7=\"Semester\",K24=\"Qtr\"),Q7,R7),4)","v":0.81820000000000004}]
[null,null,2,{"$f":"'33 RoP'!C11","v":"00:00:00"},{"$f":"'33 RoP'!D11","v":"00:00:00"},{"$f":"IF(DAY(D8)=31, D8+1,D8)","v":"00:00:00"},{"$f":"IF(DAY(E8)=31, E8-1,E8)","v":"00:00:00"},{"$f":"DAYS360(F8-1,G8,)","v":{"$error":"#NUM!"}},{"$f":"'33 RoP'!E11","v":"00:00:00"},{"$f":"'33 RoP'!F11","v":"00:00:00"},{"$f":"IF(AND(I8>D8,J8<E8,J8-I8>6),H8-(J8-I8),H8)","v":{"$error":"#NUM!"}},{"$f":"ROUND(K8/7,0)","v":{"$error":"#NUM!"}},{"$f":"'33 RoP'!G11","v":0},{"$f":"'33 RoP'!H11","v":0},{"$f":"'33 RoP'!I11","v":0},{"$f":"'33 RoP'!J11","v":0},{"$f":"IF(OR(N8=\"Undergrad\",N8=\"NCD\"),O8/12,O8/P8)","v":{"$error":"#DIV/0!"}},{"$f":"IF(M8=\"Non-Standard Semester\",IF(OR(N8=\"Undergrad\",N8=\"NCD\"),O8*18/L8/12,O8/P8),IF(OR(N8=\"Undergrad\",N8=\"NCD\"),O8*12/L8/12,O8/P8))","v":{"$error":"#DIV/0!"}},{"$error":"#DIV/0!"}]
[null,null,3,{"$f":"'33 RoP'!C12","v":"00:00:00"},{"$f":"'33 RoP'!D12","v":"00:00:00"},"00:00:00","00:00:00",{"$error":"#NUM!"},{"$f":"'33 RoP'!E12","v":"00:00:00"},{"$f":"'33 RoP'!F12","v":"00:00:00"},{"$error":"#NUM!"},{"$error":"#NUM!"},{"$f":"'33 RoP'!G12","v":0},{"$f":"'33 RoP'!H12","v":0},{"$f":"'33 RoP'!I12","v":0},{"$f":"'33 RoP'!J12","v":0},{"$f":"IF(OR(N9=\"Undergrad\",N9=\"NCD\"),O9/12,O9/P9)","v":{"$error":"#DIV/0!"}},{"$f":"IF(M9=\"Non-Standard Semester\",IF(OR(N9=\"Undergrad\",N9=\"NCD\"),O9*18/L9/12,O9/P9),IF(OR(N9=\"Undergrad\",N9=\"NCD\"),O9*12/L9/12,O9/P9))","v":{"$error":"#DIV/0!"}},{"$error":"#DIV/0!"}]
[null,null,4,{"$f":"'33 RoP'!C13","v":"00:00:00"},{"$f":"'33 RoP'!D13","v":"00:00:00"},"00:00:00","00:00:00",{"$error":"#NUM!"},{"$f":"'33 RoP'!E13","v":"00:00:00"},{"$f":"'33 RoP'!F13","v":"00:00:00"},{"$error":"#NUM!"},{"$error":"#NUM!"},{"$f":"'33 RoP'!G13","v":0},{"$f":"'33 RoP'!H13","v":0},{"$f":"'33 RoP'!I13","v":0},{"$f":"'33 RoP'!J13","v":0},{"$error":"#DIV/0!"},{"$error":"#DIV/0!"},{"$error":"#DIV/0!"}]
[null,null,5,{"$f":"'33 RoP'!C14","v":"00:00:00"},{"$f":"'33 RoP'!D14","v":"00:00:00"},"00:00:00","00:00:00",{"$error":"#NUM!"},{"$f":"'33 RoP'!E14","v":"00:00:00"},{"$f":"'33 RoP'!F14","v":"00:00:00"},{"$error":"#NUM!"},{"$error":"#NUM!"},{"$f":"'33 RoP'!G14","v":0},{"$f":"'33 RoP'!H14","v":0},{"$f":"'33 RoP'!I14","v":0},{"$f":"'33 RoP'!J14","v":0},{"$error":"#DIV/0!"},{"$error":"#DIV/0!"},{"$error":"#DIV/0!"}]
[null,null,6,{"$f":"'33 RoP'!C15","v":"00:00:00"},{"$f":"'33 RoP'!D15","v":"00:00:00"},"00:00:00","00:00:00",{"$error":"#NUM!"},{"$f":"'33 RoP'!E15","v":"00:00:00"},{"$f":"'33 RoP'!F15","v":"00:00:00"},{"$error":"#NUM!"},{"$error":"#NUM!"},{"$f":"'33 RoP'!G15","v":0},{"$f":"'33 RoP'!H15","v":0},{"$f":"'33 RoP'!I15","v":0},{"$f":"'33 RoP'!J15","v":0},{"$error":"#DIV/0!"},{"$error":"#DIV/0!"},{"$error":"#DIV/0!"}]
[null,null,7,{"$f":"'33 RoP'!C16","v":"00:00:00"},{"$f":"'33 RoP'!D16","v":"00:00:00"},"00:00:00","00:00:00",{"$error":"#NUM!"},{"$f":"'33 RoP'!E16","v":"00:00:00"},{"$f":"'33 RoP'!F16","v":"00:00:00"},{"$error":"#NUM!"},{"$error":"#NUM!"},{"$f":"'33 RoP'!G16","v":0},{"$f":"'33 RoP'!H16","v":0},{"$f":"'33 RoP'!I16","v":0},{"$f":"'33 RoP'!J16","v":0},{"$error":"#DIV/0!"},{"$error":"#DIV/0!"},{"$error":"#DIV/0!"}]
[null,null,8,{"$f":"'33 RoP'!C17","v":"00:00:00"},{"$f":"'33 RoP'!D17","v":"00:00:00"},"00:00:00","00:00:00",{"$error":"#NUM!"},{"$f":"'33 RoP'!E17","v":"00:00:00"},{"$f":"'33 RoP'!F17","v":"00:00:00"},{"$error":"#NUM!"},{"$error":"#NUM!"},{"$f":"'33 RoP'!G17","v":0},{"$f":"'33 RoP'!H17","v":0},{"$f":"'33 RoP'!I17","v":0},{"$f":"'33 RoP'!J17","v":0},{"$error":"#DIV/0!"},{"$error":"#DIV/0!"},{"$error":"#DIV/0!"}]
[null,null,9,{"$f":"'33 RoP'!C18","v":"00:00:00"},{"$f":"'33 RoP'!D18","v":"00:00:00"},"00:00:00","00:00:00",{"$error":"#NUM!"},{"$f":"'33 RoP'!E18","v":"00:00:00"},{"$f":"'33 RoP'!F18","v":"00:00:00"},{"$error":"#NUM!"},{"$error":"#NUM!"},{"$f":"'33 RoP'!G18","v":0},{"$f":"'33 RoP'!H18","v":0},{"$f":"'33 RoP'!I18","v":0},{"$f":"'33 RoP'!J18","v":0},{"$error":"#DIV/0!"},{"$error":"#DIV/0!"},{"$error":"#DIV/0!"}]
[null,null,10,{"$f":"'33 RoP'!C19","v":"00:00:00"},{"$f":"'33 RoP'!D19","v":"00:00:00"},"00:00:00","00:00:00",{"$error":"#NUM!"},{"$f":"'33 RoP'!E19","v":"00:00:00"},{"$f":"'33 RoP'!F19","v":"00:00:00"},{"$error":"#NUM!"},{"$error":"#NUM!"},{"$f":"'33 RoP'!G19","v":0},{"$f":"'33 RoP'!H19","v":0},{"$f":"'33 RoP'!I19","v":0},{"$f":"'33 RoP'!J19","v":0},{"$error":"#DIV/0!"},{"$error":"#DIV/0!"},{"$error":"#DIV/0!"}]
[]
[]
[]
[null,null,null,"# of Days","Date of Change",null,"Rate of Pursuit",null,"Last Chg #",null,{"$f":"J8-I8","v":0}]
[null,null,0,0,{"$f":"D50","v":"2022-05-23"},{"$f":"IF(C21<=I21,E21,)","v":"2022-05-23"},{"$f":"P50","v":0.81820000000000004},null,{"$f":"LARGE(R50:R415,1)","v":1}]
[null,null,1,{"$f":"COUNTIF(R50:R415,\"=0\")-1","v":75},{"$f":"OFFSET(D50,D22,0)","v":"2022-08-09"},{"$f":"IF(C22<=I21,E22,)","v":"2022-08-09"},{"$f":"OFFSET(P50,D22,0)","v":0}]
[null,null,2,{"$f":"COUNTIF(R50:R415,\"=1\")","v":290},{"$f":"OFFSET(D50,SUM(D22:D23),0)","v":"2023-06-04"},{"$f":"IF(C23<=I21,E23,)","v":"00:00:00"},{"$f":"OFFSET(P50,SUM(D22:D23),0)","v":0}]
[null,null,3,{"$f":"COUNTIF(R50:R415,\"=2\")","v":0},{"$f":"OFFSET(D50,SUM(D22:D24),0)","v":"2023-06-04"},{"$f":"IF(C24<=I21,E24,)","v":"00:00:00"},{"$f":"OFFSET(P50,SUM(D22:D24),0)","v":0}]
[null,null,4,{"$f":"COUNTIF(R50:R415,\"=3\")","v":0},{"$f":"OFFSET(D50,SUM(D22:D25),0)","v":"2023-06-04"},{"$f":"IF(C25<=I21,E25,)","v":"00:00:00"},{"$f":"OFFSET(P50,SUM(D22:D25),0)","v":0}]
[null,null,5,{"$f":"COUNTIF(R50:R415,\"=4\")","v":0},{"$f":"OFFSET(D50,SUM(D22:D26),0)","v":"2023-06-04"},{"$f":"IF(C26<=I21,E26,)","v":"00:00:00"},{"$f":"OFFSET(P50,SUM(D22:D26),0)","v":0}]
[null,null,6,{"$f":"COUNTIF(R50:R415,\"=5\")","v":0},{"$f":"OFFSET(D50,SUM(D22:D27),0)","v":"2023-06-04"},{"$f":"IF(C27<=I21,E27,)","v":"00:00:00"},{"$f":"OFFSET(P50,SUM(D22:D27),0)","v":0}]
[null,null,7,{"$f":"COUNTIF(R50:R415,\"=6\")","v":0},{"$f":"OFFSET(D50,SUM(D22:D28),0)","v":"2023-06-04"},{"$f":"IF(C28<=I21,E28,)","v":"00:00:00"},{"$f":"OFFSET(P50,SUM(D22:D28),0)","v":0}]
[null,null,8,{"$f":"COUNTIF(R50:R415,\"=7\")","v":0},{"$f":"OFFSET(D50,SUM(D22:D29),0)","v":"2023-06-04"},{"$f":"IF(C29<=I21,E29,)","v":"00:00:00"},{"$f":"OFFSET(P50,SUM(D22:D29),0)","v":0}]
[null,null,9,{"$f":"COUNTIF(R50:R415,\"=8\")","v":0},{"$f":"OFFSET(D50,SUM(D22:D30),0)","v":"2023-06-04"},{"$f":"IF(C30<=I21,E30,)","v":"00:00:00"},{"$f":"OFFSET(P50,SUM(D22:D30),0)","v":0}]
[null,null,10,{"$f":"COUNTIF(R50:R415,\"=9\")","v":0},{"$f":"OFFSET(D50,SUM(D22:D31),0)","v":"2023-06-04"},{"$f":"IF(C31<=I21,E31,)","v":"00:00:00"},{"$f":"OFFSET(P50,SUM(D22:D31),0)","v":0}]
[null,null,11,{"$f":"COUNTIF(R50:R415,\"=10\")","v":0},{"$f":"OFFSET(D50,SUM(D22:D32),0)","v":"2023-06-04"},{"$f":"IF(C32<=I21,E32,)","v":"00:00:00"},{"$f":"OFFSET(P50,SUM(D22:D32),0)","v":0}]
[null,null,12,{"$f":"COUNTIF(R50:R415,\"=11\")","v":0},{"$f":"OFFSET(D50,SUM(D22:D33),0)","v":"2023-06-04"},{"$f":"IF(C33<=I21,E33,)","v":"00:00:00"},{"$f":"OFFSET(P50,SUM(D22:D33),0)","v":0}]
[null,null,13,{"$f":"COUNTIF(R50:R415,\"=12\")","v":0},{"$f":"OFFSET(D50,SUM(D22:D34),0)","v":"2023-06-04"},{"$f":"IF(C34<=I21,E34,)","v":"00:00:00"},{"$f":"OFFSET(P50,SUM(D22:D34),0)","v":0}]
[null,null,14,{"$f":"COUNTIF(R50:R415,\"=13\")","v":0},{"$f":"OFFSET(D50,SUM(D22:D35),0)","v":"2023-06-04"},{"$f":"IF(C35<=I21,E35,)","v":"00:00:00"},{"$f":"OFFSET(P50,SUM(D22:D35),0)","v":0}]
[null,null,15,{"$f":"COUNTIF(R50:R415,\"=14\")","v":0},{"$f":"OFFSET(D50,SUM(D22:D36),0)","v":"2023-06-04"},{"$f":"IF(C36<=I21,E36,)","v":"00:00:00"},{"$f":"OFFSET(P50,SUM(D22:D36),0)","v":0}]
[null,null,16,{"$f":"COUNTIF(R50:R415,\"=15\")","v":0},{"$f":"OFFSET(D50,SUM(D22:D37),0)","v":"2023-06-04"},{"$f":"IF(C37<=I21,E37,)","v":"00:00:00"},{"$f":"OFFSET(P50,SUM(D22:D37),0)","v":0}]
[null,null,17,{"$f":"COUNTIF(R50:R415,\"=16\")","v":0},{"$f":"OFFSET(D50,SUM(D22:D38),0)","v":"2023-06-04"},{"$f":"IF(C38<=I21,E38,)","v":"00:00:00"},{"$f":"OFFSET(P50,SUM(D22:D38),0)","v":0}]
[null,null,18,{"$f":"COUNTIF(R50:R415,\"=17\")","v":0},{"$f":"OFFSET(D50,SUM(D22:D39),0)","v":"2023-06-04"},{"$f":"IF(C39<=I21,E39,)","v":"00:00:00"},{"$f":"OFFSET(P50,SUM(D22:D39),0)","v":0}]
[null,null,19,{"$f":"COUNTIF(R50:R415,\"=18\")","v":0},{"$f":"OFFSET(D50,SUM(D22:D40),0)","v":"2023-06-04"},{"$f":"IF(C40<=I21,E40,)","v":"00:00:00"},{"$f":"OFFSET(P50,SUM(D22:D40),0)","v":0}]
[]
[]
[]
[]
[]
[]
[]
[]
[null,null,null,null,1,2,3,4,5,6,7,8,9,10,"SUM","1.00 MAX","CHANGE","Chg #"]
[null,null,null,{"$f":"F7","v":"2022-05-23"},{"$f":"IF(D50<=F7,S7,0)","v":0.81820000000000004},{"$f":"IF(AND(D50>=F8,D50<=G8),S8,0)","v":0},{"$f":"IF(AND(D50>=F9,D50<=G9),S9,0)","v":0},{"$f":"IF(AND(D50>=F10,D50<=G10),S10,0)","v":0},{"$f":"IF(AND(D50>=F11,D50<=G11),S11,0)","v":0},{"$f":"IF(AND(D50>=F12,D50<=G12),S12,0)","v":0},{"$f":"IF(AND(D50>=F13,D50<=G13),S13,0)","v":0},{"$f":"IF(AND(D50>=F14,D50<=G14),S14,0)","v":0},{"$f":"IF(AND(D50>=F15,D50<=G15),S15,0)","v":0},{"$f":"IF(AND(D50>=F16,D50<=G16),S16,0)","v":0},{"$f":"SUM(E50:N50)","v":0.81820000000000004},{"$f":"IF(O50>=1,1,O50)","v":0.81820000000000004},0,0]
[null,null,null,{"$f":"IF(DAY(D50)+1=31, D50+2, D50+1)","v":"2022-05-24"},{"$f":"IF(D51<=G7,S7,0)","v":0.81820000000000004},{"$f":"IF(AND(D51>=F8,D51<=G8),S8,0)","v":0},{"$f":"IF(AND(D51>=F9,D51<=G9),S9,0)","v":0},{"$f":"IF(AND(D51>=F10,D51<=G10),S10,0)","v":0},{"$f":"IF(AND(D51>=F11,D51<=G11),S11,0)","v":0},{"$f":"IF(AND(D51>=F12,D51<=G12),S12,0)","v":0},{"$f":"IF(AND(D51>=F13,D51<=G13),S13,0)","v":0},{"$f":"IF(AND(D51>=F14,D51<=G14),S14,0)","v":0},{"$f":"IF(AND(D51>=F15,D51<=G15),S15,0)","v":0},{"$f":"IF(AND(D51>=F16,D51<=G16),S16,0)","v":0},{"$f":"SUM(E51:N51)","v":0.81820000000000004},{"$f":"IF(O51>=1,1,O51)","v":0.81820000000000004},{"$f":"IF(P50=P51,0,1)","v":0},{"$f":"SUM(Q50,R50)","v":0}]
[null,null,null,{"$f":"IF(DAY(D51)+1=31, D51+2, D51+1)","v":"2022-05-25"},{"$f":"IF(D52<=G7,S7,0)","v":0.81820000000000004},{"$f":"IF(AND(D52>=F8,D52<=G8),S8,0)","v":0},{"$f":"IF(AND(D52>=F9,D52<=G9),S9,0)","v":0},{"$f":"IF(AND(D52>=F10,D52<=G10),S10,0)","v":0},{"$f":"IF(AND(D52>=F11,D52<=G11),S11,0)","v":0},{"$f":"IF(AND(D52>=F12,D52<=G12),S12,0)","v":0},{"$f":"IF(AND(D52>=F13,D52<=G13),S13,0)","v":0},{"$f":"IF(AND(D52>=F14,D52<=G14),S14,0)","v":0},{"$f":"IF(AND(D52>=F15,D52<=G15),S15,0)","v":0},{"$f":"IF(AND(D52>=F16,D52<=G16),S16,0)","v":0},{"$f":"SUM(E52:N52)","v":0.81820000000000004},0.81820000000000004,{"$f":"IF(P51=P52,0,1)","v":0},{"$f":"SUM(Q51,R51)","v":0}]
[null,null,null,"2022-05-26",{"$f":"IF(D53<=G7,S7,0)","v":0.81820000000000004},{"$f":"IF(AND(D53>=F8,D53<=G8),S8,0)","v":0},{"$f":"IF(AND(D53>=F9,D53<=G9),S9,0)","v":0},{"$f":"IF(AND(D53>=F10,D53<=G10),S10,0)","v":0},{"$f":"IF(AND(D53>=F11,D53<=G11),S11,0)","v":0},{"$f":"IF(AND(D53>=F12,D53<=G12),S12,0)","v":0},{"$f":"IF(AND(D53>=F13,D53<=G13),S13,0)","v":0},{"$f":"IF(AND(D53>=F14,D53<=G14),S14,0)","v":0},{"$f":"IF(AND(D53>=F15,D53<=G15),S15,0)","v":0},{"$f":"IF(AND(D53>=F16,D53<=G16),S16,0)","v":0},0.81820000000000004,0.81820000000000004,{"$f":"IF(P52=P53,0,1)","v":0},{"$f":"SUM(Q52,R52)","v":0}]
[null,null,null,"2022-05-27",{"$f":"IF(D54<=G7,S7,0)","v":0.81820000000000004},{"$f":"IF(AND(D54>=F8,D54<=G8),S8,0)","v":0},{"$f":"IF(AND(D54>=F9,D54<=G9),S9,0)","v":0},{"$f":"IF(AND(D54>=F10,D54<=G10),S10,0)","v":0},{"$f":"IF(AND(D54>=F11,D54<=G11),S11,0)","v":0},{"$f":"IF(AND(D54>=F12,D54<=G12),S12,0)","v":0},{"$f":"IF(AND(D54>=F13,D54<=G13),S13,0)","v":0},{"$f":"IF(AND(D54>=F14,D54<=G14),S14,0)","v":0},{"$f":"IF(AND(D54>=F15,D54<=G15),S15,0)","v":0},{"$f":"IF(AND(D54>=F16,D54<=G16),S16,0)","v":0},0.81820000000000004,0.81820000000000004,0,0]
[null,null,null,"2022-05-28",{"$f":"IF(D55<=G7,S7,0)","v":0.81820000000000004},{"$f":"IF(AND(D55>=F8,D55<=G8),S8,0)","v":0},{"$f":"IF(AND(D55>=F9,D55<=G9),S9,0)","v":0},{"$f":"IF(AND(D55>=F10,D55<=G10),S10,0)","v":0},{"$f":"IF(AND(D55>=F11,D55<=G11),S11,0)","v":0},{"$f":"IF(AND(D55>=F12,D55<=G12),S12,0)","v":0},{"$f":"IF(AND(D55>=F13,D55<=G13),S13,0)","v":0},{"$f":"IF(AND(D55>=F14,D55<=G14),S14,0)","v":0},{"$f":"IF(AND(D55>=F15,D55<=G15),S15,0)","v":0},{"$f":"IF(AND(D55>=F16,D55<=G16),S16,0)","v":0},0.81820000000000004,0.81820000000000004,0,0]
[null,null,null,"2022-05-29",{"$f":"IF(D56<=G7,S7,0)","v":0.81820000000000004},{"$f":"IF(AND(D56>=F8,D56<=G8),S8,0)","v":0},{"$f":"IF(AND(D56>=F9,D56<=G9),S9,0)","v":0},{"$f":"IF(AND(D56>=F10,D56<=G10),S10,0)","v":0},{"$f":"IF(AND(D56>=F11,D56<=G11),S11,0)","v":0},{"$f":"IF(AND(D56>=F12,D56<=G12),S12,0)","v":0},{"$f":"IF(AND(D56>=F13,D56<=G13),S13,0)","v":0},{"$f":"IF(AND(D56>=F14,D56<=G14),S14,0)","v":0},{"$f":"IF(AND(D56>=F15,D56<=G15),S15,0)","v":0},{"$f":"IF(AND(D56>=F16,D56<=G16),S16,0)","v":0},0.81820000000000004,0.81820000000000004,0,0]
[null,null,null,"2022-05-30",{"$f":"IF(D57<=G7,S7,0)","v":0.81820000000000004},{"$f":"IF(AND(D57>=F8,D57<=G8),S8,0)","v":0},{"$f":"IF(AND(D57>=F9,D57<=G9),S9,0)","v":0},{"$f":"IF(AND(D57>=F10,D57<=G10),S10,0)","v":0},{"$f":"IF(AND(D57>=F11,D57<=G11),S11,0)","v":0},{"$f":"IF(AND(D57>=F12,D57<=G12),S12,0)","v":0},{"$f":"IF(AND(D57>=F13,D57<=G13),S13,0)","v":0},{"$f":"IF(AND(D57>=F14,D57<=G14),S14,0)","v":0},{"$f":"IF(AND(D57>=F15,D57<=G15),S15,0)","v":0},{"$f":"IF(AND(D57>=F16,D57<=G16),S16,0)","v":0},0.81820000000000004,0.81820000000000004,0,0]
[null,null,null,"2022-06-01",{"$f":"IF(D58<=G7,S7,0)","v":0.81820000000000004},{"$f":"IF(AND(D58>=F8,D58<=G8),S8,0)","v":0},{"$f":"IF(AND(D58>=F9,D58<=G9),S9,0)","v":0},{"$f":"IF(AND(D58>=F10,D58<=G10),S10,0)","v":0},{"$f":"IF(AND(D58>=F11,D58<=G11),S11,0)","v":0},{"$f":"IF(AND(D58>=F12,D58<=G12),S12,0)","v":0},{"$f":"IF(AND(D58>=F13,D58<=G13),S13,0)","v":0},{"$f":"IF(AND(D58>=F14,D58<=G14),S14,0)","v":0},{"$f":"IF(AND(D58>=F15,D58<=G15),S15,0)","v":0},{"$f":"IF(AND(D58>=F16,D58<=G16),S16,0)","v":0},0.81820000000000004,0.81820000000000004,0,0]
[null,null,null,"2022-06-02",{"$f":"IF(D59<=G7,S7,0)","v":0.81820000000000004},{"$f":"IF(AND(D59>=F8,D59<=G8),S8,0)","v":0},{"$f":"IF(AND(D59>=F9,D59<=G9),S9,0)","v":0},{"$f":"IF(AND(D59>=F10,D59<=G10),S10,0)","v":0},{"$f":"IF(AND(D59>=F11,D59<=G11),S11,0)","v":0},{"$f":"IF(AND(D59>=F12,D59<=G12),S12,0)","v":0},{"$f":"IF(AND(D59>=F13,D59<=G13),S13,0)","v":0},{"$f":"IF(AND(D59>=F14,D59<=G14),S14,0)","v":0},{"$f":"IF(AND(D59>=F15,D59<=G15),S15,0)","v":0},{"$f":"IF(AND(D59>=F16,D59<=G16),S16,0)","v":0},0.81820000000000004,0.81820000000000004,0,0]
[null,null,null,"2022-06-03",{"$f":"IF(D60<=G7,S7,0)","v":0.81820000000000004},{"$f":"IF(AND(D60>=F8,D60<=G8),S8,0)","v":0},{"$f":"IF(AND(D60>=F9,D60<=G9),S9,0)","v":0},{"$f":"IF(AND(D60>=F10,D60<=G10),S10,0)","v":0},{"$f":"IF(AND(D60>=F11,D60<=G11),S11,0)","v":0},{"$f":"IF(AND(D60>=F12,D60<=G12),S12,0)","v":0},{"$f":"IF(AND(D60>=F13,D60<=G13),S13,0)","v":0},{"$f":"IF(AND(D60>=F14,D60<=G14),S14,0)","v":0},{"$f":"IF(AND(D60>=F15,D60<=G15),S15,0)","v":0},{"$f":"IF(AND(D60>=F16,D60<=G16),S16,0)","v":0},0.81820000000000004,0.81820000000000004,0,0]
[null,null,null,"2022-06-04",{"$f":"IF(D61<=G7,S7,0)","v":0.81820000000000004},{"$f":"IF(AND(D61>=F8,D61<=G8),S8,0)","v":0},{"$f":"IF(AND(D61>=F9,D61<=G9),S9,0)","v":0},{"$f":"IF(AND(D61>=F10,D61<=G10),S10,0)","v":0},{"$f":"IF(AND(D61>=F11,D61<=G11),S11,0)","v":0},{"$f":"IF(AND(D61>=F12,D61<=G12),S12,0)","v":0},{"$f":"IF(AND(D61>=F13,D61<=G13),S13,0)","v":0},{"$f":"IF(AND(D61>=F14,D61<=G14),S14,0)","v":0},{"$f":"IF(AND(D61>=F15,D61<=G15),S15,0)","v":0},{"$f":"IF(AND(D61>=F16,D61<=G16),S16,0)","v":0},0.81820000000000004,0.81820000000000004,0,0]
[null,null,null,"2022-06-05",{"$f":"IF(D62<=G7,S7,0)","v":0.81820000000000004},{"$f":"IF(AND(D62>=F8,D62<=G8),S8,0)","v":0},{"$f":"IF(AND(D62>=F9,D62<=G9),S9,0)","v":0},{"$f":"IF(AND(D62>=F10,D62<=G10),S10,0)","v":0},{"$f":"IF(AND(D62>=F11,D62<=G11),S11,0)","v":0},{"$f":"IF(AND(D62>=F12,D62<=G12),S12,0)","v":0},{"$f":"IF(AND(D62>=F13,D62<=G13),S13,0)","v":0},{"$f":"IF(AND(D62>=F14,D62<=G14),S14,0)","v":0},{"$f":"IF(AND(D62>=F15,D62<=G15),S15,0)","v":0},{"$f":"IF(AND(D62>=F16,D62<=G16),S16,0)","v":0},0.81820000000000004,0.81820000000000004,0,0]
[null,null,null,"2022-06-06",{"$f":"IF(D63<=G7,S7,0)","v":0.81820000000000004},{"$f":"IF(AND(D63>=F8,D63<=G8),S8,0)","v":0},{"$f":"IF(AND(D63>=F9,D63<=G9),S9,0)","v":0},{"$f":"IF(AND(D63>=F10,D63<=G10),S10,0)","v":0},{"$f":"IF(AND(D63>=F11,D63<=G11),S11,0)","v":0},{"$f":"IF(AND(D63>=F12,D63<=G12),S12,0)","v":0},{"$f":"IF(AND(D63>=F13,D63<=G13),S13,0)","v":0},{"$f":"IF(AND(D63>=F14,D63<=G14),S14,0)","v":0},{"$f":"IF(AND(D63>=F15,D63<=G15),S15,0)","v":0},{"$f":"IF(AND(D63>=F16,D63<=G16),S16,0)","v":0},0.81820000000000004,0.81820000000000004,0,0]
[null,null,null,"2022-06-07",{"$f":"IF(D64<=G7,S7,0)","v":0.81820000000000004},{"$f":"IF(AND(D64>=F8,D64<=G8),S8,0)","v":0},{"$f":"IF(AND(D64>=F9,D64<=G9),S9,0)","v":0},{"$f":"IF(AND(D64>=F10,D64<=G10),S10,0)","v":0},{"$f":"IF(AND(D64>=F11,D64<=G11),S11,0)","v":0},{"$f":"IF(AND(D64>=F12,D64<=G12),S12,0)","v":0},{"$f":"IF(AND(D64>=F13,D64<=G13),S13,0)","v":0},{"$f":"IF(AND(D64>=F14,D64<=G14),S14,0)","v":0},{"$f":"IF(AND(D64>=F15,D64<=G15),S15,0)","v":0},{"$f":"IF(AND(D64>=F16,D64<=G16),S16,0)","v":0},0.81820000000000004,0.81820000000000004,0,0]
[null,null,null,"2022-06-08",{"$f":"IF(D65<=G7,S7,0)","v":0.81820000000000004},{"$f":"IF(AND(D65>=F8,D65<=G8),S8,0)","v":0},{"$f":"IF(AND(D65>=F9,D65<=G9),S9,0)","v":0},{"$f":"IF(AND(D65>=F10,D65<=G10),S10,0)","v":0},{"$f":"IF(AND(D65>=F11,D65<=G11),S11,0)","v":0},{"$f":"IF(AND(D65>=F12,D65<=G12),S12,0)","v":0},{"$f":"IF(AND(D65>=F13,D65<=G13),S13,0)","v":0},{"$f":"IF(AND(D65>=F14,D65<=G14),S14,0)","v":0},{"$f":"IF(AND(D65>=F15,D65<=G15),S15,0)","v":0},{"$f":"IF(AND(D65>=F16,D65<=G16),S16,0)","v":0},0.81820000000000004,0.81820000000000004,0,0]
[null,null,null,"2022-06-09",{"$f":"IF(D66<=G7,S7,0)","v":0.81820000000000004},{"$f":"IF(AND(D66>=F8,D66<=G8),S8,0)","v":0},{"$f":"IF(AND(D66>=F9,D66<=G9),S9,0)","v":0},{"$f":"IF(AND(D66>=F10,D66<=G10),S10,0)","v":0},{"$f":"IF(AND(D66>=F11,D66<=G11),S11,0)","v":0},{"$f":"IF(AND(D66>=F12,D66<=G12),S12,0)","v":0},{"$f":"IF(AND(D66>=F13,D66<=G13),S13,0)","v":0},{"$f":"IF(AND(D66>=F14,D66<=G14),S14,0)","v":0},{"$f":"IF(AND(D66>=F15,D66<=G15),S15,0)","v":0},{"$f":"IF(AND(D66>=F16,D66<=G16),S16,0)","v":0},0.81820000000000004,0.81820000000000004,0,0]
[null,null,null,"2022-06-10",{"$f":"IF(D67<=G7,S7,0)","v":0.81820000000000004},{"$f":"IF(AND(D67>=F8,D67<=G8),S8,0)","v":0},{"$f":"IF(AND(D67>=F9,D67<=G9),S9,0)","v":0},{"$f":"IF(AND(D67>=F10,D67<=G10),S10,0)","v":0},{"$f":"IF(AND(D67>=F11,D67<=G11),S11,0)","v":0},{"$f":"IF(AND(D67>=F12,D67<=G12),S12,0)","v":0},{"$f":"IF(AND(D67>=F13,D67<=G13),S13,0)","v":0},{"$f":"IF(AND(D67>=F14,D67<=G14),S14,0)","v":0},{"$f":"IF(AND(D67>=F15,D67<=G15),S15,0)","v":0},{"$f":"IF(AND(D67>=F16,D67<=G16),S16,0)","v":0},0.81820000000000004,0.81820000000000004,0,0]
[null,null,null,"2022-06-11",{"$f":"IF(D68<=G7,S7,0)","v":0.81820000000000004},{"$f":"IF(AND(D68>=F8,D68<=G8),S8,0)","v":0},{"$f":"IF(AND(D68>=F9,D68<=G9),S9,0)","v":0},{"$f":"IF(AND(D68>=F10,D68<=G10),S10,0)","v":0},{"$f":"IF(AND(D68>=F11,D68<=G11),S11,0)","v":0},{"$f":"IF(AND(D68>=F12,D68<=G12),S12,0)","v":0},{"$f":"IF(AND(D68>=F13,D68<=G13),S13,0)","v":0},{"$f":"IF(AND(D68>=F14,D68<=G14),S14,0)","v":0},{"$f":"IF(AND(D68>=F15,D68<=G15),S15,0)","v":0},{"$f":"IF(AND(D68>=F16,D68<=G16),S16,0)","v":0},0.81820000000000004,0.81820000000000004,0,0]
[null,null,null,"2022-06-12",{"$f":"IF(D69<=G7,S7,0)","v":0.81820000000000004},{"$f":"IF(AND(D69>=F8,D69<=G8),S8,0)","v":0},{"$f":"IF(AND(D69>=F9,D69<=G9),S9,0)","v":0},{"$f":"IF(AND(D69>=F10,D69<=G10),S10,0)","v":0},{"$f":"IF(AND(D69>=F11,D69<=G11),S11,0)","v":0},{"$f":"IF(AND(D69>=F12,D69<=G12),S12,0)","v":0},{"$f":"IF(AND(D69>=F13,D69<=G13),S13,0)","v":0},{"$f":"IF(AND(D69>=F14,D69<=G14),S14,0)","v":0},{"$f":"IF(AND(D69>=F15,D69<=G15),S15,0)","v":0},{"$f":"IF(AND(D69>=F16,D69<=G16),S16,0)","v":0},0.81820000000000004,0.81820000000000004,0,0]
[null,null,null,"2022-06-13",{"$f":"IF(D70<=G7,S7,0)","v":0.81820000000000004},{"$f":"IF(AND(D70>=F8,D70<=G8),S8,0)","v":0},{"$f":"IF(AND(D70>=F9,D70<=G9),S9,0)","v":0},{"$f":"IF(AND(D70>=F10,D70<=G10),S10,0)","v":0},{"$f":"IF(AND(D70>=F11,D70<=G11),S11,0)","v":0},{"$f":"IF(AND(D70>=F12,D70<=G12),S12,0)","v":0},{"$f":"IF(AND(D70>=F13,D70<=G13),S13,0)","v":0},{"$f":"IF(AND(D70>=F14,D70<=G14),S14,0)","v":0},{"$f":"IF(AND(D70>=F15,D70<=G15),S15,0)","v":0},{"$f":"IF(AND(D70>=F16,D70<=G16),S16,0)","v":0},0.81820000000000004,0.81820000000000004,0,0]
[null,null,null,"2022-06-14",{"$f":"IF(D71<=G7,S7,0)","v":0.81820000000000004},{"$f":"IF(AND(D71>=F8,D71<=G8),S8,0)","v":0},{"$f":"IF(AND(D71>=F9,D71<=G9),S9,0)","v":0},{"$f":"IF(AND(D71>=F10,D71<=G10),S10,0)","v":0},{"$f":"IF(AND(D71>=F11,D71<=G11),S11,0)","v":0},{"$f":"IF(AND(D71>=F12,D71<=G12),S12,0)","v":0},{"$f":"IF(AND(D71>=F13,D71<=G13),S13,0)","v":0},{"$f":"IF(AND(D71>=F14,D71<=G14),S14,0)","v":0},{"$f":"IF(AND(D71>=F15,D71<=G15),S15,0)","v":0},{"$f":"IF(AND(D71>=F16,D71<=G16),S16,0)","v":0},0.81820000000000004,0.81820000000000004,0,0]
[null,null,null,"2022-06-15",{"$f":"IF(D72<=G7,S7,0)","v":0.81820000000000004},{"$f":"IF(AND(D72>=F8,D72<=G8),S8,0)","v":0},{"$f":"IF(AND(D72>=F9,D72<=G9),S9,0)","v":0},{"$f":"IF(AND(D72>=F10,D72<=G10),S10,0)","v":0},{"$f":"IF(AND(D72>=F11,D72<=G11),S11,0)","v":0},{"$f":"IF(AND(D72>=F12,D72<=G12),S12,0)","v":0},{"$f":"IF(AND(D72>=F13,D72<=G13),S13,0)","v":0},{"$f":"IF(AND(D72>=F14,D72<=G14),S14,0)","v":0},{"$f":"IF(AND(D72>=F15,D72<=G15),S15,0)","v":0},{"$f":"IF(AND(D72>=F16,D72<=G16),S16,0)","v":0},0.81820000000000004,0.81820000000000004,0,0]
[null,null,null,"2022-06-16",{"$f":"IF(D73<=G7,S7,0)","v":0.81820000000000004},{"$f":"IF(AND(D73>=F8,D73<=G8),S8,0)","v":0},{"$f":"IF(AND(D73>=F9,D73<=G9),S9,0)","v":0},{"$f":"IF(AND(D73>=F10,D73<=G10),S10,0)","v":0},{"$f":"IF(AND(D73>=F11,D73<=G11),S11,0)","v":0},{"$f":"IF(AND(D73>=F12,D73<=G12),S12,0)","v":0},{"$f":"IF(AND(D73>=F13,D73<=G13),S13,0)","v":0},{"$f":"IF(AND(D73>=F14,D73<=G14),S14,0)","v":0},{"$f":"IF(AND(D73>=F15,D73<=G15),S15,0)","v":0},{"$f":"IF(AND(D73>=F16,D73<=G16),S16,0)","v":0},0.81820000000000004,0.81820000000000004,0,0]
[null,null,null,"2022-06-17",{"$f":"IF(D74<=G7,S7,0)","v":0.81820000000000004},{"$f":"IF(AND(D74>=F8,D74<=G8),S8,0)","v":0},{"$f":"IF(AND(D74>=F9,D74<=G9),S9,0)","v":0},{"$f":"IF(AND(D74>=F10,D74<=G10),S10,0)","v":0},{"$f":"IF(AND(D74>=F11,D74<=G11),S11,0)","v":0},{"$f":"IF(AND(D74>=F12,D74<=G12),S12,0)","v":0},{"$f":"IF(AND(D74>=F13,D74<=G13),S13,0)","v":0},{"$f":"IF(AND(D74>=F14,D74<=G14),S14,0)","v":0},{"$f":"IF(AND(D74>=F15,D74<=G15),S15,0)","v":0},{"$f":"IF(AND(D74>=F16,D74<=G16),S16,0)","v":0},0.81820000000000004,0.81820000000000004,0,0]
[null,null,null,"2022-06-18",{"$f":"IF(D75<=G7,S7,0)","v":0.81820000000000004},{"$f":"IF(AND(D75>=F8,D75<=G8),S8,0)","v":0},{"$f":"IF(AND(D75>=F9,D75<=G9),S9,0)","v":0},{"$f":"IF(AND(D75>=F10,D75<=G10),S10,0)","v":0},{"$f":"IF(AND(D75>=F11,D75<=G11),S11,0)","v":0},{"$f":"IF(AND(D75>=F12,D75<=G12),S12,0)","v":0},{"$f":"IF(AND(D75>=F13,D75<=G13),S13,0)","v":0},{"$f":"IF(AND(D75>=F14,D75<=G14),S14,0)","v":0},{"$f":"IF(AND(D75>=F15,D75<=G15),S15,0)","v":0},{"$f":"IF(AND(D75>=F16,D75<=G16),S16,0)","v":0},0.81820000000000004,0.81820000000000004,0,0]
[null,null,null,"2022-06-19",{"$f":"IF(D76<=G7,S7,0)","v":0.81820000000000004},{"$f":"IF(AND(D76>=F8,D76<=G8),S8,0)","v":0},{"$f":"IF(AND(D76>=F9,D76<=G9),S9,0)","v":0},{"$f":"IF(AND(D76>=F10,D76<=G10),S10,0)","v":0},{"$f":"IF(AND(D76>=F11,D76<=G11),S11,0)","v":0},{"$f":"IF(AND(D76>=F12,D76<=G12),S12,0)","v":0},{"$f":"IF(AND(D76>=F13,D76<=G13),S13,0)","v":0},{"$f":"IF(AND(D76>=F14,D76<=G14),S14,0)","v":0},{"$f":"IF(AND(D76>=F15,D76<=G15),S15,0)","v":0},{"$f":"IF(AND(D76>=F16,D76<=G16),S16,0)","v":0},0.81820000000000004,0.81820000000000004,0,0]
[null,null,null,{"$f":"IF(DAY(D76)+1=31, D76+2, D76+1)","v":"2022-06-20"},{"$f":"IF(D77<=G7,S7,0)","v":0.81820000000000004},{"$f":"IF(AND(D77>=F8,D77<=G8),S8,0)","v":0},{"$f":"IF(AND(D77>=F9,D77<=G9),S9,0)","v":0},{"$f":"IF(AND(D77>=F10,D77<=G10),S10,0)","v":0},{"$f":"IF(AND(D77>=F11,D77<=G11),S11,0)","v":0},{"$f":"IF(AND(D77>=F12,D77<=G12),S12,0)","v":0},{"$f":"IF(AND(D77>=F13,D77<=G13),S13,0)","v":0},{"$f":"IF(AND(D77>=F14,D77<=G14),S14,0)","v":0},{"$f":"IF(AND(D77>=F15,D77<=G15),S15,0)","v":0},{"$f":"IF(AND(D77>=F16,D77<=G16),S16,0)","v":0},0.81820000000000004,0.81820000000000004,0,0]
[null,null,null,"2022-06-21",{"$f":"IF(D78<=G7,S7,0)","v":0.81820000000000004},{"$f":"IF(AND(D78>=F8,D78<=G8),S8,0)","v":0},{"$f":"IF(AND(D78>=F9,D78<=G9),S9,0)","v":0},{"$f":"IF(AND(D78>=F10,D78<=G10),S10,0)","v":0},{"$f":"IF(AND(D78>=F11,D78<=G11),S11,0)","v":0},{"$f":"IF(AND(D78>=F12,D78<=G12),S12,0)","v":0},{"$f":"IF(AND(D78>=F13,D78<=G13),S13,0)","v":0},{"$f":"IF(AND(D78>=F14,D78<=G14),S14,0)","v":0},{"$f":"IF(AND(D78>=F15,D78<=G15),S15,0)","v":0},{"$f":"IF(AND(D78>=F16,D78<=G16),S16,0)","v":0},0.81820000000000004,0.81820000000000004,0,0]
[null,null,null,"2022-06-22",{"$f":"IF(D79<=G7,S7,0)","v":0.81820000000000004},{"$f":"IF(AND(D79>=F8,D79<=G8),S8,0)","v":0},{"$f":"IF(AND(D79>=F9,D79<=G9),S9,0)","v":0},{"$f":"IF(AND(D79>=F10,D79<=G10),S10,0)","v":0},{"$f":"IF(AND(D79>=F11,D79<=G11),S11,0)","v":0},{"$f":"IF(AND(D79>=F12,D79<=G12),S12,0)","v":0},{"$f":"IF(AND(D79>=F13,D79<=G13),S13,0)","v":0},{"$f":"IF(AND(D79>=F14,D79<=G14),S14,0)","v":0},{"$f":"IF(AND(D79>=F15,D79<=G15),S15,0)","v":0},{"$f":"IF(AND(D79>=F16,D79<=G16),S16,0)","v":0},0.81820000000000004,0.81820000000000004,0,0]
[null,null,null,"2022-06-23",{"$f":"IF(D80<=G7,S7,0)","v":0.81820000000000004},{"$f":"IF(AND(D80>=F8,D80<=G8),S8,0)","v":0},{"$f":"IF(AND(D80>=F9,D80<=G9),S9,0)","v":0},{"$f":"IF(AND(D80>=F10,D80<=G10),S10,0)","v":0},{"$f":"IF(AND(D80>=F11,D80<=G11),S11,0)","v":0},{"$f":"IF(AND(D80>=F12,D80<=G12),S12,0)","v":0},{"$f":"IF(AND(D80>=F13,D80<=G13),S13,0)","v":0},{"$f":"IF(AND(D80>=F14,D80<=G14),S14,0)","v":0},{"$f":"IF(AND(D80>=F15,D80<=G15),S15,0)","v":0},{"$f":"IF(AND(D80>=F16,D80<=G16),S16,0)","v":0},0.81820000000000004,0.81820000000000004,0,0]
[null,null,null,"2022-06-24",{"$f":"IF(D81<=G7,S7,0)","v":0.81820000000000004},{"$f":"IF(AND(D81>=F8,D81<=G8),S8,0)","v":0},{"$f":"IF(AND(D81>=F9,D81<=G9),S9,0)","v":0},{"$f":"IF(AND(D81>=F10,D81<=G10),S10,0)","v":0},{"$f":"IF(AND(D81>=F11,D81<=G11),S11,0)","v":0},{"$f":"IF(AND(D81>=F12,D81<=G12),S12,0)","v":0},{"$f":"IF(AND(D81>=F13,D81<=G13),S13,0)","v":0},{"$f":"IF(AND(D81>=F14,D81<=G14),S14,0)","v":0},{"$f":"IF(AND(D81>=F15,D81<=G15),S15,0)","v":0},{"$f":"IF(AND(D81>=F16,D81<=G16),S16,0)","v":0},0.81820000000000004,0.81820000000000004,0,0]
[null,null,null,"2022-06-25",{"$f":"IF(D82<=G7,S7,0)","v":0.81820000000000004},{"$f":"IF(AND(D82>=F8,D82<=G8),S8,0)","v":0},{"$f":"IF(AND(D82>=F9,D82<=G9),S9,0)","v":0},{"$f":"IF(AND(D82>=F10,D82<=G10),S10,0)","v":0},{"$f":"IF(AND(D82>=F11,D82<=G11),S11,0)","v":0},{"$f":"IF(AND(D82>=F12,D82<=G12),S12,0)","v":0},{"$f":"IF(AND(D82>=F13,D82<=G13),S13,0)","v":0},{"$f":"IF(AND(D82>=F14,D82<=G14),S14,0)","v":0},{"$f":"IF(AND(D82>=F15,D82<=G15),S15,0)","v":0},{"$f":"IF(AND(D82>=F16,D82<=G16),S16,0)","v":0},0.81820000000000004,0.81820000000000004,0,0]
[null,null,null,"2022-06-26",{"$f":"IF(D83<=G7,S7,0)","v":0.81820000000000004},{"$f":"IF(AND(D83>=F8,D83<=G8),S8,0)","v":0},{"$f":"IF(AND(D83>=F9,D83<=G9),S9,0)","v":0},{"$f":"IF(AND(D83>=F10,D83<=G10),S10,0)","v":0},{"$f":"IF(AND(D83>=F11,D83<=G11),S11,0)","v":0},{"$f":"IF(AND(D83>=F12,D83<=G12),S12,0)","v":0},{"$f":"IF(AND(D83>=F13,D83<=G13),S13,0)","v":0},{"$f":"IF(AND(D83>=F14,D83<=G14),S14,0)","v":0},{"$f":"IF(AND(D83>=F15,D83<=G15),S15,0)","v":0},{"$f":"IF(AND(D83>=F16,D83<=G16),S16,0)","v":0},0.81820000000000004,0.81820000000000004,0,0]
[null,null,null,"2022-06-27",{"$f":"IF(D84<=G7,S7,0)","v":0.81820000000000004},{"$f":"IF(AND(D84>=F8,D84<=G8),S8,0)","v":0},{"$f":"IF(AND(D84>=F9,D84<=G9),S9,0)","v":0},{"$f":"IF(AND(D84>=F10,D84<=G10),S10,0)","v":0},{"$f":"IF(AND(D84>=F11,D84<=G11),S11,0)","v":0},{"$f":"IF(AND(D84>=F12,D84<=G12),S12,0)","v":0},{"$f":"IF(AND(D84>=F13,D84<=G13),S13,0)","v":0},{"$f":"IF(AND(D84>=F14,D84<=G14),S14,0)","v":0},{"$f":"IF(AND(D84>=F15,D84<=G15),S15,0)","v":0},{"$f":"IF(AND(D84>=F16,D84<=G16),S16,0)","v":0},0.81820000000000004,0.81820000000000004,0,0]
[null,null,null,"2022-06-28",{"$f":"IF(D85<=G7,S7,0)","v":0.81820000000000004},{"$f":"IF(AND(D85>=F8,D85<=G8),S8,0)","v":0},{"$f":"IF(AND(D85>=F9,D85<=G9),S9,0)","v":0},{"$f":"IF(AND(D85>=F10,D85<=G10),S10,0)","v":0},{"$f":"IF(AND(D85>=F11,D85<=G11),S11,0)","v":0},{"$f":"IF(AND(D85>=F12,D85<=G12),S12,0)","v":0},{"$f":"IF(AND(D85>=F13,D85<=G13),S13,0)","v":0},{"$f":"IF(AND(D85>=F14,D85<=G14),S14,0)","v":0},{"$f":"IF(AND(D85>=F15,D85<=G15),S15,0)","v":0},{"$f":"IF(AND(D85>=F16,D85<=G16),S16,0)","v":0},0.81820000000000004,0.81820000000000004,0,0]
[null,null,null,"2022-06-29",{"$f":"IF(D86<=G7,S7,0)","v":0.81820000000000004},{"$f":"IF(AND(D86>=F8,D86<=G8),S8,0)","v":0},{"$f":"IF(AND(D86>=F9,D86<=G9),S9,0)","v":0},{"$f":"IF(AND(D86>=F10,D86<=G10),S10,0)","v":0},{"$f":"IF(AND(D86>=F11,D86<=G11),S11,0)","v":0},{"$f":"IF(AND(D86>=F12,D86<=G12),S12,0)","v":0},{"$f":"IF(AND(D86>=F13,D86<=G13),S13,0)","v":0},{"$f":"IF(AND(D86>=F14,D86<=G14),S14,0)","v":0},{"$f":"IF(AND(D86>=F15,D86<=G15),S15,0)","v":0},{"$f":"IF(AND(D86>=F16,D86<=G16),S16,0)","v":0},0.81820000000000004,0.81820000000000004,0,0]
[null,null,null,"2022-06-30",{"$f":"IF(D87<=G7,S7,0)","v":0.81820000000000004},{"$f":"IF(AND(D87>=F8,D87<=G8),S8,0)","v":0},{"$f":"IF(AND(D87>=F9,D87<=G9),S9,0)","v":0},{"$f":"IF(AND(D87>=F10,D87<=G10),S10,0)","v":0},{"$f":"IF(AND(D87>=F11,D87<=G11),S11,0)","v":0},{"$f":"IF(AND(D87>=F12,D87<=G12),S12,0)","v":0},{"$f":"IF(AND(D87>=F13,D87<=G13),S13,0)","v":0},{"$f":"IF(AND(D87>=F14,D87<=G14),S14,0)","v":0},{"$f":"IF(AND(D87>=F15,D87<=G15),S15,0)","v":0},{"$f":"IF(AND(D87>=F16,D87<=G16),S16,0)","v":0},0.81820000000000004,0.81820000000000004,0,0]
[null,null,null,"2022-07-02",{"$f":"IF(D88<=G7,S7,0)","v":0.81820000000000004},{"$f":"IF(AND(D88>=F8,D88<=G8),S8,0)","v":0},{"$f":"IF(AND(D88>=F9,D88<=G9),S9,0)","v":0},{"$f":"IF(AND(D88>=F10,D88<=G10),S10,0)","v":0},{"$f":"IF(AND(D88>=F11,D88<=G11),S11,0)","v":0},{"$f":"IF(AND(D88>=F12,D88<=G12),S12,0)","v":0},{"$f":"IF(AND(D88>=F13,D88<=G13),S13,0)","v":0},{"$f":"IF(AND(D88>=F14,D88<=G14),S14,0)","v":0},{"$f":"IF(AND(D88>=F15,D88<=G15),S15,0)","v":0},{"$f":"IF(AND(D88>=F16,D88<=G16),S16,0)","v":0},0.81820000000000004,0.81820000000000004,0,0]
[null,null,null,"2022-07-03",{"$f":"IF(D89<=G7,S7,0)","v":0.81820000000000004},{"$f":"IF(AND(D89>=F8,D89<=G8),S8,0)","v":0},{"$f":"IF(AND(D89>=F9,D89<=G9),S9,0)","v":0},{"$f":"IF(AND(D89>=F10,D89<=G10),S10,0)","v":0},{"$f":"IF(AND(D89>=F11,D89<=G11),S11,0)","v":0},{"$f":"IF(AND(D89>=F12,D89<=G12),S12,0)","v":0},{"$f":"IF(AND(D89>=F13,D89<=G13),S13,0)","v":0},{"$f":"IF(AND(D89>=F14,D89<=G14),S14,0)","v":0},{"$f":"IF(AND(D89>=F15,D89<=G15),S15,0)","v":0},{"$f":"IF(AND(D89>=F16,D89<=G16),S16,0)","v":0},0.81820000000000004,0.81820000000000004,0,0]
[null,null,null,"2022-07-04",{"$f":"IF(D90<=G7,S7,0)","v":0.81820000000000004},{"$f":"IF(AND(D90>=F8,D90<=G8),S8,0)","v":0},{"$f":"IF(AND(D90>=F9,D90<=G9),S9,0)","v":0},{"$f":"IF(AND(D90>=F10,D90<=G10),S10,0)","v":0},{"$f":"IF(AND(D90>=F11,D90<=G11),S11,0)","v":0},{"$f":"IF(AND(D90>=F12,D90<=G12),S12,0)","v":0},{"$f":"IF(AND(D90>=F13,D90<=G13),S13,0)","v":0},{"$f":"IF(AND(D90>=F14,D90<=G14),S14,0)","v":0},{"$f":"IF(AND(D90>=F15,D90<=G15),S15,0)","v":0},{"$f":"IF(AND(D90>=F16,D90<=G16),S16,0)","v":0},0.81820000000000004,0.81820000000000004,0,0]
[null,null,null,"2022-07-05",{"$f":"IF(D91<=G7,S7,0)","v":0.81820000000000004},{"$f":"IF(AND(D91>=F8,D91<=G8),S8,0)","v":0},{"$f":"IF(AND(D91>=F9,D91<=G9),S9,0)","v":0},{"$f":"IF(AND(D91>=F10,D91<=G10),S10,0)","v":0},{"$f":"IF(AND(D91>=F11,D91<=G11),S11,0)","v":0},{"$f":"IF(AND(D91>=F12,D91<=G12),S12,0)","v":0},{"$f":"IF(AND(D91>=F13,D91<=G13),S13,0)","v":0},{"$f":"IF(AND(D91>=F14,D91<=G14),S14,0)","v":0},{"$f":"IF(AND(D91>=F15,D91<=G15),S15,0)","v":0},{"$f":"IF(AND(D91>=F16,D91<=G16),S16,0)","v":0},0.81820000000000004,0.81820000000000004,0,0]
[null,null,null,"2022-07-06",{"$f":"IF(D92<=G7,S7,0)","v":0.81820000000000004},{"$f":"IF(AND(D92>=F8,D92<=G8),S8,0)","v":0},{"$f":"IF(AND(D92>=F9,D92<=G9),S9,0)","v":0},{"$f":"IF(AND(D92>=F10,D92<=G10),S10,0)","v":0},{"$f":"IF(AND(D92>=F11,D92<=G11),S11,0)","v":0},{"$f":"IF(AND(D92>=F12,D92<=G12),S12,0)","v":0},{"$f":"IF(AND(D92>=F13,D92<=G13),S13,0)","v":0},{"$f":"IF(AND(D92>=F14,D92<=G14),S14,0)","v":0},{"$f":"IF(AND(D92>=F15,D92<=G15),S15,0)","v":0},{"$f":"IF(AND(D92>=F16,D92<=G16),S16,0)","v":0},0.81820000000000004,0.81820000000000004,0,0]
[null,null,null,"2022-07-07",{"$f":"IF(D93<=G7,S7,0)","v":0.81820000000000004},{"$f":"IF(AND(D93>=F8,D93<=G8),S8,0)","v":0},{"$f":"IF(AND(D93>=F9,D93<=G9),S9,0)","v":0},{"$f":"IF(AND(D93>=F10,D93<=G10),S10,0)","v":0},{"$f":"IF(AND(D93>=F11,D93<=G11),S11,0)","v":0},{"$f":"IF(AND(D93>=F12,D93<=G12),S12,0)","v":0},{"$f":"IF(AND(D93>=F13,D93<=G13),S13,0)","v":0},{"$f":"IF(AND(D93>=F14,D93<=G14),S14,0)","v":0},{"$f":"IF(AND(D93>=F15,D93<=G15),S15,0)","v":0},{"$f":"IF(AND(D93>=F16,D93<=G16),S16,0)","v":0},0.81820000000000004,0.81820000000000004,0,0]
[null,null,null,"2022-07-08",{"$f":"IF(D94<=G7,S7,0)","v":0.81820000000000004},{"$f":"IF(AND(D94>=F8,D94<=G8),S8,0)","v":0},{"$f":"IF(AND(D94>=F9,D94<=G9),S9,0)","v":0},{"$f":"IF(AND(D94>=F10,D94<=G10),S10,0)","v":0},{"$f":"IF(AND(D94>=F11,D94<=G11),S11,0)","v":0},{"$f":"IF(AND(D94>=F12,D94<=G12),S12,0)","v":0},{"$f":"IF(AND(D94>=F13,D94<=G13),S13,0)","v":0},{"$f":"IF(AND(D94>=F14,D94<=G14),S14,0)","v":0},{"$f":"IF(AND(D94>=F15,D94<=G15),S15,0)","v":0},{"$f":"IF(AND(D94>=F16,D94<=G16),S16,0)","v":0},0.81820000000000004,0.81820000000000004,0,0]
[null,null,null,"2022-07-09",{"$f":"IF(D95<=G7,S7,0)","v":0.81820000000000004},{"$f":"IF(AND(D95>=F8,D95<=G8),S8,0)","v":0},{"$f":"IF(AND(D95>=F9,D95<=G9),S9,0)","v":0},{"$f":"IF(AND(D95>=F10,D95<=G10),S10,0)","v":0},{"$f":"IF(AND(D95>=F11,D95<=G11),S11,0)","v":0},{"$f":"IF(AND(D95>=F12,D95<=G12),S12,0)","v":0},{"$f":"IF(AND(D95>=F13,D95<=G13),S13,0)","v":0},{"$f":"IF(AND(D95>=F14,D95<=G14),S14,0)","v":0},{"$f":"IF(AND(D95>=F15,D95<=G15),S15,0)","v":0},{"$f":"IF(AND(D95>=F16,D95<=G16),S16,0)","v":0},0.81820000000000004,0.81820000000000004,0,0]
[null,null,null,"2022-07-10",{"$f":"IF(D96<=G7,S7,0)","v":0.81820000000000004},{"$f":"IF(AND(D96>=F8,D96<=G8),S8,0)","v":0},{"$f":"IF(AND(D96>=F9,D96<=G9),S9,0)","v":0},{"$f":"IF(AND(D96>=F10,D96<=G10),S10,0)","v":0},{"$f":"IF(AND(D96>=F11,D96<=G11),S11,0)","v":0},{"$f":"IF(AND(D96>=F12,D96<=G12),S12,0)","v":0},{"$f":"IF(AND(D96>=F13,D96<=G13),S13,0)","v":0},{"$f":"IF(AND(D96>=F14,D96<=G14),S14,0)","v":0},{"$f":"IF(AND(D96>=F15,D96<=G15),S15,0)","v":0},{"$f":"IF(AND(D96>=F16,D96<=G16),S16,0)","v":0},0.81820000000000004,0.81820000000000004,0,0]
[null,null,null,"2022-07-11",{"$f":"IF(D97<=G7,S7,0)","v":0.81820000000000004},{"$f":"IF(AND(D97>=F8,D97<=G8),S8,0)","v":0},{"$f":"IF(AND(D97>=F9,D97<=G9),S9,0)","v":0},{"$f":"IF(AND(D97>=F10,D97<=G10),S10,0)","v":0},{"$f":"IF(AND(D97>=F11,D97<=G11),S11,0)","v":0},{"$f":"IF(AND(D97>=F12,D97<=G12),S12,0)","v":0},{"$f":"IF(AND(D97>=F13,D97<=G13),S13,0)","v":0},{"$f":"IF(AND(D97>=F14,D97<=G14),S14,0)","v":0},{"$f":"IF(AND(D97>=F15,D97<=G15),S15,0)","v":0},{"$f":"IF(AND(D97>=F16,D97<=G16),S16,0)","v":0},0.81820000000000004,0.81820000000000004,0,0]
[null,null,null,"2022-07-12",{"$f":"IF(D98<=G7,S7,0)","v":0.81820000000000004},{"$f":"IF(AND(D98>=F8,D98<=G8),S8,0)","v":0},{"$f":"IF(AND(D98>=F9,D98<=G9),S9,0)","v":0},{"$f":"IF(AND(D98>=F10,D98<=G10),S10,0)","v":0},{"$f":"IF(AND(D98>=F11,D98<=G11),S11,0)","v":0},{"$f":"IF(AND(D98>=F12,D98<=G12),S12,0)","v":0},{"$f":"IF(AND(D98>=F13,D98<=G13),S13,0)","v":0},{"$f":"IF(AND(D98>=F14,D98<=G14),S14,0)","v":0},{"$f":"IF(AND(D98>=F15,D98<=G15),S15,0)","v":0},{"$f":"IF(AND(D98>=F16,D98<=G16),S16,0)","v":0},0.81820000000000004,0.81820000000000004,0,0]
[null,null,null,"2022-07-13",{"$f":"IF(D99<=G7,S7,0)","v":0.81820000000000004},{"$f":"IF(AND(D99>=F8,D99<=G8),S8,0)","v":0},{"$f":"IF(AND(D99>=F9,D99<=G9),S9,0)","v":0},{"$f":"IF(AND(D99>=F10,D99<=G10),S10,0)","v":0},{"$f":"IF(AND(D99>=F11,D99<=G11),S11,0)","v":0},{"$f":"IF(AND(D99>=F12,D99<=G12),S12,0)","v":0},{"$f":"IF(AND(D99>=F13,D99<=G13),S13,0)","v":0},{"$f":"IF(AND(D99>=F14,D99<=G14),S14,0)","v":0},{"$f":"IF(AND(D99>=F15,D99<=G15),S15,0)","v":0},{"$f":"IF(AND(D99>=F16,D99<=G16),S16,0)","v":0},0.81820000000000004,0.81820000000000004,0,0]
[null,null,null,"2022-07-14",{"$f":"IF(D100<=G7,S7,0)","v":0.81820000000000004},{"$f":"IF(AND(D100>=F8,D100<=G8),S8,0)","v":0},{"$f":"IF(AND(D100>=F9,D100<=G9),S9,0)","v":0},{"$f":"IF(AND(D100>=F10,D100<=G10),S10,0)","v":0},{"$f":"IF(AND(D100>=F11,D100<=G11),S11,0)","v":0},{"$f":"IF(AND(D100>=F12,D100<=G12),S12,0)","v":0},{"$f":"IF(AND(D100>=F13,D100<=G13),S13,0)","v":0},{"$f":"IF(AND(D100>=F14,D100<=G14),S14,0)","v":0},{"$f":"IF(AND(D100>=F15,D100<=G15),S15,0)","v":0},{"$f":"IF(AND(D100>=F16,D100<=G16),S16,0)","v":0},0.81820000000000004,0.81820000000000004,0,0]
[null,null,null,"2022-07-15",{"$f":"IF(D101<=G7,S7,0)","v":0.81820000000000004},{"$f":"IF(AND(D101>=F8,D101<=G8),S8,0)","v":0},{"$f":"IF(AND(D101>=F9,D101<=G9),S9,0)","v":0},{"$f":"IF(AND(D101>=F10,D101<=G10),S10,0)","v":0},{"$f":"IF(AND(D101>=F11,D101<=G11),S11,0)","v":0},{"$f":"IF(AND(D101>=F12,D101<=G12),S12,0)","v":0},{"$f":"IF(AND(D101>=F13,D101<=G13),S13,0)","v":0},{"$f":"IF(AND(D101>=F14,D101<=G14),S14,0)","v":0},{"$f":"IF(AND(D101>=F15,D101<=G15),S15,0)","v":0},{"$f":"IF(AND(D101>=F16,D101<=G16),S16,0)","v":0},0.81820000000000004,0.81820000000000004,0,0]
[null,null,null,"2022-07-16",{"$f":"IF(D102<=G7,S7,0)","v":0.81820000000000004},{"$f":"IF(AND(D102>=F8,D102<=G8),S8,0)","v":0},{"$f":"IF(AND(D102>=F9,D102<=G9),S9,0)","v":0},{"$f":"IF(AND(D102>=F10,D102<=G10),S10,0)","v":0},{"$f":"IF(AND(D102>=F11,D102<=G11),S11,0)","v":0},{"$f":"IF(AND(D102>=F12,D102<=G12),S12,0)","v":0},{"$f":"IF(AND(D102>=F13,D102<=G13),S13,0)","v":0},{"$f":"IF(AND(D102>=F14,D102<=G14),S14,0)","v":0},{"$f":"IF(AND(D102>=F15,D102<=G15),S15,0)","v":0},{"$f":"IF(AND(D102>=F16,D102<=G16),S16,0)","v":0},0.81820000000000004,0.81820000000000004,0,0]
[null,null,null,"2022-07-17",{"$f":"IF(D103<=G7,S7,0)","v":0.81820000000000004},{"$f":"IF(AND(D103>=F8,D103<=G8),S8,0)","v":0},{"$f":"IF(AND(D103>=F9,D103<=G9),S9,0)","v":0},{"$f":"IF(AND(D103>=F10,D103<=G10),S10,0)","v":0},{"$f":"IF(AND(D103>=F11,D103<=G11),S11,0)","v":0},{"$f":"IF(AND(D103>=F12,D103<=G12),S12,0)","v":0},{"$f":"IF(AND(D103>=F13,D103<=G13),S13,0)","v":0},{"$f":"IF(AND(D103>=F14,D103<=G14),S14,0)","v":0},{"$f":"IF(AND(D103>=F15,D103<=G15),S15,0)","v":0},{"$f":"IF(AND(D103>=F16,D103<=G16),S16,0)","v":0},0.81820000000000004,0.81820000000000004,0,0]
[null,null,null,"2022-07-18",{"$f":"IF(D104<=G7,S7,0)","v":0.81820000000000004},{"$f":"IF(AND(D104>=F8,D104<=G8),S8,0)","v":0},{"$f":"IF(AND(D104>=F9,D104<=G9),S9,0)","v":0},{"$f":"IF(AND(D104>=F10,D104<=G10),S10,0)","v":0},{"$f":"IF(AND(D104>=F11,D104<=G11),S11,0)","v":0},{"$f":"IF(AND(D104>=F12,D104<=G12),S12,0)","v":0},{"$f":"IF(AND(D104>=F13,D104<=G13),S13,0)","v":0},{"$f":"IF(AND(D104>=F14,D104<=G14),S14,0)","v":0},{"$f":"IF(AND(D104>=F15,D104<=G15),S15,0)","v":0},{"$f":"IF(AND(D104>=F16,D104<=G16),S16,0)","v":0},0.81820000000000004,0.81820000000000004,0,0]
[null,null,null,"2022-07-19",{"$f":"IF(D105<=G7,S7,0)","v":0.81820000000000004},{"$f":"IF(AND(D105>=F8,D105<=G8),S8,0)","v":0},{"$f":"IF(AND(D105>=F9,D105<=G9),S9,0)","v":0},{"$f":"IF(AND(D105>=F10,D105<=G10),S10,0)","v":0},{"$f":"IF(AND(D105>=F11,D105<=G11),S11,0)","v":0},{"$f":"IF(AND(D105>=F12,D105<=G12),S12,0)","v":0},{"$f":"IF(AND(D105>=F13,D105<=G13),S13,0)","v":0},{"$f":"IF(AND(D105>=F14,D105<=G14),S14,0)","v":0},{"$f":"IF(AND(D105>=F15,D105<=G15),S15,0)","v":0},{"$f":"IF(AND(D105>=F16,D105<=G16),S16,0)","v":0},0.81820000000000004,0.81820000000000004,0,0]
[null,null,null,"2022-07-20",{"$f":"IF(D106<=G7,S7,0)","v":0.81820000000000004},{"$f":"IF(AND(D106>=F8,D106<=G8),S8,0)","v":0},{"$f":"IF(AND(D106>=F9,D106<=G9),S9,0)","v":0},{"$f":"IF(AND(D106>=F10,D106<=G10),S10,0)","v":0},{"$f":"IF(AND(D106>=F11,D106<=G11),S11,0)","v":0},{"$f":"IF(AND(D106>=F12,D106<=G12),S12,0)","v":0},{"$f":"IF(AND(D106>=F13,D106<=G13),S13,0)","v":0},{"$f":"IF(AND(D106>=F14,D106<=G14),S14,0)","v":0},{"$f":"IF(AND(D106>=F15,D106<=G15),S15,0)","v":0},{"$f":"IF(AND(D106>=F16,D106<=G16),S16,0)","v":0},0.81820000000000004,0.81820000000000004,0,0]
[null,null,null,"2022-07-21",{"$f":"IF(D107<=G7,S7,0)","v":0.81820000000000004},{"$f":"IF(AND(D107>=F8,D107<=G8),S8,0)","v":0},{"$f":"IF(AND(D107>=F9,D107<=G9),S9,0)","v":0},{"$f":"IF(AND(D107>=F10,D107<=G10),S10,0)","v":0},{"$f":"IF(AND(D107>=F11,D107<=G11),S11,0)","v":0},{"$f":"IF(AND(D107>=F12,D107<=G12),S12,0)","v":0},{"$f":"IF(AND(D107>=F13,D107<=G13),S13,0)","v":0},{"$f":"IF(AND(D107>=F14,D107<=G14),S14,0)","v":0},{"$f":"IF(AND(D107>=F15,D107<=G15),S15,0)","v":0},{"$f":"IF(AND(D107>=F16,D107<=G16),S16,0)","v":0},0.81820000000000004,0.81820000000000004,0,0]
[null,null,null,"2022-07-22",{"$f":"IF(D108<=G7,S7,0)","v":0.81820000000000004},{"$f":"IF(AND(D108>=F8,D108<=G8),S8,0)","v":0},{"$f":"IF(AND(D108>=F9,D108<=G9),S9,0)","v":0},{"$f":"IF(AND(D108>=F10,D108<=G10),S10,0)","v":0},{"$f":"IF(AND(D108>=F11,D108<=G11),S11,0)","v":0},{"$f":"IF(AND(D108>=F12,D108<=G12),S12,0)","v":0},{"$f":"IF(AND(D108>=F13,D108<=G13),S13,0)","v":0},{"$f":"IF(AND(D108>=F14,D108<=G14),S14,0)","v":0},{"$f":"IF(AND(D108>=F15,D108<=G15),S15,0)","v":0},{"$f":"IF(AND(D108>=F16,D108<=G16),S16,0)","v":0},0.81820000000000004,0.81820000000000004,0,0]
[null,null,null,"2022-07-23",{"$f":"IF(D109<=G7,S7,0)","v":0.81820000000000004},{"$f":"IF(AND(D109>=F8,D109<=G8),S8,0)","v":0},{"$f":"IF(AND(D109>=F9,D109<=G9),S9,0)","v":0},{"$f":"IF(AND(D109>=F10,D109<=G10),S10,0)","v":0},{"$f":"IF(AND(D109>=F11,D109<=G11),S11,0)","v":0},{"$f":"IF(AND(D109>=F12,D109<=G12),S12,0)","v":0},{"$f":"IF(AND(D109>=F13,D109<=G13),S13,0)","v":0},{"$f":"IF(AND(D109>=F14,D109<=G14),S14,0)","v":0},{"$f":"IF(AND(D109>=F15,D109<=G15),S15,0)","v":0},{"$f":"IF(AND(D109>=F16,D109<=G16),S16,0)","v":0},0.81820000000000004,0.81820000000000004,0,0]
[null,null,null,"2022-07-24",{"$f":"IF(D110<=G7,S7,0)","v":0.81820000000000004},{"$f":"IF(AND(D110>=F8,D110<=G8),S8,0)","v":0},{"$f":"IF(AND(D110>=F9,D110<=G9),S9,0)","v":0},{"$f":"IF(AND(D110>=F10,D110<=G10),S10,0)","v":0},{"$f":"IF(AND(D110>=F11,D110<=G11),S11,0)","v":0},{"$f":"IF(AND(D110>=F12,D110<=G12),S12,0)","v":0},{"$f":"IF(AND(D110>=F13,D110<=G13),S13,0)","v":0},{"$f":"IF(AND(D110>=F14,D110<=G14),S14,0)","v":0},{"$f":"IF(AND(D110>=F15,D110<=G15),S15,0)","v":0},{"$f":"IF(AND(D110>=F16,D110<=G16),S16,0)","v":0},0.81820000000000004,0.81820000000000004,0,0]
[null,null,null,"2022-07-25",{"$f":"IF(D111<=G7,S7,0)","v":0.81820000000000004},{"$f":"IF(AND(D111>=F8,D111<=G8),S8,0)","v":0},{"$f":"IF(AND(D111>=F9,D111<=G9),S9,0)","v":0},{"$f":"IF(AND(D111>=F10,D111<=G10),S10,0)","v":0},{"$f":"IF(AND(D111>=F11,D111<=G11),S11,0)","v":0},{"$f":"IF(AND(D111>=F12,D111<=G12),S12,0)","v":0},{"$f":"IF(AND(D111>=F13,D111<=G13),S13,0)","v":0},{"$f":"IF(AND(D111>=F14,D111<=G14),S14,0)","v":0},{"$f":"IF(AND(D111>=F15,D111<=G15),S15,0)","v":0},{"$f":"IF(AND(D111>=F16,D111<=G16),S16,0)","v":0},0.81820000000000004,0.81820000000000004,0,0]
[null,null,null,"2022-07-26",{"$f":"IF(D112<=G7,S7,0)","v":0.81820000000000004},{"$f":"IF(AND(D112>=F8,D112<=G8),S8,0)","v":0},{"$f":"IF(AND(D112>=F9,D112<=G9),S9,0)","v":0},{"$f":"IF(AND(D112>=F10,D112<=G10),S10,0)","v":0},{"$f":"IF(AND(D112>=F11,D112<=G11),S11,0)","v":0},{"$f":"IF(AND(D112>=F12,D112<=G12),S12,0)","v":0},{"$f":"IF(AND(D112>=F13,D112<=G13),S13,0)","v":0},{"$f":"IF(AND(D112>=F14,D112<=G14),S14,0)","v":0},{"$f":"IF(AND(D112>=F15,D112<=G15),S15,0)","v":0},{"$f":"IF(AND(D112>=F16,D112<=G16),S16,0)","v":0},0.81820000000000004,0.81820000000000004,0,0]
[null,null,null,"2022-07-27",{"$f":"IF(D113<=G7,S7,0)","v":0.81820000000000004},{"$f":"IF(AND(D113>=F8,D113<=G8),S8,0)","v":0},{"$f":"IF(AND(D113>=F9,D113<=G9),S9,0)","v":0},{"$f":"IF(AND(D113>=F10,D113<=G10),S10,0)","v":0},{"$f":"IF(AND(D113>=F11,D113<=G11),S11,0)","v":0},{"$f":"IF(AND(D113>=F12,D113<=G12),S12,0)","v":0},{"$f":"IF(AND(D113>=F13,D113<=G13),S13,0)","v":0},{"$f":"IF(AND(D113>=F14,D113<=G14),S14,0)","v":0},{"$f":"IF(AND(D113>=F15,D113<=G15),S15,0)","v":0},{"$f":"IF(AND(D113>=F16,D113<=G16),S16,0)","v":0},0.81820000000000004,0.81820000000000004,0,0]
[null,null,null,"2022-07-28",{"$f":"IF(D114<=G7,S7,0)","v":0.81820000000000004},{"$f":"IF(AND(D114>=F8,D114<=G8),S8,0)","v":0},{"$f":"IF(AND(D114>=F9,D114<=G9),S9,0)","v":0},{"$f":"IF(AND(D114>=F10,D114<=G10),S10,0)","v":0},{"$f":"IF(AND(D114>=F11,D114<=G11),S11,0)","v":0},{"$f":"IF(AND(D114>=F12,D114<=G12),S12,0)","v":0},{"$f":"IF(AND(D114>=F13,D114<=G13),S13,0)","v":0},{"$f":"IF(AND(D114>=F14,D114<=G14),S14,0)","v":0},{"$f":"IF(AND(D114>=F15,D114<=G15),S15,0)","v":0},{"$f":"IF(AND(D114>=F16,D114<=G16),S16,0)","v":0},0.81820000000000004,0.81820000000000004,0,0]
[null,null,null,"2022-07-29",{"$f":"IF(D115<=G7,S7,0)","v":0.81820000000000004},{"$f":"IF(AND(D115>=F8,D115<=G8),S8,0)","v":0},{"$f":"IF(AND(D115>=F9,D115<=G9),S9,0)","v":0},{"$f":"IF(AND(D115>=F10,D115<=G10),S10,0)","v":0},{"$f":"IF(AND(D115>=F11,D115<=G11),S11,0)","v":0},{"$f":"IF(AND(D115>=F12,D115<=G12),S12,0)","v":0},{"$f":"IF(AND(D115>=F13,D115<=G13),S13,0)","v":0},{"$f":"IF(AND(D115>=F14,D115<=G14),S14,0)","v":0},{"$f":"IF(AND(D115>=F15,D115<=G15),S15,0)","v":0},{"$f":"IF(AND(D115>=F16,D115<=G16),S16,0)","v":0},0.81820000000000004,{"$f":"IF(O115>=1,1,O115)","v":0.81820000000000004},0,0]
[null,null,null,{"$f":"IF(DAY(D115)+1=31, D115+2, D115+1)","v":"2022-07-30"},{"$f":"IF(D116<=G7,S7,0)","v":0.81820000000000004},{"$f":"IF(AND(D116>=F8,D116<=G8),S8,0)","v":0},{"$f":"IF(AND(D116>=F9,D116<=G9),S9,0)","v":0},{"$f":"IF(AND(D116>=F10,D116<=G10),S10,0)","v":0},{"$f":"IF(AND(D116>=F11,D116<=G11),S11,0)","v":0},{"$f":"IF(AND(D116>=F12,D116<=G12),S12,0)","v":0},{"$f":"IF(AND(D116>=F13,D116<=G13),S13,0)","v":0},{"$f":"IF(AND(D116>=F14,D116<=G14),S14,0)","v":0},{"$f":"IF(AND(D116>=F15,D116<=G15),S15,0)","v":0},{"$f":"IF(AND(D116>=F16,D116<=G16),S16,0)","v":0},{"$f":"SUM(E116:N116)","v":0.81820000000000004},0.81820000000000004,0,0]
[null,null,null,"2022-08-01",{"$f":"IF(D117<=G7,S7,0)","v":0.81820000000000004},{"$f":"IF(AND(D117>=F8,D117<=G8),S8,0)","v":0},{"$f":"IF(AND(D117>=F9,D117<=G9),S9,0)","v":0},{"$f":"IF(AND(D117>=F10,D117<=G10),S10,0)","v":0},{"$f":"IF(AND(D117>=F11,D117<=G11),S11,0)","v":0},{"$f":"IF(AND(D117>=F12,D117<=G12),S12,0)","v":0},{"$f":"IF(AND(D117>=F13,D117<=G13),S13,0)","v":0},{"$f":"IF(AND(D117>=F14,D117<=G14),S14,0)","v":0},{"$f":"IF(AND(D117>=F15,D117<=G15),S15,0)","v":0},{"$f":"IF(AND(D117>=F16,D117<=G16),S16,0)","v":0},0.81820000000000004,0.81820000000000004,{"$f":"IF(P116=P117,0,1)","v":0},{"$f":"SUM(Q116,R116)","v":0}]
[null,null,null,"2022-08-02",{"$f":"IF(D118<=G7,S7,0)","v":0.81820000000000004},{"$f":"IF(AND(D118>=F8,D118<=G8),S8,0)","v":0},{"$f":"IF(AND(D118>=F9,D118<=G9),S9,0)","v":0},{"$f":"IF(AND(D118>=F10,D118<=G10),S10,0)","v":0},{"$f":"IF(AND(D118>=F11,D118<=G11),S11,0)","v":0},{"$f":"IF(AND(D118>=F12,D118<=G12),S12,0)","v":0},{"$f":"IF(AND(D118>=F13,D118<=G13),S13,0)","v":0},{"$f":"IF(AND(D118>=F14,D118<=G14),S14,0)","v":0},{"$f":"IF(AND(D118>=F15,D118<=G15),S15,0)","v":0},{"$f":"IF(AND(D118>=F16,D118<=G16),S16,0)","v":0},0.81820000000000004,0.81820000000000004,0,0]
[null,null,null,"2022-08-03",{"$f":"IF(D119<=G7,S7,0)","v":0.81820000000000004},{"$f":"IF(AND(D119>=F8,D119<=G8),S8,0)","v":0},{"$f":"IF(AND(D119>=F9,D119<=G9),S9,0)","v":0},{"$f":"IF(AND(D119>=F10,D119<=G10),S10,0)","v":0},{"$f":"IF(AND(D119>=F11,D119<=G11),S11,0)","v":0},{"$f":"IF(AND(D119>=F12,D119<=G12),S12,0)","v":0},{"$f":"IF(AND(D119>=F13,D119<=G13),S13,0)","v":0},{"$f":"IF(AND(D119>=F14,D119<=G14),S14,0)","v":0},{"$f":"IF(AND(D119>=F15,D119<=G15),S15,0)","v":0},{"$f":"IF(AND(D119>=F16,D119<=G16),S16,0)","v":0},0.81820000000000004,0.81820000000000004,0,0]
[null,null,null,"2022-08-04",{"$f":"IF(D120<=G7,S7,0)","v":0.81820000000000004},{"$f":"IF(AND(D120>=F8,D120<=G8),S8,0)","v":0},{"$f":"IF(AND(D120>=F9,D120<=G9),S9,0)","v":0},{"$f":"IF(AND(D120>=F10,D120<=G10),S10,0)","v":0},{"$f":"IF(AND(D120>=F11,D120<=G11),S11,0)","v":0},{"$f":"IF(AND(D120>=F12,D120<=G12),S12,0)","v":0},{"$f":"IF(AND(D120>=F13,D120<=G13),S13,0)","v":0},{"$f":"IF(AND(D120>=F14,D120<=G14),S14,0)","v":0},{"$f":"IF(AND(D120>=F15,D120<=G15),S15,0)","v":0},{"$f":"IF(AND(D120>=F16,D120<=G16),S16,0)","v":0},0.81820000000000004,0.81820000000000004,0,0]
[null,null,null,"2022-08-05",{"$f":"IF(D121<=G7,S7,0)","v":0.81820000000000004},{"$f":"IF(AND(D121>=F8,D121<=G8),S8,0)","v":0},{"$f":"IF(AND(D121>=F9,D121<=G9),S9,0)","v":0},{"$f":"IF(AND(D121>=F10,D121<=G10),S10,0)","v":0},{"$f":"IF(AND(D121>=F11,D121<=G11),S11,0)","v":0},{"$f":"IF(AND(D121>=F12,D121<=G12),S12,0)","v":0},{"$f":"IF(AND(D121>=F13,D121<=G13),S13,0)","v":0},{"$f":"IF(AND(D121>=F14,D121<=G14),S14,0)","v":0},{"$f":"IF(AND(D121>=F15,D121<=G15),S15,0)","v":0},{"$f":"IF(AND(D121>=F16,D121<=G16),S16,0)","v":0},0.81820000000000004,0.81820000000000004,0,0]
[null,null,null,"2022-08-06",{"$f":"IF(D122<=G7,S7,0)","v":0.81820000000000004},{"$f":"IF(AND(D122>=F8,D122<=G8),S8,0)","v":0},{"$f":"IF(AND(D122>=F9,D122<=G9),S9,0)","v":0},{"$f":"IF(AND(D122>=F10,D122<=G10),S10,0)","v":0},{"$f":"IF(AND(D122>=F11,D122<=G11),S11,0)","v":0},{"$f":"IF(AND(D122>=F12,D122<=G12),S12,0)","v":0},{"$f":"IF(AND(D122>=F13,D122<=G13),S13,0)","v":0},{"$f":"IF(AND(D122>=F14,D122<=G14),S14,0)","v":0},{"$f":"IF(AND(D122>=F15,D122<=G15),S15,0)","v":0},{"$f":"IF(AND(D122>=F16,D122<=G16),S16,0)","v":0},0.81820000000000004,0.81820000000000004,0,0]
[null,null,null,"2022-08-07",{"$f":"IF(D123<=G7,S7,0)","v":0.81820000000000004},{"$f":"IF(AND(D123>=F8,D123<=G8),S8,0)","v":0},{"$f":"IF(AND(D123>=F9,D123<=G9),S9,0)","v":0},{"$f":"IF(AND(D123>=F10,D123<=G10),S10,0)","v":0},{"$f":"IF(AND(D123>=F11,D123<=G11),S11,0)","v":0},{"$f":"IF(AND(D123>=F12,D123<=G12),S12,0)","v":0},{"$f":"IF(AND(D123>=F13,D123<=G13),S13,0)","v":0},{"$f":"IF(AND(D123>=F14,D123<=G14),S14,0)","v":0},{"$f":"IF(AND(D123>=F15,D123<=G15),S15,0)","v":0},{"$f":"IF(AND(D123>=F16,D123<=G16),S16,0)","v":0},0.81820000000000004,0.81820000000000004,0,0]
[null,null,null,"2022-08-08",{"$f":"IF(D124<=G7,S7,0)","v":0.81820000000000004},{"$f":"IF(AND(D124>=F8,D124<=G8),S8,0)","v":0},{"$f":"IF(AND(D124>=F9,D124<=G9),S9,0)","v":0},{"$f":"IF(AND(D124>=F10,D124<=G10),S10,0)","v":0},{"$f":"IF(AND(D124>=F11,D124<=G11),S11,0)","v":0},{"$f":"IF(AND(D124>=F12,D124<=G12),S12,0)","v":0},{"$f":"IF(AND(D124>=F13,D124<=G13),S13,0)","v":0},{"$f":"IF(AND(D124>=F14,D124<=G14),S14,0)","v":0},{"$f":"IF(AND(D124>=F15,D124<=G15),S15,0)","v":0},{"$f":"IF(AND(D124>=F16,D124<=G16),S16,0)","v":0},0.81820000000000004,0.81820000000000004,0,0]
[null,null,null,"2022-08-09",{"$f":"IF(D125<=G7,S7,0)","v":0},{"$f":"IF(AND(D125>=F8,D125<=G8),S8,0)","v":0},{"$f":"IF(AND(D125>=F9,D125<=G9),S9,0)","v":0},{"$f":"IF(AND(D125>=F10,D125<=G10),S10,0)","v":0},{"$f":"IF(AND(D125>=F11,D125<=G11),S11,0)","v":0},{"$f":"IF(AND(D125>=F12,D125<=G12),S12,0)","v":0},{"$f":"IF(AND(D125>=F13,D125<=G13),S13,0)","v":0},{"$f":"IF(AND(D125>=F14,D125<=G14),S14,0)","v":0},{"$f":"IF(AND(D125>=F15,D125<=G15),S15,0)","v":0},{"$f":"IF(AND(D125>=F16,D125<=G16),S16,0)","v":0},0,0,1,0]
[null,null,null,"2022-08-10",{"$f":"IF(D126<=G7,S7,0)","v":0},{"$f":"IF(AND(D126>=F8,D126<=G8),S8,0)","v":0},{"$f":"IF(AND(D126>=F9,D126<=G9),S9,0)","v":0},{"$f":"IF(AND(D126>=F10,D126<=G10),S10,0)","v":0},{"$f":"IF(AND(D126>=F11,D126<=G11),S11,0)","v":0},{"$f":"IF(AND(D126>=F12,D126<=G12),S12,0)","v":0},{"$f":"IF(AND(D126>=F13,D126<=G13),S13,0)","v":0},{"$f":"IF(AND(D126>=F14,D126<=G14),S14,0)","v":0},{"$f":"IF(AND(D126>=F15,D126<=G15),S15,0)","v":0},{"$f":"IF(AND(D126>=F16,D126<=G16),S16,0)","v":0},0,0,0,1]
[null,null,null,"2022-08-11",{"$f":"IF(D127<=G7,S7,0)","v":0},{"$f":"IF(AND(D127>=F8,D127<=G8),S8,0)","v":0},{"$f":"IF(AND(D127>=F9,D127<=G9),S9,0)","v":0},{"$f":"IF(AND(D127>=F10,D127<=G10),S10,0)","v":0},{"$f":"IF(AND(D127>=F11,D127<=G11),S11,0)","v":0},{"$f":"IF(AND(D127>=F12,D127<=G12),S12,0)","v":0},{"$f":"IF(AND(D127>=F13,D127<=G13),S13,0)","v":0},{"$f":"IF(AND(D127>=F14,D127<=G14),S14,0)","v":0},{"$f":"IF(AND(D127>=F15,D127<=G15),S15,0)","v":0},{"$f":"IF(AND(D127>=F16,D127<=G16),S16,0)","v":0},0,0,0,1]
[null,null,null,"2022-08-12",{"$f":"IF(D128<=G7,S7,0)","v":0},{"$f":"IF(AND(D128>=F8,D128<=G8),S8,0)","v":0},{"$f":"IF(AND(D128>=F9,D128<=G9),S9,0)","v":0},{"$f":"IF(AND(D128>=F10,D128<=G10),S10,0)","v":0},{"$f":"IF(AND(D128>=F11,D128<=G11),S11,0)","v":0},{"$f":"IF(AND(D128>=F12,D128<=G12),S12,0)","v":0},{"$f":"IF(AND(D128>=F13,D128<=G13),S13,0)","v":0},{"$f":"IF(AND(D128>=F14,D128<=G14),S14,0)","v":0},{"$f":"IF(AND(D128>=F15,D128<=G15),S15,0)","v":0},{"$f":"IF(AND(D128>=F16,D128<=G16),S16,0)","v":0},0,0,0,1]
[null,null,null,"2022-08-13",{"$f":"IF(D129<=G7,S7,0)","v":0},{"$f":"IF(AND(D129>=F8,D129<=G8),S8,0)","v":0},{"$f":"IF(AND(D129>=F9,D129<=G9),S9,0)","v":0},{"$f":"IF(AND(D129>=F10,D129<=G10),S10,0)","v":0},{"$f":"IF(AND(D129>=F11,D129<=G11),S11,0)","v":0},{"$f":"IF(AND(D129>=F12,D129<=G12),S12,0)","v":0},{"$f":"IF(AND(D129>=F13,D129<=G13),S13,0)","v":0},{"$f":"IF(AND(D129>=F14,D129<=G14),S14,0)","v":0},{"$f":"IF(AND(D129>=F15,D129<=G15),S15,0)","v":0},{"$f":"IF(AND(D129>=F16,D129<=G16),S16,0)","v":0},0,0,0,1]
[null,null,null,"2022-08-14",{"$f":"IF(D130<=G7,S7,0)","v":0},{"$f":"IF(AND(D130>=F8,D130<=G8),S8,0)","v":0},{"$f":"IF(AND(D130>=F9,D130<=G9),S9,0)","v":0},{"$f":"IF(AND(D130>=F10,D130<=G10),S10,0)","v":0},{"$f":"IF(AND(D130>=F11,D130<=G11),S11,0)","v":0},{"$f":"IF(AND(D130>=F12,D130<=G12),S12,0)","v":0},{"$f":"IF(AND(D130>=F13,D130<=G13),S13,0)","v":0},{"$f":"IF(AND(D130>=F14,D130<=G14),S14,0)","v":0},{"$f":"IF(AND(D130>=F15,D130<=G15),S15,0)","v":0},{"$f":"IF(AND(D130>=F16,D130<=G16),S16,0)","v":0},0,0,0,1]
[null,null,null,"2022-08-15",{"$f":"IF(D131<=G7,S7,0)","v":0},{"$f":"IF(AND(D131>=F8,D131<=G8),S8,0)","v":0},{"$f":"IF(AND(D131>=F9,D131<=G9),S9,0)","v":0},{"$f":"IF(AND(D131>=F10,D131<=G10),S10,0)","v":0},{"$f":"IF(AND(D131>=F11,D131<=G11),S11,0)","v":0},{"$f":"IF(AND(D131>=F12,D131<=G12),S12,0)","v":0},{"$f":"IF(AND(D131>=F13,D131<=G13),S13,0)","v":0},{"$f":"IF(AND(D131>=F14,D131<=G14),S14,0)","v":0},{"$f":"IF(AND(D131>=F15,D131<=G15),S15,0)","v":0},{"$f":"IF(AND(D131>=F16,D131<=G16),S16,0)","v":0},0,0,0,1]
[null,null,null,"2022-08-16",{"$f":"IF(D132<=G7,S7,0)","v":0},{"$f":"IF(AND(D132>=F8,D132<=G8),S8,0)","v":0},{"$f":"IF(AND(D132>=F9,D132<=G9),S9,0)","v":0},{"$f":"IF(AND(D132>=F10,D132<=G10),S10,0)","v":0},{"$f":"IF(AND(D132>=F11,D132<=G11),S11,0)","v":0},{"$f":"IF(AND(D132>=F12,D132<=G12),S12,0)","v":0},{"$f":"IF(AND(D132>=F13,D132<=G13),S13,0)","v":0},{"$f":"IF(AND(D132>=F14,D132<=G14),S14,0)","v":0},{"$f":"IF(AND(D132>=F15,D132<=G15),S15,0)","v":0},{"$f":"IF(AND(D132>=F16,D132<=G16),S16,0)","v":0},0,0,0,1]
[null,null,null,"2022-08-17",{"$f":"IF(D133<=G7,S7,0)","v":0},{"$f":"IF(AND(D133>=F8,D133<=G8),S8,0)","v":0},{"$f":"IF(AND(D133>=F9,D133<=G9),S9,0)","v":0},{"$f":"IF(AND(D133>=F10,D133<=G10),S10,0)","v":0},{"$f":"IF(AND(D133>=F11,D133<=G11),S11,0)","v":0},{"$f":"IF(AND(D133>=F12,D133<=G12),S12,0)","v":0},{"$f":"IF(AND(D133>=F13,D133<=G13),S13,0)","v":0},{"$f":"IF(AND(D133>=F14,D133<=G14),S14,0)","v":0},{"$f":"IF(AND(D133>=F15,D133<=G15),S15,0)","v":0},{"$f":"IF(AND(D133>=F16,D133<=G16),S16,0)","v":0},0,0,0,1]
[null,null,null,"2022-08-18",{"$f":"IF(D134<=G7,S7,0)","v":0},{"$f":"IF(AND(D134>=F8,D134<=G8),S8,0)","v":0},{"$f":"IF(AND(D134>=F9,D134<=G9),S9,0)","v":0},{"$f":"IF(AND(D134>=F10,D134<=G10),S10,0)","v":0},{"$f":"IF(AND(D134>=F11,D134<=G11),S11,0)","v":0},{"$f":"IF(AND(D134>=F12,D134<=G12),S12,0)","v":0},{"$f":"IF(AND(D134>=F13,D134<=G13),S13,0)","v":0},{"$f":"IF(AND(D134>=F14,D134<=G14),S14,0)","v":0},{"$f":"IF(AND(D134>=F15,D134<=G15),S15,0)","v":0},{"$f":"IF(AND(D134>=F16,D134<=G16),S16,0)","v":0},0,0,0,1]
[null,null,null,"2022-08-19",{"$f":"IF(D135<=G7,S7,0)","v":0},{"$f":"IF(AND(D135>=F8,D135<=G8),S8,0)","v":0},{"$f":"IF(AND(D135>=F9,D135<=G9),S9,0)","v":0},{"$f":"IF(AND(D135>=F10,D135<=G10),S10,0)","v":0},{"$f":"IF(AND(D135>=F11,D135<=G11),S11,0)","v":0},{"$f":"IF(AND(D135>=F12,D135<=G12),S12,0)","v":0},{"$f":"IF(AND(D135>=F13,D135<=G13),S13,0)","v":0},{"$f":"IF(AND(D135>=F14,D135<=G14),S14,0)","v":0},{"$f":"IF(AND(D135>=F15,D135<=G15),S15,0)","v":0},{"$f":"IF(AND(D135>=F16,D135<=G16),S16,0)","v":0},0,0,0,1]
[null,null,null,"2022-08-20",{"$f":"IF(D136<=G7,S7,0)","v":0},{"$f":"IF(AND(D136>=F8,D136<=G8),S8,0)","v":0},{"$f":"IF(AND(D136>=F9,D136<=G9),S9,0)","v":0},{"$f":"IF(AND(D136>=F10,D136<=G10),S10,0)","v":0},{"$f":"IF(AND(D136>=F11,D136<=G11),S11,0)","v":0},{"$f":"IF(AND(D136>=F12,D136<=G12),S12,0)","v":0},{"$f":"IF(AND(D136>=F13,D136<=G13),S13,0)","v":0},{"$f":"IF(AND(D136>=F14,D136<=G14),S14,0)","v":0},{"$f":"IF(AND(D136>=F15,D136<=G15),S15,0)","v":0},{"$f":"IF(AND(D136>=F16,D136<=G16),S16,0)","v":0},0,0,0,1]
[null,null,null,"2022-08-21",{"$f":"IF(D137<=G7,S7,0)","v":0},{"$f":"IF(AND(D137>=F8,D137<=G8),S8,0)","v":0},{"$f":"IF(AND(D137>=F9,D137<=G9),S9,0)","v":0},{"$f":"IF(AND(D137>=F10,D137<=G10),S10,0)","v":0},{"$f":"IF(AND(D137>=F11,D137<=G11),S11,0)","v":0},{"$f":"IF(AND(D137>=F12,D137<=G12),S12,0)","v":0},{"$f":"IF(AND(D137>=F13,D137<=G13),S13,0)","v":0},{"$f":"IF(AND(D137>=F14,D137<=G14),S14,0)","v":0},{"$f":"IF(AND(D137>=F15,D137<=G15),S15,0)","v":0},{"$f":"IF(AND(D137>=F16,D137<=G16),S16,0)","v":0},0,0,0,1]
[null,null,null,"2022-08-22",{"$f":"IF(D138<=G7,S7,0)","v":0},{"$f":"IF(AND(D138>=F8,D138<=G8),S8,0)","v":0},{"$f":"IF(AND(D138>=F9,D138<=G9),S9,0)","v":0},{"$f":"IF(AND(D138>=F10,D138<=G10),S10,0)","v":0},{"$f":"IF(AND(D138>=F11,D138<=G11),S11,0)","v":0},{"$f":"IF(AND(D138>=F12,D138<=G12),S12,0)","v":0},{"$f":"IF(AND(D138>=F13,D138<=G13),S13,0)","v":0},{"$f":"IF(AND(D138>=F14,D138<=G14),S14,0)","v":0},{"$f":"IF(AND(D138>=F15,D138<=G15),S15,0)","v":0},{"$f":"IF(AND(D138>=F16,D138<=G16),S16,0)","v":0},0,0,0,1]
[null,null,null,"2022-08-23",{"$f":"IF(D139<=G7,S7,0)","v":0},{"$f":"IF(AND(D139>=F8,D139<=G8),S8,0)","v":0},{"$f":"IF(AND(D139>=F9,D139<=G9),S9,0)","v":0},{"$f":"IF(AND(D139>=F10,D139<=G10),S10,0)","v":0},{"$f":"IF(AND(D139>=F11,D139<=G11),S11,0)","v":0},{"$f":"IF(AND(D139>=F12,D139<=G12),S12,0)","v":0},{"$f":"IF(AND(D139>=F13,D139<=G13),S13,0)","v":0},{"$f":"IF(AND(D139>=F14,D139<=G14),S14,0)","v":0},{"$f":"IF(AND(D139>=F15,D139<=G15),S15,0)","v":0},{"$f":"IF(AND(D139>=F16,D139<=G16),S16,0)","v":0},0,0,0,1]
[null,null,null,"2022-08-24",{"$f":"IF(D140<=G7,S7,0)","v":0},{"$f":"IF(AND(D140>=F8,D140<=G8),S8,0)","v":0},{"$f":"IF(AND(D140>=F9,D140<=G9),S9,0)","v":0},{"$f":"IF(AND(D140>=F10,D140<=G10),S10,0)","v":0},{"$f":"IF(AND(D140>=F11,D140<=G11),S11,0)","v":0},{"$f":"IF(AND(D140>=F12,D140<=G12),S12,0)","v":0},{"$f":"IF(AND(D140>=F13,D140<=G13),S13,0)","v":0},{"$f":"IF(AND(D140>=F14,D140<=G14),S14,0)","v":0},{"$f":"IF(AND(D140>=F15,D140<=G15),S15,0)","v":0},{"$f":"IF(AND(D140>=F16,D140<=G16),S16,0)","v":0},0,0,0,1]
[null,null,null,"2022-08-25",{"$f":"IF(D141<=G7,S7,0)","v":0},{"$f":"IF(AND(D141>=F8,D141<=G8),S8,0)","v":0},{"$f":"IF(AND(D141>=F9,D141<=G9),S9,0)","v":0},{"$f":"IF(AND(D141>=F10,D141<=G10),S10,0)","v":0},{"$f":"IF(AND(D141>=F11,D141<=G11),S11,0)","v":0},{"$f":"IF(AND(D141>=F12,D141<=G12),S12,0)","v":0},{"$f":"IF(AND(D141>=F13,D141<=G13),S13,0)","v":0},{"$f":"IF(AND(D141>=F14,D141<=G14),S14,0)","v":0},{"$f":"IF(AND(D141>=F15,D141<=G15),S15,0)","v":0},{"$f":"IF(AND(D141>=F16,D141<=G16),S16,0)","v":0},0,0,0,1]
[null,null,null,"2022-08-26",{"$f":"IF(D142<=G7,S7,0)","v":0},{"$f":"IF(AND(D142>=F8,D142<=G8),S8,0)","v":0},{"$f":"IF(AND(D142>=F9,D142<=G9),S9,0)","v":0},{"$f":"IF(AND(D142>=F10,D142<=G10),S10,0)","v":0},{"$f":"IF(AND(D142>=F11,D142<=G11),S11,0)","v":0},{"$f":"IF(AND(D142>=F12,D142<=G12),S12,0)","v":0},{"$f":"IF(AND(D142>=F13,D142<=G13),S13,0)","v":0},{"$f":"IF(AND(D142>=F14,D142<=G14),S14,0)","v":0},{"$f":"IF(AND(D142>=F15,D142<=G15),S15,0)","v":0},{"$f":"IF(AND(D142>=F16,D142<=G16),S16,0)","v":0},0,0,0,1]
[null,null,null,"2022-08-27",{"$f":"IF(D143<=G7,S7,0)","v":0},{"$f":"IF(AND(D143>=F8,D143<=G8),S8,0)","v":0},{"$f":"IF(AND(D143>=F9,D143<=G9),S9,0)","v":0},{"$f":"IF(AND(D143>=F10,D143<=G10),S10,0)","v":0},{"$f":"IF(AND(D143>=F11,D143<=G11),S11,0)","v":0},{"$f":"IF(AND(D143>=F12,D143<=G12),S12,0)","v":0},{"$f":"IF(AND(D143>=F13,D143<=G13),S13,0)","v":0},{"$f":"IF(AND(D143>=F14,D143<=G14),S14,0)","v":0},{"$f":"IF(AND(D143>=F15,D143<=G15),S15,0)","v":0},{"$f":"IF(AND(D143>=F16,D143<=G16),S16,0)","v":0},0,0,0,1]
[null,null,null,"2022-08-28",{"$f":"IF(D144<=G7,S7,0)","v":0},{"$f":"IF(AND(D144>=F8,D144<=G8),S8,0)","v":0},{"$f":"IF(AND(D144>=F9,D144<=G9),S9,0)","v":0},{"$f":"IF(AND(D144>=F10,D144<=G10),S10,0)","v":0},{"$f":"IF(AND(D144>=F11,D144<=G11),S11,0)","v":0},{"$f":"IF(AND(D144>=F12,D144<=G12),S12,0)","v":0},{"$f":"IF(AND(D144>=F13,D144<=G13),S13,0)","v":0},{"$f":"IF(AND(D144>=F14,D144<=G14),S14,0)","v":0},{"$f":"IF(AND(D144>=F15,D144<=G15),S15,0)","v":0},{"$f":"IF(AND(D144>=F16,D144<=G16),S16,0)","v":0},0,0,0,1]
[null,null,null,"2022-08-29",{"$f":"IF(D145<=G7,S7,0)","v":0},{"$f":"IF(AND(D145>=F8,D145<=G8),S8,0)","v":0},{"$f":"IF(AND(D145>=F9,D145<=G9),S9,0)","v":0},{"$f":"IF(AND(D145>=F10,D145<=G10),S10,0)","v":0},{"$f":"IF(AND(D145>=F11,D145<=G11),S11,0)","v":0},{"$f":"IF(AND(D145>=F12,D145<=G12),S12,0)","v":0},{"$f":"IF(AND(D145>=F13,D145<=G13),S13,0)","v":0},{"$f":"IF(AND(D145>=F14,D145<=G14),S14,0)","v":0},{"$f":"IF(AND(D145>=F15,D145<=G15),S15,0)","v":0},{"$f":"IF(AND(D145>=F16,D145<=G16),S16,0)","v":0},0,0,0,1]
[null,null,null,"2022-08-30",{"$f":"IF(D146<=G7,S7,0)","v":0},{"$f":"IF(AND(D146>=F8,D146<=G8),S8,0)","v":0},{"$f":"IF(AND(D146>=F9,D146<=G9),S9,0)","v":0},{"$f":"IF(AND(D146>=F10,D146<=G10),S10,0)","v":0},{"$f":"IF(AND(D146>=F11,D146<=G11),S11,0)","v":0},{"$f":"IF(AND(D146>=F12,D146<=G12),S12,0)","v":0},{"$f":"IF(AND(D146>=F13,D146<=G13),S13,0)","v":0},{"$f":"IF(AND(D146>=F14,D146<=G14),S14,0)","v":0},{"$f":"IF(AND(D146>=F15,D146<=G15),S15,0)","v":0},{"$f":"IF(AND(D146>=F16,D146<=G16),S16,0)","v":0},0,0,0,1]
[null,null,null,"2022-09-01",{"$f":"IF(D147<=G7,S7,0)","v":0},{"$f":"IF(AND(D147>=F8,D147<=G8),S8,0)","v":0},{"$f":"IF(AND(D147>=F9,D147<=G9),S9,0)","v":0},{"$f":"IF(AND(D147>=F10,D147<=G10),S10,0)","v":0},{"$f":"IF(AND(D147>=F11,D147<=G11),S11,0)","v":0},{"$f":"IF(AND(D147>=F12,D147<=G12),S12,0)","v":0},{"$f":"IF(AND(D147>=F13,D147<=G13),S13,0)","v":0},{"$f":"IF(AND(D147>=F14,D147<=G14),S14,0)","v":0},{"$f":"IF(AND(D147>=F15,D147<=G15),S15,0)","v":0},{"$f":"IF(AND(D147>=F16,D147<=G16),S16,0)","v":0},0,0,0,1]
[null,null,null,"2022-09-02",{"$f":"IF(D148<=G7,S7,0)","v":0},{"$f":"IF(AND(D148>=F8,D148<=G8),S8,0)","v":0},{"$f":"IF(AND(D148>=F9,D148<=G9),S9,0)","v":0},{"$f":"IF(AND(D148>=F10,D148<=G10),S10,0)","v":0},{"$f":"IF(AND(D148>=F11,D148<=G11),S11,0)","v":0},{"$f":"IF(AND(D148>=F12,D148<=G12),S12,0)","v":0},{"$f":"IF(AND(D148>=F13,D148<=G13),S13,0)","v":0},{"$f":"IF(AND(D148>=F14,D148<=G14),S14,0)","v":0},{"$f":"IF(AND(D148>=F15,D148<=G15),S15,0)","v":0},{"$f":"IF(AND(D148>=F16,D148<=G16),S16,0)","v":0},0,0,0,1]
[null,null,null,"2022-09-03",{"$f":"IF(D149<=G7,S7,0)","v":0},{"$f":"IF(AND(D149>=F8,D149<=G8),S8,0)","v":0},{"$f":"IF(AND(D149>=F9,D149<=G9),S9,0)","v":0},{"$f":"IF(AND(D149>=F10,D149<=G10),S10,0)","v":0},{"$f":"IF(AND(D149>=F11,D149<=G11),S11,0)","v":0},{"$f":"IF(AND(D149>=F12,D149<=G12),S12,0)","v":0},{"$f":"IF(AND(D149>=F13,D149<=G13),S13,0)","v":0},{"$f":"IF(AND(D149>=F14,D149<=G14),S14,0)","v":0},{"$f":"IF(AND(D149>=F15,D149<=G15),S15,0)","v":0},{"$f":"IF(AND(D149>=F16,D149<=G16),S16,0)","v":0},0,0,0,1]
[null,null,null,"2022-09-04",{"$f":"IF(D150<=G7,S7,0)","v":0},{"$f":"IF(AND(D150>=F8,D150<=G8),S8,0)","v":0},{"$f":"IF(AND(D150>=F9,D150<=G9),S9,0)","v":0},{"$f":"IF(AND(D150>=F10,D150<=G10),S10,0)","v":0},{"$f":"IF(AND(D150>=F11,D150<=G11),S11,0)","v":0},{"$f":"IF(AND(D150>=F12,D150<=G12),S12,0)","v":0},{"$f":"IF(AND(D150>=F13,D150<=G13),S13,0)","v":0},{"$f":"IF(AND(D150>=F14,D150<=G14),S14,0)","v":0},{"$f":"IF(AND(D150>=F15,D150<=G15),S15,0)","v":0},{"$f":"IF(AND(D150>=F16,D150<=G16),S16,0)","v":0},0,0,0,1]
[null,null,null,"2022-09-05",{"$f":"IF(D151<=G7,S7,0)","v":0},{"$f":"IF(AND(D151>=F8,D151<=G8),S8,0)","v":0},{"$f":"IF(AND(D151>=F9,D151<=G9),S9,0)","v":0},{"$f":"IF(AND(D151>=F10,D151<=G10),S10,0)","v":0},{"$f":"IF(AND(D151>=F11,D151<=G11),S11,0)","v":0},{"$f":"IF(AND(D151>=F12,D151<=G12),S12,0)","v":0},{"$f":"IF(AND(D151>=F13,D151<=G13),S13,0)","v":0},{"$f":"IF(AND(D151>=F14,D151<=G14),S14,0)","v":0},{"$f":"IF(AND(D151>=F15,D151<=G15),S15,0)","v":0},{"$f":"IF(AND(D151>=F16,D151<=G16),S16,0)","v":0},0,0,0,1]
[null,null,null,"2022-09-06",{"$f":"IF(D152<=G7,S7,0)","v":0},{"$f":"IF(AND(D152>=F8,D152<=G8),S8,0)","v":0},{"$f":"IF(AND(D152>=F9,D152<=G9),S9,0)","v":0},{"$f":"IF(AND(D152>=F10,D152<=G10),S10,0)","v":0},{"$f":"IF(AND(D152>=F11,D152<=G11),S11,0)","v":0},{"$f":"IF(AND(D152>=F12,D152<=G12),S12,0)","v":0},{"$f":"IF(AND(D152>=F13,D152<=G13),S13,0)","v":0},{"$f":"IF(AND(D152>=F14,D152<=G14),S14,0)","v":0},{"$f":"IF(AND(D152>=F15,D152<=G15),S15,0)","v":0},{"$f":"IF(AND(D152>=F16,D152<=G16),S16,0)","v":0},0,0,0,1]
[null,null,null,"2022-09-07",{"$f":"IF(D153<=G7,S7,0)","v":0},{"$f":"IF(AND(D153>=F8,D153<=G8),S8,0)","v":0},{"$f":"IF(AND(D153>=F9,D153<=G9),S9,0)","v":0},{"$f":"IF(AND(D153>=F10,D153<=G10),S10,0)","v":0},{"$f":"IF(AND(D153>=F11,D153<=G11),S11,0)","v":0},{"$f":"IF(AND(D153>=F12,D153<=G12),S12,0)","v":0},{"$f":"IF(AND(D153>=F13,D153<=G13),S13,0)","v":0},{"$f":"IF(AND(D153>=F14,D153<=G14),S14,0)","v":0},{"$f":"IF(AND(D153>=F15,D153<=G15),S15,0)","v":0},{"$f":"IF(AND(D153>=F16,D153<=G16),S16,0)","v":0},0,0,0,1]
[null,null,null,"2022-09-08",{"$f":"IF(D154<=G7,S7,0)","v":0},{"$f":"IF(AND(D154>=F8,D154<=G8),S8,0)","v":0},{"$f":"IF(AND(D154>=F9,D154<=G9),S9,0)","v":0},{"$f":"IF(AND(D154>=F10,D154<=G10),S10,0)","v":0},{"$f":"IF(AND(D154>=F11,D154<=G11),S11,0)","v":0},{"$f":"IF(AND(D154>=F12,D154<=G12),S12,0)","v":0},{"$f":"IF(AND(D154>=F13,D154<=G13),S13,0)","v":0},{"$f":"IF(AND(D154>=F14,D154<=G14),S14,0)","v":0},{"$f":"IF(AND(D154>=F15,D154<=G15),S15,0)","v":0},{"$f":"IF(AND(D154>=F16,D154<=G16),S16,0)","v":0},0,0,0,1]
[null,null,null,"2022-09-09",{"$f":"IF(D155<=G7,S7,0)","v":0},{"$f":"IF(AND(D155>=F8,D155<=G8),S8,0)","v":0},{"$f":"IF(AND(D155>=F9,D155<=G9),S9,0)","v":0},{"$f":"IF(AND(D155>=F10,D155<=G10),S10,0)","v":0},{"$f":"IF(AND(D155>=F11,D155<=G11),S11,0)","v":0},{"$f":"IF(AND(D155>=F12,D155<=G12),S12,0)","v":0},{"$f":"IF(AND(D155>=F13,D155<=G13),S13,0)","v":0},{"$f":"IF(AND(D155>=F14,D155<=G14),S14,0)","v":0},{"$f":"IF(AND(D155>=F15,D155<=G15),S15,0)","v":0},{"$f":"IF(AND(D155>=F16,D155<=G16),S16,0)","v":0},0,0,0,1]
[null,null,null,"2022-09-10",{"$f":"IF(D156<=G7,S7,0)","v":0},{"$f":"IF(AND(D156>=F8,D156<=G8),S8,0)","v":0},{"$f":"IF(AND(D156>=F9,D156<=G9),S9,0)","v":0},{"$f":"IF(AND(D156>=F10,D156<=G10),S10,0)","v":0},{"$f":"IF(AND(D156>=F11,D156<=G11),S11,0)","v":0},{"$f":"IF(AND(D156>=F12,D156<=G12),S12,0)","v":0},{"$f":"IF(AND(D156>=F13,D156<=G13),S13,0)","v":0},{"$f":"IF(AND(D156>=F14,D156<=G14),S14,0)","v":0},{"$f":"IF(AND(D156>=F15,D156<=G15),S15,0)","v":0},{"$f":"IF(AND(D156>=F16,D156<=G16),S16,0)","v":0},0,0,0,1]
[null,null,null,"2022-09-11",{"$f":"IF(D157<=G7,S7,0)","v":0},{"$f":"IF(AND(D157>=F8,D157<=G8),S8,0)","v":0},{"$f":"IF(AND(D157>=F9,D157<=G9),S9,0)","v":0},{"$f":"IF(AND(D157>=F10,D157<=G10),S10,0)","v":0},{"$f":"IF(AND(D157>=F11,D157<=G11),S11,0)","v":0},{"$f":"IF(AND(D157>=F12,D157<=G12),S12,0)","v":0},{"$f":"IF(AND(D157>=F13,D157<=G13),S13,0)","v":0},{"$f":"IF(AND(D157>=F14,D157<=G14),S14,0)","v":0},{"$f":"IF(AND(D157>=F15,D157<=G15),S15,0)","v":0},{"$f":"IF(AND(D157>=F16,D157<=G16),S16,0)","v":0},0,0,0,1]
[null,null,null,"2022-09-12",{"$f":"IF(D158<=G7,S7,0)","v":0},{"$f":"IF(AND(D158>=F8,D158<=G8),S8,0)","v":0},{"$f":"IF(AND(D158>=F9,D158<=G9),S9,0)","v":0},{"$f":"IF(AND(D158>=F10,D158<=G10),S10,0)","v":0},{"$f":"IF(AND(D158>=F11,D158<=G11),S11,0)","v":0},{"$f":"IF(AND(D158>=F12,D158<=G12),S12,0)","v":0},{"$f":"IF(AND(D158>=F13,D158<=G13),S13,0)","v":0},{"$f":"IF(AND(D158>=F14,D158<=G14),S14,0)","v":0},{"$f":"IF(AND(D158>=F15,D158<=G15),S15,0)","v":0},{"$f":"IF(AND(D158>=F16,D158<=G16),S16,0)","v":0},0,0,0,1]
[null,null,null,"2022-09-13",{"$f":"IF(D159<=G7,S7,0)","v":0},{"$f":"IF(AND(D159>=F8,D159<=G8),S8,0)","v":0},{"$f":"IF(AND(D159>=F9,D159<=G9),S9,0)","v":0},{"$f":"IF(AND(D159>=F10,D159<=G10),S10,0)","v":0},{"$f":"IF(AND(D159>=F11,D159<=G11),S11,0)","v":0},{"$f":"IF(AND(D159>=F12,D159<=G12),S12,0)","v":0},{"$f":"IF(AND(D159>=F13,D159<=G13),S13,0)","v":0},{"$f":"IF(AND(D159>=F14,D159<=G14),S14,0)","v":0},{"$f":"IF(AND(D159>=F15,D159<=G15),S15,0)","v":0},{"$f":"IF(AND(D159>=F16,D159<=G16),S16,0)","v":0},0,0,0,1]
[null,null,null,"2022-09-14",{"$f":"IF(D160<=G7,S7,0)","v":0},{"$f":"IF(AND(D160>=F8,D160<=G8),S8,0)","v":0},{"$f":"IF(AND(D160>=F9,D160<=G9),S9,0)","v":0},{"$f":"IF(AND(D160>=F10,D160<=G10),S10,0)","v":0},{"$f":"IF(AND(D160>=F11,D160<=G11),S11,0)","v":0},{"$f":"IF(AND(D160>=F12,D160<=G12),S12,0)","v":0},{"$f":"IF(AND(D160>=F13,D160<=G13),S13,0)","v":0},{"$f":"IF(AND(D160>=F14,D160<=G14),S14,0)","v":0},{"$f":"IF(AND(D160>=F15,D160<=G15),S15,0)","v":0},{"$f":"IF(AND(D160>=F16,D160<=G16),S16,0)","v":0},0,0,0,1]
[null,null,null,"2022-09-15",{"$f":"IF(D161<=G7,S7,0)","v":0},{"$f":"IF(AND(D161>=F8,D161<=G8),S8,0)","v":0},{"$f":"IF(AND(D161>=F9,D161<=G9),S9,0)","v":0},{"$f":"IF(AND(D161>=F10,D161<=G10),S10,0)","v":0},{"$f":"IF(AND(D161>=F11,D161<=G11),S11,0)","v":0},{"$f":"IF(AND(D161>=F12,D161<=G12),S12,0)","v":0},{"$f":"IF(AND(D161>=F13,D161<=G13),S13,0)","v":0},{"$f":"IF(AND(D161>=F14,D161<=G14),S14,0)","v":0},{"$f":"IF(AND(D161>=F15,D161<=G15),S15,0)","v":0},{"$f":"IF(AND(D161>=F16,D161<=G16),S16,0)","v":0},0,0,0,1]
[null,null,null,"2022-09-16",{"$f":"IF(D162<=G7,S7,0)","v":0},{"$f":"IF(AND(D162>=F8,D162<=G8),S8,0)","v":0},{"$f":"IF(AND(D162>=F9,D162<=G9),S9,0)","v":0},{"$f":"IF(AND(D162>=F10,D162<=G10),S10,0)","v":0},{"$f":"IF(AND(D162>=F11,D162<=G11),S11,0)","v":0},{"$f":"IF(AND(D162>=F12,D162<=G12),S12,0)","v":0},{"$f":"IF(AND(D162>=F13,D162<=G13),S13,0)","v":0},{"$f":"IF(AND(D162>=F14,D162<=G14),S14,0)","v":0},{"$f":"IF(AND(D162>=F15,D162<=G15),S15,0)","v":0},{"$f":"IF(AND(D162>=F16,D162<=G16),S16,0)","v":0},0,0,0,1]
[null,null,null,"2022-09-17",{"$f":"IF(D163<=G7,S7,0)","v":0},{"$f":"IF(AND(D163>=F8,D163<=G8),S8,0)","v":0},{"$f":"IF(AND(D163>=F9,D163<=G9),S9,0)","v":0},{"$f":"IF(AND(D163>=F10,D163<=G10),S10,0)","v":0},{"$f":"IF(AND(D163>=F11,D163<=G11),S11,0)","v":0},{"$f":"IF(AND(D163>=F12,D163<=G12),S12,0)","v":0},{"$f":"IF(AND(D163>=F13,D163<=G13),S13,0)","v":0},{"$f":"IF(AND(D163>=F14,D163<=G14),S14,0)","v":0},{"$f":"IF(AND(D163>=F15,D163<=G15),S15,0)","v":0},{"$f":"IF(AND(D163>=F16,D163<=G16),S16,0)","v":0},0,0,0,1]
[null,null,null,"2022-09-18",{"$f":"IF(D164<=G7,S7,0)","v":0},{"$f":"IF(AND(D164>=F8,D164<=G8),S8,0)","v":0},{"$f":"IF(AND(D164>=F9,D164<=G9),S9,0)","v":0},{"$f":"IF(AND(D164>=F10,D164<=G10),S10,0)","v":0},{"$f":"IF(AND(D164>=F11,D164<=G11),S11,0)","v":0},{"$f":"IF(AND(D164>=F12,D164<=G12),S12,0)","v":0},{"$f":"IF(AND(D164>=F13,D164<=G13),S13,0)","v":0},{"$f":"IF(AND(D164>=F14,D164<=G14),S14,0)","v":0},{"$f":"IF(AND(D164>=F15,D164<=G15),S15,0)","v":0},{"$f":"IF(AND(D164>=F16,D164<=G16),S16,0)","v":0},0,0,0,1]
[null,null,null,"2022-09-19",{"$f":"IF(D165<=G7,S7,0)","v":0},{"$f":"IF(AND(D165>=F8,D165<=G8),S8,0)","v":0},{"$f":"IF(AND(D165>=F9,D165<=G9),S9,0)","v":0},{"$f":"IF(AND(D165>=F10,D165<=G10),S10,0)","v":0},{"$f":"IF(AND(D165>=F11,D165<=G11),S11,0)","v":0},{"$f":"IF(AND(D165>=F12,D165<=G12),S12,0)","v":0},{"$f":"IF(AND(D165>=F13,D165<=G13),S13,0)","v":0},{"$f":"IF(AND(D165>=F14,D165<=G14),S14,0)","v":0},{"$f":"IF(AND(D165>=F15,D165<=G15),S15,0)","v":0},{"$f":"IF(AND(D165>=F16,D165<=G16),S16,0)","v":0},0,0,0,1]
[null,null,null,"2022-09-20",{"$f":"IF(D166<=G7,S7,0)","v":0},{"$f":"IF(AND(D166>=F8,D166<=G8),S8,0)","v":0},{"$f":"IF(AND(D166>=F9,D166<=G9),S9,0)","v":0},{"$f":"IF(AND(D166>=F10,D166<=G10),S10,0)","v":0},{"$f":"IF(AND(D166>=F11,D166<=G11),S11,0)","v":0},{"$f":"IF(AND(D166>=F12,D166<=G12),S12,0)","v":0},{"$f":"IF(AND(D166>=F13,D166<=G13),S13,0)","v":0},{"$f":"IF(AND(D166>=F14,D166<=G14),S14,0)","v":0},{"$f":"IF(AND(D166>=F15,D166<=G15),S15,0)","v":0},{"$f":"IF(AND(D166>=F16,D166<=G16),S16,0)","v":0},0,0,0,1]
[null,null,null,"2022-09-21",{"$f":"IF(D167<=G7,S7,0)","v":0},{"$f":"IF(AND(D167>=F8,D167<=G8),S8,0)","v":0},{"$f":"IF(AND(D167>=F9,D167<=G9),S9,0)","v":0},{"$f":"IF(AND(D167>=F10,D167<=G10),S10,0)","v":0},{"$f":"IF(AND(D167>=F11,D167<=G11),S11,0)","v":0},{"$f":"IF(AND(D167>=F12,D167<=G12),S12,0)","v":0},{"$f":"IF(AND(D167>=F13,D167<=G13),S13,0)","v":0},{"$f":"IF(AND(D167>=F14,D167<=G14),S14,0)","v":0},{"$f":"IF(AND(D167>=F15,D167<=G15),S15,0)","v":0},{"$f":"IF(AND(D167>=F16,D167<=G16),S16,0)","v":0},0,0,0,1]
[null,null,null,"2022-09-22",{"$f":"IF(D168<=G7,S7,0)","v":0},{"$f":"IF(AND(D168>=F8,D168<=G8),S8,0)","v":0},{"$f":"IF(AND(D168>=F9,D168<=G9),S9,0)","v":0},{"$f":"IF(AND(D168>=F10,D168<=G10),S10,0)","v":0},{"$f":"IF(AND(D168>=F11,D168<=G11),S11,0)","v":0},{"$f":"IF(AND(D168>=F12,D168<=G12),S12,0)","v":0},{"$f":"IF(AND(D168>=F13,D168<=G13),S13,0)","v":0},{"$f":"IF(AND(D168>=F14,D168<=G14),S14,0)","v":0},{"$f":"IF(AND(D168>=F15,D168<=G15),S15,0)","v":0},{"$f":"IF(AND(D168>=F16,D168<=G16),S16,0)","v":0},0,0,0,1]
[null,null,null,"2022-09-23",{"$f":"IF(D169<=G7,S7,0)","v":0},{"$f":"IF(AND(D169>=F8,D169<=G8),S8,0)","v":0},{"$f":"IF(AND(D169>=F9,D169<=G9),S9,0)","v":0},{"$f":"IF(AND(D169>=F10,D169<=G10),S10,0)","v":0},{"$f":"IF(AND(D169>=F11,D169<=G11),S11,0)","v":0},{"$f":"IF(AND(D169>=F12,D169<=G12),S12,0)","v":0},{"$f":"IF(AND(D169>=F13,D169<=G13),S13,0)","v":0},{"$f":"IF(AND(D169>=F14,D169<=G14),S14,0)","v":0},{"$f":"IF(AND(D169>=F15,D169<=G15),S15,0)","v":0},{"$f":"IF(AND(D169>=F16,D169<=G16),S16,0)","v":0},0,0,0,1]
[null,null,null,"2022-09-24",{"$f":"IF(D170<=G7,S7,0)","v":0},{"$f":"IF(AND(D170>=F8,D170<=G8),S8,0)","v":0},{"$f":"IF(AND(D170>=F9,D170<=G9),S9,0)","v":0},{"$f":"IF(AND(D170>=F10,D170<=G10),S10,0)","v":0},{"$f":"IF(AND(D170>=F11,D170<=G11),S11,0)","v":0},{"$f":"IF(AND(D170>=F12,D170<=G12),S12,0)","v":0},{"$f":"IF(AND(D170>=F13,D170<=G13),S13,0)","v":0},{"$f":"IF(AND(D170>=F14,D170<=G14),S14,0)","v":0},{"$f":"IF(AND(D170>=F15,D170<=G15),S15,0)","v":0},{"$f":"IF(AND(D170>=F16,D170<=G16),S16,0)","v":0},0,0,0,1]
[null,null,null,"2022-09-25",{"$f":"IF(D171<=G7,S7,0)","v":0},{"$f":"IF(AND(D171>=F8,D171<=G8),S8,0)","v":0},{"$f":"IF(AND(D171>=F9,D171<=G9),S9,0)","v":0},{"$f":"IF(AND(D171>=F10,D171<=G10),S10,0)","v":0},{"$f":"IF(AND(D171>=F11,D171<=G11),S11,0)","v":0},{"$f":"IF(AND(D171>=F12,D171<=G12),S12,0)","v":0},{"$f":"IF(AND(D171>=F13,D171<=G13),S13,0)","v":0},{"$f":"IF(AND(D171>=F14,D171<=G14),S14,0)","v":0},{"$f":"IF(AND(D171>=F15,D171<=G15),S15,0)","v":0},{"$f":"IF(AND(D171>=F16,D171<=G16),S16,0)","v":0},0,0,0,1]
[null,null,null,"2022-09-26",{"$f":"IF(D172<=G7,S7,0)","v":0},{"$f":"IF(AND(D172>=F8,D172<=G8),S8,0)","v":0},{"$f":"IF(AND(D172>=F9,D172<=G9),S9,0)","v":0},{"$f":"IF(AND(D172>=F10,D172<=G10),S10,0)","v":0},{"$f":"IF(AND(D172>=F11,D172<=G11),S11,0)","v":0},{"$f":"IF(AND(D172>=F12,D172<=G12),S12,0)","v":0},{"$f":"IF(AND(D172>=F13,D172<=G13),S13,0)","v":0},{"$f":"IF(AND(D172>=F14,D172<=G14),S14,0)","v":0},{"$f":"IF(AND(D172>=F15,D172<=G15),S15,0)","v":0},{"$f":"IF(AND(D172>=F16,D172<=G16),S16,0)","v":0},0,0,0,1]
[null,null,null,"2022-09-27",{"$f":"IF(D173<=G7,S7,0)","v":0},{"$f":"IF(AND(D173>=F8,D173<=G8),S8,0)","v":0},{"$f":"IF(AND(D173>=F9,D173<=G9),S9,0)","v":0},{"$f":"IF(AND(D173>=F10,D173<=G10),S10,0)","v":0},{"$f":"IF(AND(D173>=F11,D173<=G11),S11,0)","v":0},{"$f":"IF(AND(D173>=F12,D173<=G12),S12,0)","v":0},{"$f":"IF(AND(D173>=F13,D173<=G13),S13,0)","v":0},{"$f":"IF(AND(D173>=F14,D173<=G14),S14,0)","v":0},{"$f":"IF(AND(D173>=F15,D173<=G15),S15,0)","v":0},{"$f":"IF(AND(D173>=F16,D173<=G16),S16,0)","v":0},0,0,0,1]
[null,null,null,"2022-09-28",{"$f":"IF(D174<=G7,S7,0)","v":0},{"$f":"IF(AND(D174>=F8,D174<=G8),S8,0)","v":0},{"$f":"IF(AND(D174>=F9,D174<=G9),S9,0)","v":0},{"$f":"IF(AND(D174>=F10,D174<=G10),S10,0)","v":0},{"$f":"IF(AND(D174>=F11,D174<=G11),S11,0)","v":0},{"$f":"IF(AND(D174>=F12,D174<=G12),S12,0)","v":0},{"$f":"IF(AND(D174>=F13,D174<=G13),S13,0)","v":0},{"$f":"IF(AND(D174>=F14,D174<=G14),S14,0)","v":0},{"$f":"IF(AND(D174>=F15,D174<=G15),S15,0)","v":0},{"$f":"IF(AND(D174>=F16,D174<=G16),S16,0)","v":0},0,0,0,1]
[null,null,null,"2022-09-29",{"$f":"IF(D175<=G7,S7,0)","v":0},{"$f":"IF(AND(D175>=F8,D175<=G8),S8,0)","v":0},{"$f":"IF(AND(D175>=F9,D175<=G9),S9,0)","v":0},{"$f":"IF(AND(D175>=F10,D175<=G10),S10,0)","v":0},{"$f":"IF(AND(D175>=F11,D175<=G11),S11,0)","v":0},{"$f":"IF(AND(D175>=F12,D175<=G12),S12,0)","v":0},{"$f":"IF(AND(D175>=F13,D175<=G13),S13,0)","v":0},{"$f":"IF(AND(D175>=F14,D175<=G14),S14,0)","v":0},{"$f":"IF(AND(D175>=F15,D175<=G15),S15,0)","v":0},{"$f":"IF(AND(D175>=F16,D175<=G16),S16,0)","v":0},0,0,0,1]
[null,null,null,"2022-09-30",{"$f":"IF(D176<=G7,S7,0)","v":0},{"$f":"IF(AND(D176>=F8,D176<=G8),S8,0)","v":0},{"$f":"IF(AND(D176>=F9,D176<=G9),S9,0)","v":0},{"$f":"IF(AND(D176>=F10,D176<=G10),S10,0)","v":0},{"$f":"IF(AND(D176>=F11,D176<=G11),S11,0)","v":0},{"$f":"IF(AND(D176>=F12,D176<=G12),S12,0)","v":0},{"$f":"IF(AND(D176>=F13,D176<=G13),S13,0)","v":0},{"$f":"IF(AND(D176>=F14,D176<=G14),S14,0)","v":0},{"$f":"IF(AND(D176>=F15,D176<=G15),S15,0)","v":0},{"$f":"IF(AND(D176>=F16,D176<=G16),S16,0)","v":0},0,0,0,1]
[null,null,null,"2022-10-02",{"$f":"IF(D177<=G7,S7,0)","v":0},{"$f":"IF(AND(D177>=F8,D177<=G8),S8,0)","v":0},{"$f":"IF(AND(D177>=F9,D177<=G9),S9,0)","v":0},{"$f":"IF(AND(D177>=F10,D177<=G10),S10,0)","v":0},{"$f":"IF(AND(D177>=F11,D177<=G11),S11,0)","v":0},{"$f":"IF(AND(D177>=F12,D177<=G12),S12,0)","v":0},{"$f":"IF(AND(D177>=F13,D177<=G13),S13,0)","v":0},{"$f":"IF(AND(D177>=F14,D177<=G14),S14,0)","v":0},{"$f":"IF(AND(D177>=F15,D177<=G15),S15,0)","v":0},{"$f":"IF(AND(D177>=F16,D177<=G16),S16,0)","v":0},0,0,0,1]
[null,null,null,"2022-10-03",{"$f":"IF(D178<=G7,S7,0)","v":0},{"$f":"IF(AND(D178>=F8,D178<=G8),S8,0)","v":0},{"$f":"IF(AND(D178>=F9,D178<=G9),S9,0)","v":0},{"$f":"IF(AND(D178>=F10,D178<=G10),S10,0)","v":0},{"$f":"IF(AND(D178>=F11,D178<=G11),S11,0)","v":0},{"$f":"IF(AND(D178>=F12,D178<=G12),S12,0)","v":0},{"$f":"IF(AND(D178>=F13,D178<=G13),S13,0)","v":0},{"$f":"IF(AND(D178>=F14,D178<=G14),S14,0)","v":0},{"$f":"IF(AND(D178>=F15,D178<=G15),S15,0)","v":0},{"$f":"IF(AND(D178>=F16,D178<=G16),S16,0)","v":0},0,0,0,1]
[null,null,null,"2022-10-04",{"$f":"IF(D179<=G7,S7,0)","v":0},{"$f":"IF(AND(D179>=F8,D179<=G8),S8,0)","v":0},{"$f":"IF(AND(D179>=F9,D179<=G9),S9,0)","v":0},{"$f":"IF(AND(D179>=F10,D179<=G10),S10,0)","v":0},{"$f":"IF(AND(D179>=F11,D179<=G11),S11,0)","v":0},{"$f":"IF(AND(D179>=F12,D179<=G12),S12,0)","v":0},{"$f":"IF(AND(D179>=F13,D179<=G13),S13,0)","v":0},{"$f":"IF(AND(D179>=F14,D179<=G14),S14,0)","v":0},{"$f":"IF(AND(D179>=F15,D179<=G15),S15,0)","v":0},{"$f":"IF(AND(D179>=F16,D179<=G16),S16,0)","v":0},0,{"$f":"IF(O179>=1,1,O179)","v":0},0,1]
[null,null,null,{"$f":"IF(DAY(D179)+1=31, D179+2, D179+1)","v":"2022-10-05"},{"$f":"IF(D180<=G7,S7,0)","v":0},{"$f":"IF(AND(D180>=F8,D180<=G8),S8,0)","v":0},{"$f":"IF(AND(D180>=F9,D180<=G9),S9,0)","v":0},{"$f":"IF(AND(D180>=F10,D180<=G10),S10,0)","v":0},{"$f":"IF(AND(D180>=F11,D180<=G11),S11,0)","v":0},{"$f":"IF(AND(D180>=F12,D180<=G12),S12,0)","v":0},{"$f":"IF(AND(D180>=F13,D180<=G13),S13,0)","v":0},{"$f":"IF(AND(D180>=F14,D180<=G14),S14,0)","v":0},{"$f":"IF(AND(D180>=F15,D180<=G15),S15,0)","v":0},{"$f":"IF(AND(D180>=F16,D180<=G16),S16,0)","v":0},{"$f":"SUM(E180:N180)","v":0},0,0,1]
[null,null,null,"2022-10-06",{"$f":"IF(D181<=G7,S7,0)","v":0},{"$f":"IF(AND(D181>=F8,D181<=G8),S8,0)","v":0},{"$f":"IF(AND(D181>=F9,D181<=G9),S9,0)","v":0},{"$f":"IF(AND(D181>=F10,D181<=G10),S10,0)","v":0},{"$f":"IF(AND(D181>=F11,D181<=G11),S11,0)","v":0},{"$f":"IF(AND(D181>=F12,D181<=G12),S12,0)","v":0},{"$f":"IF(AND(D181>=F13,D181<=G13),S13,0)","v":0},{"$f":"IF(AND(D181>=F14,D181<=G14),S14,0)","v":0},{"$f":"IF(AND(D181>=F15,D181<=G15),S15,0)","v":0},{"$f":"IF(AND(D181>=F16,D181<=G16),S16,0)","v":0},0,0,{"$f":"IF(P180=P181,0,1)","v":0},{"$f":"SUM(Q180,R180)","v":1}]
[null,null,null,"2022-10-07",{"$f":"IF(D182<=G7,S7,0)","v":0},{"$f":"IF(AND(D182>=F8,D182<=G8),S8,0)","v":0},{"$f":"IF(AND(D182>=F9,D182<=G9),S9,0)","v":0},{"$f":"IF(AND(D182>=F10,D182<=G10),S10,0)","v":0},{"$f":"IF(AND(D182>=F11,D182<=G11),S11,0)","v":0},{"$f":"IF(AND(D182>=F12,D182<=G12),S12,0)","v":0},{"$f":"IF(AND(D182>=F13,D182<=G13),S13,0)","v":0},{"$f":"IF(AND(D182>=F14,D182<=G14),S14,0)","v":0},{"$f":"IF(AND(D182>=F15,D182<=G15),S15,0)","v":0},{"$f":"IF(AND(D182>=F16,D182<=G16),S16,0)","v":0},0,0,0,1]
[null,null,null,"2022-10-08",{"$f":"IF(D183<=G7,S7,0)","v":0},{"$f":"IF(AND(D183>=F8,D183<=G8),S8,0)","v":0},{"$f":"IF(AND(D183>=F9,D183<=G9),S9,0)","v":0},{"$f":"IF(AND(D183>=F10,D183<=G10),S10,0)","v":0},{"$f":"IF(AND(D183>=F11,D183<=G11),S11,0)","v":0},{"$f":"IF(AND(D183>=F12,D183<=G12),S12,0)","v":0},{"$f":"IF(AND(D183>=F13,D183<=G13),S13,0)","v":0},{"$f":"IF(AND(D183>=F14,D183<=G14),S14,0)","v":0},{"$f":"IF(AND(D183>=F15,D183<=G15),S15,0)","v":0},{"$f":"IF(AND(D183>=F16,D183<=G16),S16,0)","v":0},0,0,0,1]
[null,null,null,"2022-10-09",{"$f":"IF(D184<=G7,S7,0)","v":0},{"$f":"IF(AND(D184>=F8,D184<=G8),S8,0)","v":0},{"$f":"IF(AND(D184>=F9,D184<=G9),S9,0)","v":0},{"$f":"IF(AND(D184>=F10,D184<=G10),S10,0)","v":0},{"$f":"IF(AND(D184>=F11,D184<=G11),S11,0)","v":0},{"$f":"IF(AND(D184>=F12,D184<=G12),S12,0)","v":0},{"$f":"IF(AND(D184>=F13,D184<=G13),S13,0)","v":0},{"$f":"IF(AND(D184>=F14,D184<=G14),S14,0)","v":0},{"$f":"IF(AND(D184>=F15,D184<=G15),S15,0)","v":0},{"$f":"IF(AND(D184>=F16,D184<=G16),S16,0)","v":0},0,0,0,1]
[null,null,null,"2022-10-10",{"$f":"IF(D185<=G7,S7,0)","v":0},{"$f":"IF(AND(D185>=F8,D185<=G8),S8,0)","v":0},{"$f":"IF(AND(D185>=F9,D185<=G9),S9,0)","v":0},{"$f":"IF(AND(D185>=F10,D185<=G10),S10,0)","v":0},{"$f":"IF(AND(D185>=F11,D185<=G11),S11,0)","v":0},{"$f":"IF(AND(D185>=F12,D185<=G12),S12,0)","v":0},{"$f":"IF(AND(D185>=F13,D185<=G13),S13,0)","v":0},{"$f":"IF(AND(D185>=F14,D185<=G14),S14,0)","v":0},{"$f":"IF(AND(D185>=F15,D185<=G15),S15,0)","v":0},{"$f":"IF(AND(D185>=F16,D185<=G16),S16,0)","v":0},0,0,0,1]
[null,null,null,"2022-10-11",{"$f":"IF(D186<=G7,S7,0)","v":0},{"$f":"IF(AND(D186>=F8,D186<=G8),S8,0)","v":0},{"$f":"IF(AND(D186>=F9,D186<=G9),S9,0)","v":0},{"$f":"IF(AND(D186>=F10,D186<=G10),S10,0)","v":0},{"$f":"IF(AND(D186>=F11,D186<=G11),S11,0)","v":0},{"$f":"IF(AND(D186>=F12,D186<=G12),S12,0)","v":0},{"$f":"IF(AND(D186>=F13,D186<=G13),S13,0)","v":0},{"$f":"IF(AND(D186>=F14,D186<=G14),S14,0)","v":0},{"$f":"IF(AND(D186>=F15,D186<=G15),S15,0)","v":0},{"$f":"IF(AND(D186>=F16,D186<=G16),S16,0)","v":0},0,0,0,1]
[null,null,null,"2022-10-12",{"$f":"IF(D187<=G7,S7,0)","v":0},{"$f":"IF(AND(D187>=F8,D187<=G8),S8,0)","v":0},{"$f":"IF(AND(D187>=F9,D187<=G9),S9,0)","v":0},{"$f":"IF(AND(D187>=F10,D187<=G10),S10,0)","v":0},{"$f":"IF(AND(D187>=F11,D187<=G11),S11,0)","v":0},{"$f":"IF(AND(D187>=F12,D187<=G12),S12,0)","v":0},{"$f":"IF(AND(D187>=F13,D187<=G13),S13,0)","v":0},{"$f":"IF(AND(D187>=F14,D187<=G14),S14,0)","v":0},{"$f":"IF(AND(D187>=F15,D187<=G15),S15,0)","v":0},{"$f":"IF(AND(D187>=F16,D187<=G16),S16,0)","v":0},0,0,0,1]
[null,null,null,"2022-10-13",{"$f":"IF(D188<=G7,S7,0)","v":0},{"$f":"IF(AND(D188>=F8,D188<=G8),S8,0)","v":0},{"$f":"IF(AND(D188>=F9,D188<=G9),S9,0)","v":0},{"$f":"IF(AND(D188>=F10,D188<=G10),S10,0)","v":0},{"$f":"IF(AND(D188>=F11,D188<=G11),S11,0)","v":0},{"$f":"IF(AND(D188>=F12,D188<=G12),S12,0)","v":0},{"$f":"IF(AND(D188>=F13,D188<=G13),S13,0)","v":0},{"$f":"IF(AND(D188>=F14,D188<=G14),S14,0)","v":0},{"$f":"IF(AND(D188>=F15,D188<=G15),S15,0)","v":0},{"$f":"IF(AND(D188>=F16,D188<=G16),S16,0)","v":0},0,0,0,1]
[null,null,null,"2022-10-14",{"$f":"IF(D189<=G7,S7,0)","v":0},{"$f":"IF(AND(D189>=F8,D189<=G8),S8,0)","v":0},{"$f":"IF(AND(D189>=F9,D189<=G9),S9,0)","v":0},{"$f":"IF(AND(D189>=F10,D189<=G10),S10,0)","v":0},{"$f":"IF(AND(D189>=F11,D189<=G11),S11,0)","v":0},{"$f":"IF(AND(D189>=F12,D189<=G12),S12,0)","v":0},{"$f":"IF(AND(D189>=F13,D189<=G13),S13,0)","v":0},{"$f":"IF(AND(D189>=F14,D189<=G14),S14,0)","v":0},{"$f":"IF(AND(D189>=F15,D189<=G15),S15,0)","v":0},{"$f":"IF(AND(D189>=F16,D189<=G16),S16,0)","v":0},0,0,0,1]
[null,null,null,"2022-10-15",{"$f":"IF(D190<=G7,S7,0)","v":0},{"$f":"IF(AND(D190>=F8,D190<=G8),S8,0)","v":0},{"$f":"IF(AND(D190>=F9,D190<=G9),S9,0)","v":0},{"$f":"IF(AND(D190>=F10,D190<=G10),S10,0)","v":0},{"$f":"IF(AND(D190>=F11,D190<=G11),S11,0)","v":0},{"$f":"IF(AND(D190>=F12,D190<=G12),S12,0)","v":0},{"$f":"IF(AND(D190>=F13,D190<=G13),S13,0)","v":0},{"$f":"IF(AND(D190>=F14,D190<=G14),S14,0)","v":0},{"$f":"IF(AND(D190>=F15,D190<=G15),S15,0)","v":0},{"$f":"IF(AND(D190>=F16,D190<=G16),S16,0)","v":0},0,0,0,1]
[null,null,null,"2022-10-16",{"$f":"IF(D191<=G7,S7,0)","v":0},{"$f":"IF(AND(D191>=F8,D191<=G8),S8,0)","v":0},{"$f":"IF(AND(D191>=F9,D191<=G9),S9,0)","v":0},{"$f":"IF(AND(D191>=F10,D191<=G10),S10,0)","v":0},{"$f":"IF(AND(D191>=F11,D191<=G11),S11,0)","v":0},{"$f":"IF(AND(D191>=F12,D191<=G12),S12,0)","v":0},{"$f":"IF(AND(D191>=F13,D191<=G13),S13,0)","v":0},{"$f":"IF(AND(D191>=F14,D191<=G14),S14,0)","v":0},{"$f":"IF(AND(D191>=F15,D191<=G15),S15,0)","v":0},{"$f":"IF(AND(D191>=F16,D191<=G16),S16,0)","v":0},0,0,0,1]
[null,null,null,"2022-10-17",{"$f":"IF(D192<=G7,S7,0)","v":0},{"$f":"IF(AND(D192>=F8,D192<=G8),S8,0)","v":0},{"$f":"IF(AND(D192>=F9,D192<=G9),S9,0)","v":0},{"$f":"IF(AND(D192>=F10,D192<=G10),S10,0)","v":0},{"$f":"IF(AND(D192>=F11,D192<=G11),S11,0)","v":0},{"$f":"IF(AND(D192>=F12,D192<=G12),S12,0)","v":0},{"$f":"IF(AND(D192>=F13,D192<=G13),S13,0)","v":0},{"$f":"IF(AND(D192>=F14,D192<=G14),S14,0)","v":0},{"$f":"IF(AND(D192>=F15,D192<=G15),S15,0)","v":0},{"$f":"IF(AND(D192>=F16,D192<=G16),S16,0)","v":0},0,0,0,1]
[null,null,null,"2022-10-18",{"$f":"IF(D193<=G7,S7,0)","v":0},{"$f":"IF(AND(D193>=F8,D193<=G8),S8,0)","v":0},{"$f":"IF(AND(D193>=F9,D193<=G9),S9,0)","v":0},{"$f":"IF(AND(D193>=F10,D193<=G10),S10,0)","v":0},{"$f":"IF(AND(D193>=F11,D193<=G11),S11,0)","v":0},{"$f":"IF(AND(D193>=F12,D193<=G12),S12,0)","v":0},{"$f":"IF(AND(D193>=F13,D193<=G13),S13,0)","v":0},{"$f":"IF(AND(D193>=F14,D193<=G14),S14,0)","v":0},{"$f":"IF(AND(D193>=F15,D193<=G15),S15,0)","v":0},{"$f":"IF(AND(D193>=F16,D193<=G16),S16,0)","v":0},0,0,0,1]
[null,null,null,"2022-10-19",{"$f":"IF(D194<=G7,S7,0)","v":0},{"$f":"IF(AND(D194>=F8,D194<=G8),S8,0)","v":0},{"$f":"IF(AND(D194>=F9,D194<=G9),S9,0)","v":0},{"$f":"IF(AND(D194>=F10,D194<=G10),S10,0)","v":0},{"$f":"IF(AND(D194>=F11,D194<=G11),S11,0)","v":0},{"$f":"IF(AND(D194>=F12,D194<=G12),S12,0)","v":0},{"$f":"IF(AND(D194>=F13,D194<=G13),S13,0)","v":0},{"$f":"IF(AND(D194>=F14,D194<=G14),S14,0)","v":0},{"$f":"IF(AND(D194>=F15,D194<=G15),S15,0)","v":0},{"$f":"IF(AND(D194>=F16,D194<=G16),S16,0)","v":0},0,0,0,1]
[null,null,null,"2022-10-20",{"$f":"IF(D195<=G7,S7,0)","v":0},{"$f":"IF(AND(D195>=F8,D195<=G8),S8,0)","v":0},{"$f":"IF(AND(D195>=F9,D195<=G9),S9,0)","v":0},{"$f":"IF(AND(D195>=F10,D195<=G10),S10,0)","v":0},{"$f":"IF(AND(D195>=F11,D195<=G11),S11,0)","v":0},{"$f":"IF(AND(D195>=F12,D195<=G12),S12,0)","v":0},{"$f":"IF(AND(D195>=F13,D195<=G13),S13,0)","v":0},{"$f":"IF(AND(D195>=F14,D195<=G14),S14,0)","v":0},{"$f":"IF(AND(D195>=F15,D195<=G15),S15,0)","v":0},{"$f":"IF(AND(D195>=F16,D195<=G16),S16,0)","v":0},0,0,0,1]
[null,null,null,"2022-10-21",{"$f":"IF(D196<=G7,S7,0)","v":0},{"$f":"IF(AND(D196>=F8,D196<=G8),S8,0)","v":0},{"$f":"IF(AND(D196>=F9,D196<=G9),S9,0)","v":0},{"$f":"IF(AND(D196>=F10,D196<=G10),S10,0)","v":0},{"$f":"IF(AND(D196>=F11,D196<=G11),S11,0)","v":0},{"$f":"IF(AND(D196>=F12,D196<=G12),S12,0)","v":0},{"$f":"IF(AND(D196>=F13,D196<=G13),S13,0)","v":0},{"$f":"IF(AND(D196>=F14,D196<=G14),S14,0)","v":0},{"$f":"IF(AND(D196>=F15,D196<=G15),S15,0)","v":0},{"$f":"IF(AND(D196>=F16,D196<=G16),S16,0)","v":0},0,0,0,1]
[null,null,null,"2022-10-22",{"$f":"IF(D197<=G7,S7,0)","v":0},{"$f":"IF(AND(D197>=F8,D197<=G8),S8,0)","v":0},{"$f":"IF(AND(D197>=F9,D197<=G9),S9,0)","v":0},{"$f":"IF(AND(D197>=F10,D197<=G10),S10,0)","v":0},{"$f":"IF(AND(D197>=F11,D197<=G11),S11,0)","v":0},{"$f":"IF(AND(D197>=F12,D197<=G12),S12,0)","v":0},{"$f":"IF(AND(D197>=F13,D197<=G13),S13,0)","v":0},{"$f":"IF(AND(D197>=F14,D197<=G14),S14,0)","v":0},{"$f":"IF(AND(D197>=F15,D197<=G15),S15,0)","v":0},{"$f":"IF(AND(D197>=F16,D197<=G16),S16,0)","v":0},0,0,0,1]
[null,null,null,"2022-10-23",{"$f":"IF(D198<=G7,S7,0)","v":0},{"$f":"IF(AND(D198>=F8,D198<=G8),S8,0)","v":0},{"$f":"IF(AND(D198>=F9,D198<=G9),S9,0)","v":0},{"$f":"IF(AND(D198>=F10,D198<=G10),S10,0)","v":0},{"$f":"IF(AND(D198>=F11,D198<=G11),S11,0)","v":0},{"$f":"IF(AND(D198>=F12,D198<=G12),S12,0)","v":0},{"$f":"IF(AND(D198>=F13,D198<=G13),S13,0)","v":0},{"$f":"IF(AND(D198>=F14,D198<=G14),S14,0)","v":0},{"$f":"IF(AND(D198>=F15,D198<=G15),S15,0)","v":0},{"$f":"IF(AND(D198>=F16,D198<=G16),S16,0)","v":0},0,0,0,1]
[null,null,null,"2022-10-24",{"$f":"IF(D199<=G7,S7,0)","v":0},{"$f":"IF(AND(D199>=F8,D199<=G8),S8,0)","v":0},{"$f":"IF(AND(D199>=F9,D199<=G9),S9,0)","v":0},{"$f":"IF(AND(D199>=F10,D199<=G10),S10,0)","v":0},{"$f":"IF(AND(D199>=F11,D199<=G11),S11,0)","v":0},{"$f":"IF(AND(D199>=F12,D199<=G12),S12,0)","v":0},{"$f":"IF(AND(D199>=F13,D199<=G13),S13,0)","v":0},{"$f":"IF(AND(D199>=F14,D199<=G14),S14,0)","v":0},{"$f":"IF(AND(D199>=F15,D199<=G15),S15,0)","v":0},{"$f":"IF(AND(D199>=F16,D199<=G16),S16,0)","v":0},0,0,0,1]
[null,null,null,"2022-10-25",{"$f":"IF(D200<=G7,S7,0)","v":0},{"$f":"IF(AND(D200>=F8,D200<=G8),S8,0)","v":0},{"$f":"IF(AND(D200>=F9,D200<=G9),S9,0)","v":0},{"$f":"IF(AND(D200>=F10,D200<=G10),S10,0)","v":0},{"$f":"IF(AND(D200>=F11,D200<=G11),S11,0)","v":0},{"$f":"IF(AND(D200>=F12,D200<=G12),S12,0)","v":0},{"$f":"IF(AND(D200>=F13,D200<=G13),S13,0)","v":0},{"$f":"IF(AND(D200>=F14,D200<=G14),S14,0)","v":0},{"$f":"IF(AND(D200>=F15,D200<=G15),S15,0)","v":0},{"$f":"IF(AND(D200>=F16,D200<=G16),S16,0)","v":0},0,0,0,1]
[null,null,null,"2022-10-26",{"$f":"IF(D201<=G7,S7,0)","v":0},{"$f":"IF(AND(D201>=F8,D201<=G8),S8,0)","v":0},{"$f":"IF(AND(D201>=F9,D201<=G9),S9,0)","v":0},{"$f":"IF(AND(D201>=F10,D201<=G10),S10,0)","v":0},{"$f":"IF(AND(D201>=F11,D201<=G11),S11,0)","v":0},{"$f":"IF(AND(D201>=F12,D201<=G12),S12,0)","v":0},{"$f":"IF(AND(D201>=F13,D201<=G13),S13,0)","v":0},{"$f":"IF(AND(D201>=F14,D201<=G14),S14,0)","v":0},{"$f":"IF(AND(D201>=F15,D201<=G15),S15,0)","v":0},{"$f":"IF(AND(D201>=F16,D201<=G16),S16,0)","v":0},0,0,0,1]
[null,null,null,"2022-10-27",{"$f":"IF(D202<=G7,S7,0)","v":0},{"$f":"IF(AND(D202>=F8,D202<=G8),S8,0)","v":0},{"$f":"IF(AND(D202>=F9,D202<=G9),S9,0)","v":0},{"$f":"IF(AND(D202>=F10,D202<=G10),S10,0)","v":0},{"$f":"IF(AND(D202>=F11,D202<=G11),S11,0)","v":0},{"$f":"IF(AND(D202>=F12,D202<=G12),S12,0)","v":0},{"$f":"IF(AND(D202>=F13,D202<=G13),S13,0)","v":0},{"$f":"IF(AND(D202>=F14,D202<=G14),S14,0)","v":0},{"$f":"IF(AND(D202>=F15,D202<=G15),S15,0)","v":0},{"$f":"IF(AND(D202>=F16,D202<=G16),S16,0)","v":0},0,0,0,1]
[null,null,null,"2022-10-28",{"$f":"IF(D203<=G7,S7,0)","v":0},{"$f":"IF(AND(D203>=F8,D203<=G8),S8,0)","v":0},{"$f":"IF(AND(D203>=F9,D203<=G9),S9,0)","v":0},{"$f":"IF(AND(D203>=F10,D203<=G10),S10,0)","v":0},{"$f":"IF(AND(D203>=F11,D203<=G11),S11,0)","v":0},{"$f":"IF(AND(D203>=F12,D203<=G12),S12,0)","v":0},{"$f":"IF(AND(D203>=F13,D203<=G13),S13,0)","v":0},{"$f":"IF(AND(D203>=F14,D203<=G14),S14,0)","v":0},{"$f":"IF(AND(D203>=F15,D203<=G15),S15,0)","v":0},{"$f":"IF(AND(D203>=F16,D203<=G16),S16,0)","v":0},0,0,0,1]
[null,null,null,"2022-10-29",{"$f":"IF(D204<=G7,S7,0)","v":0},{"$f":"IF(AND(D204>=F8,D204<=G8),S8,0)","v":0},{"$f":"IF(AND(D204>=F9,D204<=G9),S9,0)","v":0},{"$f":"IF(AND(D204>=F10,D204<=G10),S10,0)","v":0},{"$f":"IF(AND(D204>=F11,D204<=G11),S11,0)","v":0},{"$f":"IF(AND(D204>=F12,D204<=G12),S12,0)","v":0},{"$f":"IF(AND(D204>=F13,D204<=G13),S13,0)","v":0},{"$f":"IF(AND(D204>=F14,D204<=G14),S14,0)","v":0},{"$f":"IF(AND(D204>=F15,D204<=G15),S15,0)","v":0},{"$f":"IF(AND(D204>=F16,D204<=G16),S16,0)","v":0},0,0,0,1]
[null,null,null,"2022-10-30",{"$f":"IF(D205<=G7,S7,0)","v":0},{"$f":"IF(AND(D205>=F8,D205<=G8),S8,0)","v":0},{"$f":"IF(AND(D205>=F9,D205<=G9),S9,0)","v":0},{"$f":"IF(AND(D205>=F10,D205<=G10),S10,0)","v":0},{"$f":"IF(AND(D205>=F11,D205<=G11),S11,0)","v":0},{"$f":"IF(AND(D205>=F12,D205<=G12),S12,0)","v":0},{"$f":"IF(AND(D205>=F13,D205<=G13),S13,0)","v":0},{"$f":"IF(AND(D205>=F14,D205<=G14),S14,0)","v":0},{"$f":"IF(AND(D205>=F15,D205<=G15),S15,0)","v":0},{"$f":"IF(AND(D205>=F16,D205<=G16),S16,0)","v":0},0,0,0,1]
[null,null,null,"2022-11-01",{"$f":"IF(D206<=G7,S7,0)","v":0},{"$f":"IF(AND(D206>=F8,D206<=G8),S8,0)","v":0},{"$f":"IF(AND(D206>=F9,D206<=G9),S9,0)","v":0},{"$f":"IF(AND(D206>=F10,D206<=G10),S10,0)","v":0},{"$f":"IF(AND(D206>=F11,D206<=G11),S11,0)","v":0},{"$f":"IF(AND(D206>=F12,D206<=G12),S12,0)","v":0},{"$f":"IF(AND(D206>=F13,D206<=G13),S13,0)","v":0},{"$f":"IF(AND(D206>=F14,D206<=G14),S14,0)","v":0},{"$f":"IF(AND(D206>=F15,D206<=G15),S15,0)","v":0},{"$f":"IF(AND(D206>=F16,D206<=G16),S16,0)","v":0},0,0,0,1]
[null,null,null,"2022-11-02",{"$f":"IF(D207<=G7,S7,0)","v":0},{"$f":"IF(AND(D207>=F8,D207<=G8),S8,0)","v":0},{"$f":"IF(AND(D207>=F9,D207<=G9),S9,0)","v":0},{"$f":"IF(AND(D207>=F10,D207<=G10),S10,0)","v":0},{"$f":"IF(AND(D207>=F11,D207<=G11),S11,0)","v":0},{"$f":"IF(AND(D207>=F12,D207<=G12),S12,0)","v":0},{"$f":"IF(AND(D207>=F13,D207<=G13),S13,0)","v":0},{"$f":"IF(AND(D207>=F14,D207<=G14),S14,0)","v":0},{"$f":"IF(AND(D207>=F15,D207<=G15),S15,0)","v":0},{"$f":"IF(AND(D207>=F16,D207<=G16),S16,0)","v":0},0,0,0,1]
[null,null,null,"2022-11-03",{"$f":"IF(D208<=G7,S7,0)","v":0},{"$f":"IF(AND(D208>=F8,D208<=G8),S8,0)","v":0},{"$f":"IF(AND(D208>=F9,D208<=G9),S9,0)","v":0},{"$f":"IF(AND(D208>=F10,D208<=G10),S10,0)","v":0},{"$f":"IF(AND(D208>=F11,D208<=G11),S11,0)","v":0},{"$f":"IF(AND(D208>=F12,D208<=G12),S12,0)","v":0},{"$f":"IF(AND(D208>=F13,D208<=G13),S13,0)","v":0},{"$f":"IF(AND(D208>=F14,D208<=G14),S14,0)","v":0},{"$f":"IF(AND(D208>=F15,D208<=G15),S15,0)","v":0},{"$f":"IF(AND(D208>=F16,D208<=G16),S16,0)","v":0},0,0,0,1]
[null,null,null,"2022-11-04",{"$f":"IF(D209<=G7,S7,0)","v":0},{"$f":"IF(AND(D209>=F8,D209<=G8),S8,0)","v":0},{"$f":"IF(AND(D209>=F9,D209<=G9),S9,0)","v":0},{"$f":"IF(AND(D209>=F10,D209<=G10),S10,0)","v":0},{"$f":"IF(AND(D209>=F11,D209<=G11),S11,0)","v":0},{"$f":"IF(AND(D209>=F12,D209<=G12),S12,0)","v":0},{"$f":"IF(AND(D209>=F13,D209<=G13),S13,0)","v":0},{"$f":"IF(AND(D209>=F14,D209<=G14),S14,0)","v":0},{"$f":"IF(AND(D209>=F15,D209<=G15),S15,0)","v":0},{"$f":"IF(AND(D209>=F16,D209<=G16),S16,0)","v":0},0,0,0,1]
[null,null,null,"2022-11-05",{"$f":"IF(D210<=G7,S7,0)","v":0},{"$f":"IF(AND(D210>=F8,D210<=G8),S8,0)","v":0},{"$f":"IF(AND(D210>=F9,D210<=G9),S9,0)","v":0},{"$f":"IF(AND(D210>=F10,D210<=G10),S10,0)","v":0},{"$f":"IF(AND(D210>=F11,D210<=G11),S11,0)","v":0},{"$f":"IF(AND(D210>=F12,D210<=G12),S12,0)","v":0},{"$f":"IF(AND(D210>=F13,D210<=G13),S13,0)","v":0},{"$f":"IF(AND(D210>=F14,D210<=G14),S14,0)","v":0},{"$f":"IF(AND(D210>=F15,D210<=G15),S15,0)","v":0},{"$f":"IF(AND(D210>=F16,D210<=G16),S16,0)","v":0},0,0,0,1]
[null,null,null,"2022-11-06",{"$f":"IF(D211<=G7,S7,0)","v":0},{"$f":"IF(AND(D211>=F8,D211<=G8),S8,0)","v":0},{"$f":"IF(AND(D211>=F9,D211<=G9),S9,0)","v":0},{"$f":"IF(AND(D211>=F10,D211<=G10),S10,0)","v":0},{"$f":"IF(AND(D211>=F11,D211<=G11),S11,0)","v":0},{"$f":"IF(AND(D211>=F12,D211<=G12),S12,0)","v":0},{"$f":"IF(AND(D211>=F13,D211<=G13),S13,0)","v":0},{"$f":"IF(AND(D211>=F14,D211<=G14),S14,0)","v":0},{"$f":"IF(AND(D211>=F15,D211<=G15),S15,0)","v":0},{"$f":"IF(AND(D211>=F16,D211<=G16),S16,0)","v":0},0,0,0,1]
[null,null,null,"2022-11-07",{"$f":"IF(D212<=G7,S7,0)","v":0},{"$f":"IF(AND(D212>=F8,D212<=G8),S8,0)","v":0},{"$f":"IF(AND(D212>=F9,D212<=G9),S9,0)","v":0},{"$f":"IF(AND(D212>=F10,D212<=G10),S10,0)","v":0},{"$f":"IF(AND(D212>=F11,D212<=G11),S11,0)","v":0},{"$f":"IF(AND(D212>=F12,D212<=G12),S12,0)","v":0},{"$f":"IF(AND(D212>=F13,D212<=G13),S13,0)","v":0},{"$f":"IF(AND(D212>=F14,D212<=G14),S14,0)","v":0},{"$f":"IF(AND(D212>=F15,D212<=G15),S15,0)","v":0},{"$f":"IF(AND(D212>=F16,D212<=G16),S16,0)","v":0},0,0,0,1]
[null,null,null,"2022-11-08",{"$f":"IF(D213<=G7,S7,0)","v":0},{"$f":"IF(AND(D213>=F8,D213<=G8),S8,0)","v":0},{"$f":"IF(AND(D213>=F9,D213<=G9),S9,0)","v":0},{"$f":"IF(AND(D213>=F10,D213<=G10),S10,0)","v":0},{"$f":"IF(AND(D213>=F11,D213<=G11),S11,0)","v":0},{"$f":"IF(AND(D213>=F12,D213<=G12),S12,0)","v":0},{"$f":"IF(AND(D213>=F13,D213<=G13),S13,0)","v":0},{"$f":"IF(AND(D213>=F14,D213<=G14),S14,0)","v":0},{"$f":"IF(AND(D213>=F15,D213<=G15),S15,0)","v":0},{"$f":"IF(AND(D213>=F16,D213<=G16),S16,0)","v":0},0,0,0,1]
[null,null,null,"2022-11-09",{"$f":"IF(D214<=G7,S7,0)","v":0},{"$f":"IF(AND(D214>=F8,D214<=G8),S8,0)","v":0},{"$f":"IF(AND(D214>=F9,D214<=G9),S9,0)","v":0},{"$f":"IF(AND(D214>=F10,D214<=G10),S10,0)","v":0},{"$f":"IF(AND(D214>=F11,D214<=G11),S11,0)","v":0},{"$f":"IF(AND(D214>=F12,D214<=G12),S12,0)","v":0},{"$f":"IF(AND(D214>=F13,D214<=G13),S13,0)","v":0},{"$f":"IF(AND(D214>=F14,D214<=G14),S14,0)","v":0},{"$f":"IF(AND(D214>=F15,D214<=G15),S15,0)","v":0},{"$f":"IF(AND(D214>=F16,D214<=G16),S16,0)","v":0},0,0,0,1]
[null,null,null,"2022-11-10",{"$f":"IF(D215<=G7,S7,0)","v":0},{"$f":"IF(AND(D215>=F8,D215<=G8),S8,0)","v":0},{"$f":"IF(AND(D215>=F9,D215<=G9),S9,0)","v":0},{"$f":"IF(AND(D215>=F10,D215<=G10),S10,0)","v":0},{"$f":"IF(AND(D215>=F11,D215<=G11),S11,0)","v":0},{"$f":"IF(AND(D215>=F12,D215<=G12),S12,0)","v":0},{"$f":"IF(AND(D215>=F13,D215<=G13),S13,0)","v":0},{"$f":"IF(AND(D215>=F14,D215<=G14),S14,0)","v":0},{"$f":"IF(AND(D215>=F15,D215<=G15),S15,0)","v":0},{"$f":"IF(AND(D215>=F16,D215<=G16),S16,0)","v":0},0,0,0,1]
[null,null,null,"2022-11-11",{"$f":"IF(D216<=G7,S7,0)","v":0},{"$f":"IF(AND(D216>=F8,D216<=G8),S8,0)","v":0},{"$f":"IF(AND(D216>=F9,D216<=G9),S9,0)","v":0},{"$f":"IF(AND(D216>=F10,D216<=G10),S10,0)","v":0},{"$f":"IF(AND(D216>=F11,D216<=G11),S11,0)","v":0},{"$f":"IF(AND(D216>=F12,D216<=G12),S12,0)","v":0},{"$f":"IF(AND(D216>=F13,D216<=G13),S13,0)","v":0},{"$f":"IF(AND(D216>=F14,D216<=G14),S14,0)","v":0},{"$f":"IF(AND(D216>=F15,D216<=G15),S15,0)","v":0},{"$f":"IF(AND(D216>=F16,D216<=G16),S16,0)","v":0},0,0,0,1]
[null,null,null,"2022-11-12",{"$f":"IF(D217<=G7,S7,0)","v":0},{"$f":"IF(AND(D217>=F8,D217<=G8),S8,0)","v":0},{"$f":"IF(AND(D217>=F9,D217<=G9),S9,0)","v":0},{"$f":"IF(AND(D217>=F10,D217<=G10),S10,0)","v":0},{"$f":"IF(AND(D217>=F11,D217<=G11),S11,0)","v":0},{"$f":"IF(AND(D217>=F12,D217<=G12),S12,0)","v":0},{"$f":"IF(AND(D217>=F13,D217<=G13),S13,0)","v":0},{"$f":"IF(AND(D217>=F14,D217<=G14),S14,0)","v":0},{"$f":"IF(AND(D217>=F15,D217<=G15),S15,0)","v":0},{"$f":"IF(AND(D217>=F16,D217<=G16),S16,0)","v":0},0,0,0,1]
[null,null,null,"2022-11-13",{"$f":"IF(D218<=G7,S7,0)","v":0},{"$f":"IF(AND(D218>=F8,D218<=G8),S8,0)","v":0},{"$f":"IF(AND(D218>=F9,D218<=G9),S9,0)","v":0},{"$f":"IF(AND(D218>=F10,D218<=G10),S10,0)","v":0},{"$f":"IF(AND(D218>=F11,D218<=G11),S11,0)","v":0},{"$f":"IF(AND(D218>=F12,D218<=G12),S12,0)","v":0},{"$f":"IF(AND(D218>=F13,D218<=G13),S13,0)","v":0},{"$f":"IF(AND(D218>=F14,D218<=G14),S14,0)","v":0},{"$f":"IF(AND(D218>=F15,D218<=G15),S15,0)","v":0},{"$f":"IF(AND(D218>=F16,D218<=G16),S16,0)","v":0},0,0,0,1]
[null,null,null,"2022-11-14",{"$f":"IF(D219<=G7,S7,0)","v":0},{"$f":"IF(AND(D219>=F8,D219<=G8),S8,0)","v":0},{"$f":"IF(AND(D219>=F9,D219<=G9),S9,0)","v":0},{"$f":"IF(AND(D219>=F10,D219<=G10),S10,0)","v":0},{"$f":"IF(AND(D219>=F11,D219<=G11),S11,0)","v":0},{"$f":"IF(AND(D219>=F12,D219<=G12),S12,0)","v":0},{"$f":"IF(AND(D219>=F13,D219<=G13),S13,0)","v":0},{"$f":"IF(AND(D219>=F14,D219<=G14),S14,0)","v":0},{"$f":"IF(AND(D219>=F15,D219<=G15),S15,0)","v":0},{"$f":"IF(AND(D219>=F16,D219<=G16),S16,0)","v":0},0,0,0,1]
[null,null,null,"2022-11-15",{"$f":"IF(D220<=G7,S7,0)","v":0},{"$f":"IF(AND(D220>=F8,D220<=G8),S8,0)","v":0},{"$f":"IF(AND(D220>=F9,D220<=G9),S9,0)","v":0},{"$f":"IF(AND(D220>=F10,D220<=G10),S10,0)","v":0},{"$f":"IF(AND(D220>=F11,D220<=G11),S11,0)","v":0},{"$f":"IF(AND(D220>=F12,D220<=G12),S12,0)","v":0},{"$f":"IF(AND(D220>=F13,D220<=G13),S13,0)","v":0},{"$f":"IF(AND(D220>=F14,D220<=G14),S14,0)","v":0},{"$f":"IF(AND(D220>=F15,D220<=G15),S15,0)","v":0},{"$f":"IF(AND(D220>=F16,D220<=G16),S16,0)","v":0},0,0,0,1]
[null,null,null,"2022-11-16",{"$f":"IF(D221<=G7,S7,0)","v":0},{"$f":"IF(AND(D221>=F8,D221<=G8),S8,0)","v":0},{"$f":"IF(AND(D221>=F9,D221<=G9),S9,0)","v":0},{"$f":"IF(AND(D221>=F10,D221<=G10),S10,0)","v":0},{"$f":"IF(AND(D221>=F11,D221<=G11),S11,0)","v":0},{"$f":"IF(AND(D221>=F12,D221<=G12),S12,0)","v":0},{"$f":"IF(AND(D221>=F13,D221<=G13),S13,0)","v":0},{"$f":"IF(AND(D221>=F14,D221<=G14),S14,0)","v":0},{"$f":"IF(AND(D221>=F15,D221<=G15),S15,0)","v":0},{"$f":"IF(AND(D221>=F16,D221<=G16),S16,0)","v":0},0,0,0,1]
[null,null,null,"2022-11-17",{"$f":"IF(D222<=G7,S7,0)","v":0},{"$f":"IF(AND(D222>=F8,D222<=G8),S8,0)","v":0},{"$f":"IF(AND(D222>=F9,D222<=G9),S9,0)","v":0},{"$f":"IF(AND(D222>=F10,D222<=G10),S10,0)","v":0},{"$f":"IF(AND(D222>=F11,D222<=G11),S11,0)","v":0},{"$f":"IF(AND(D222>=F12,D222<=G12),S12,0)","v":0},{"$f":"IF(AND(D222>=F13,D222<=G13),S13,0)","v":0},{"$f":"IF(AND(D222>=F14,D222<=G14),S14,0)","v":0},{"$f":"IF(AND(D222>=F15,D222<=G15),S15,0)","v":0},{"$f":"IF(AND(D222>=F16,D222<=G16),S16,0)","v":0},0,0,0,1]
[null,null,null,"2022-11-18",{"$f":"IF(D223<=G7,S7,0)","v":0},{"$f":"IF(AND(D223>=F8,D223<=G8),S8,0)","v":0},{"$f":"IF(AND(D223>=F9,D223<=G9),S9,0)","v":0},{"$f":"IF(AND(D223>=F10,D223<=G10),S10,0)","v":0},{"$f":"IF(AND(D223>=F11,D223<=G11),S11,0)","v":0},{"$f":"IF(AND(D223>=F12,D223<=G12),S12,0)","v":0},{"$f":"IF(AND(D223>=F13,D223<=G13),S13,0)","v":0},{"$f":"IF(AND(D223>=F14,D223<=G14),S14,0)","v":0},{"$f":"IF(AND(D223>=F15,D223<=G15),S15,0)","v":0},{"$f":"IF(AND(D223>=F16,D223<=G16),S16,0)","v":0},0,0,0,1]
[null,null,null,"2022-11-19",{"$f":"IF(D224<=G7,S7,0)","v":0},{"$f":"IF(AND(D224>=F8,D224<=G8),S8,0)","v":0},{"$f":"IF(AND(D224>=F9,D224<=G9),S9,0)","v":0},{"$f":"IF(AND(D224>=F10,D224<=G10),S10,0)","v":0},{"$f":"IF(AND(D224>=F11,D224<=G11),S11,0)","v":0},{"$f":"IF(AND(D224>=F12,D224<=G12),S12,0)","v":0},{"$f":"IF(AND(D224>=F13,D224<=G13),S13,0)","v":0},{"$f":"IF(AND(D224>=F14,D224<=G14),S14,0)","v":0},{"$f":"IF(AND(D224>=F15,D224<=G15),S15,0)","v":0},{"$f":"IF(AND(D224>=F16,D224<=G16),S16,0)","v":0},0,0,0,1]
[null,null,null,"2022-11-20",{"$f":"IF(D225<=G7,S7,0)","v":0},{"$f":"IF(AND(D225>=F8,D225<=G8),S8,0)","v":0},{"$f":"IF(AND(D225>=F9,D225<=G9),S9,0)","v":0},{"$f":"IF(AND(D225>=F10,D225<=G10),S10,0)","v":0},{"$f":"IF(AND(D225>=F11,D225<=G11),S11,0)","v":0},{"$f":"IF(AND(D225>=F12,D225<=G12),S12,0)","v":0},{"$f":"IF(AND(D225>=F13,D225<=G13),S13,0)","v":0},{"$f":"IF(AND(D225>=F14,D225<=G14),S14,0)","v":0},{"$f":"IF(AND(D225>=F15,D225<=G15),S15,0)","v":0},{"$f":"IF(AND(D225>=F16,D225<=G16),S16,0)","v":0},0,0,0,1]
[null,null,null,"2022-11-21",{"$f":"IF(D226<=G7,S7,0)","v":0},{"$f":"IF(AND(D226>=F8,D226<=G8),S8,0)","v":0},{"$f":"IF(AND(D226>=F9,D226<=G9),S9,0)","v":0},{"$f":"IF(AND(D226>=F10,D226<=G10),S10,0)","v":0},{"$f":"IF(AND(D226>=F11,D226<=G11),S11,0)","v":0},{"$f":"IF(AND(D226>=F12,D226<=G12),S12,0)","v":0},{"$f":"IF(AND(D226>=F13,D226<=G13),S13,0)","v":0},{"$f":"IF(AND(D226>=F14,D226<=G14),S14,0)","v":0},{"$f":"IF(AND(D226>=F15,D226<=G15),S15,0)","v":0},{"$f":"IF(AND(D226>=F16,D226<=G16),S16,0)","v":0},0,0,0,1]
[null,null,null,"2022-11-22",{"$f":"IF(D227<=G7,S7,0)","v":0},{"$f":"IF(AND(D227>=F8,D227<=G8),S8,0)","v":0},{"$f":"IF(AND(D227>=F9,D227<=G9),S9,0)","v":0},{"$f":"IF(AND(D227>=F10,D227<=G10),S10,0)","v":0},{"$f":"IF(AND(D227>=F11,D227<=G11),S11,0)","v":0},{"$f":"IF(AND(D227>=F12,D227<=G12),S12,0)","v":0},{"$f":"IF(AND(D227>=F13,D227<=G13),S13,0)","v":0},{"$f":"IF(AND(D227>=F14,D227<=G14),S14,0)","v":0},{"$f":"IF(AND(D227>=F15,D227<=G15),S15,0)","v":0},{"$f":"IF(AND(D227>=F16,D227<=G16),S16,0)","v":0},0,0,0,1]
[null,null,null,"2022-11-23",{"$f":"IF(D228<=G7,S7,0)","v":0},{"$f":"IF(AND(D228>=F8,D228<=G8),S8,0)","v":0},{"$f":"IF(AND(D228>=F9,D228<=G9),S9,0)","v":0},{"$f":"IF(AND(D228>=F10,D228<=G10),S10,0)","v":0},{"$f":"IF(AND(D228>=F11,D228<=G11),S11,0)","v":0},{"$f":"IF(AND(D228>=F12,D228<=G12),S12,0)","v":0},{"$f":"IF(AND(D228>=F13,D228<=G13),S13,0)","v":0},{"$f":"IF(AND(D228>=F14,D228<=G14),S14,0)","v":0},{"$f":"IF(AND(D228>=F15,D228<=G15),S15,0)","v":0},{"$f":"IF(AND(D228>=F16,D228<=G16),S16,0)","v":0},0,0,0,1]
[null,null,null,"2022-11-24",{"$f":"IF(D229<=G7,S7,0)","v":0},{"$f":"IF(AND(D229>=F8,D229<=G8),S8,0)","v":0},{"$f":"IF(AND(D229>=F9,D229<=G9),S9,0)","v":0},{"$f":"IF(AND(D229>=F10,D229<=G10),S10,0)","v":0},{"$f":"IF(AND(D229>=F11,D229<=G11),S11,0)","v":0},{"$f":"IF(AND(D229>=F12,D229<=G12),S12,0)","v":0},{"$f":"IF(AND(D229>=F13,D229<=G13),S13,0)","v":0},{"$f":"IF(AND(D229>=F14,D229<=G14),S14,0)","v":0},{"$f":"IF(AND(D229>=F15,D229<=G15),S15,0)","v":0},{"$f":"IF(AND(D229>=F16,D229<=G16),S16,0)","v":0},0,0,0,1]
[null,null,null,"2022-11-25",{"$f":"IF(D230<=G7,S7,0)","v":0},{"$f":"IF(AND(D230>=F8,D230<=G8),S8,0)","v":0},{"$f":"IF(AND(D230>=F9,D230<=G9),S9,0)","v":0},{"$f":"IF(AND(D230>=F10,D230<=G10),S10,0)","v":0},{"$f":"IF(AND(D230>=F11,D230<=G11),S11,0)","v":0},{"$f":"IF(AND(D230>=F12,D230<=G12),S12,0)","v":0},{"$f":"IF(AND(D230>=F13,D230<=G13),S13,0)","v":0},{"$f":"IF(AND(D230>=F14,D230<=G14),S14,0)","v":0},{"$f":"IF(AND(D230>=F15,D230<=G15),S15,0)","v":0},{"$f":"IF(AND(D230>=F16,D230<=G16),S16,0)","v":0},0,0,0,1]
[null,null,null,"2022-11-26",{"$f":"IF(D231<=G7,S7,0)","v":0},{"$f":"IF(AND(D231>=F8,D231<=G8),S8,0)","v":0},{"$f":"IF(AND(D231>=F9,D231<=G9),S9,0)","v":0},{"$f":"IF(AND(D231>=F10,D231<=G10),S10,0)","v":0},{"$f":"IF(AND(D231>=F11,D231<=G11),S11,0)","v":0},{"$f":"IF(AND(D231>=F12,D231<=G12),S12,0)","v":0},{"$f":"IF(AND(D231>=F13,D231<=G13),S13,0)","v":0},{"$f":"IF(AND(D231>=F14,D231<=G14),S14,0)","v":0},{"$f":"IF(AND(D231>=F15,D231<=G15),S15,0)","v":0},{"$f":"IF(AND(D231>=F16,D231<=G16),S16,0)","v":0},0,0,0,1]
[null,null,null,"2022-11-27",{"$f":"IF(D232<=G7,S7,0)","v":0},{"$f":"IF(AND(D232>=F8,D232<=G8),S8,0)","v":0},{"$f":"IF(AND(D232>=F9,D232<=G9),S9,0)","v":0},{"$f":"IF(AND(D232>=F10,D232<=G10),S10,0)","v":0},{"$f":"IF(AND(D232>=F11,D232<=G11),S11,0)","v":0},{"$f":"IF(AND(D232>=F12,D232<=G12),S12,0)","v":0},{"$f":"IF(AND(D232>=F13,D232<=G13),S13,0)","v":0},{"$f":"IF(AND(D232>=F14,D232<=G14),S14,0)","v":0},{"$f":"IF(AND(D232>=F15,D232<=G15),S15,0)","v":0},{"$f":"IF(AND(D232>=F16,D232<=G16),S16,0)","v":0},0,0,0,1]
[null,null,null,"2022-11-28",{"$f":"IF(D233<=G7,S7,0)","v":0},{"$f":"IF(AND(D233>=F8,D233<=G8),S8,0)","v":0},{"$f":"IF(AND(D233>=F9,D233<=G9),S9,0)","v":0},{"$f":"IF(AND(D233>=F10,D233<=G10),S10,0)","v":0},{"$f":"IF(AND(D233>=F11,D233<=G11),S11,0)","v":0},{"$f":"IF(AND(D233>=F12,D233<=G12),S12,0)","v":0},{"$f":"IF(AND(D233>=F13,D233<=G13),S13,0)","v":0},{"$f":"IF(AND(D233>=F14,D233<=G14),S14,0)","v":0},{"$f":"IF(AND(D233>=F15,D233<=G15),S15,0)","v":0},{"$f":"IF(AND(D233>=F16,D233<=G16),S16,0)","v":0},0,0,0,1]
[null,null,null,"2022-11-29",{"$f":"IF(D234<=G7,S7,0)","v":0},{"$f":"IF(AND(D234>=F8,D234<=G8),S8,0)","v":0},{"$f":"IF(AND(D234>=F9,D234<=G9),S9,0)","v":0},{"$f":"IF(AND(D234>=F10,D234<=G10),S10,0)","v":0},{"$f":"IF(AND(D234>=F11,D234<=G11),S11,0)","v":0},{"$f":"IF(AND(D234>=F12,D234<=G12),S12,0)","v":0},{"$f":"IF(AND(D234>=F13,D234<=G13),S13,0)","v":0},{"$f":"IF(AND(D234>=F14,D234<=G14),S14,0)","v":0},{"$f":"IF(AND(D234>=F15,D234<=G15),S15,0)","v":0},{"$f":"IF(AND(D234>=F16,D234<=G16),S16,0)","v":0},0,0,0,1]
[null,null,null,"2022-11-30",{"$f":"IF(D235<=G7,S7,0)","v":0},{"$f":"IF(AND(D235>=F8,D235<=G8),S8,0)","v":0},{"$f":"IF(AND(D235>=F9,D235<=G9),S9,0)","v":0},{"$f":"IF(AND(D235>=F10,D235<=G10),S10,0)","v":0},{"$f":"IF(AND(D235>=F11,D235<=G11),S11,0)","v":0},{"$f":"IF(AND(D235>=F12,D235<=G12),S12,0)","v":0},{"$f":"IF(AND(D235>=F13,D235<=G13),S13,0)","v":0},{"$f":"IF(AND(D235>=F14,D235<=G14),S14,0)","v":0},{"$f":"IF(AND(D235>=F15,D235<=G15),S15,0)","v":0},{"$f":"IF(AND(D235>=F16,D235<=G16),S16,0)","v":0},0,0,0,1]
[null,null,null,"2022-12-02",{"$f":"IF(D236<=G7,S7,0)","v":0},{"$f":"IF(AND(D236>=F8,D236<=G8),S8,0)","v":0},{"$f":"IF(AND(D236>=F9,D236<=G9),S9,0)","v":0},{"$f":"IF(AND(D236>=F10,D236<=G10),S10,0)","v":0},{"$f":"IF(AND(D236>=F11,D236<=G11),S11,0)","v":0},{"$f":"IF(AND(D236>=F12,D236<=G12),S12,0)","v":0},{"$f":"IF(AND(D236>=F13,D236<=G13),S13,0)","v":0},{"$f":"IF(AND(D236>=F14,D236<=G14),S14,0)","v":0},{"$f":"IF(AND(D236>=F15,D236<=G15),S15,0)","v":0},{"$f":"IF(AND(D236>=F16,D236<=G16),S16,0)","v":0},0,0,0,1]
[null,null,null,"2022-12-03",{"$f":"IF(D237<=G7,S7,0)","v":0},{"$f":"IF(AND(D237>=F8,D237<=G8),S8,0)","v":0},{"$f":"IF(AND(D237>=F9,D237<=G9),S9,0)","v":0},{"$f":"IF(AND(D237>=F10,D237<=G10),S10,0)","v":0},{"$f":"IF(AND(D237>=F11,D237<=G11),S11,0)","v":0},{"$f":"IF(AND(D237>=F12,D237<=G12),S12,0)","v":0},{"$f":"IF(AND(D237>=F13,D237<=G13),S13,0)","v":0},{"$f":"IF(AND(D237>=F14,D237<=G14),S14,0)","v":0},{"$f":"IF(AND(D237>=F15,D237<=G15),S15,0)","v":0},{"$f":"IF(AND(D237>=F16,D237<=G16),S16,0)","v":0},0,0,0,1]
[null,null,null,"2022-12-04",{"$f":"IF(D238<=G7,S7,0)","v":0},{"$f":"IF(AND(D238>=F8,D238<=G8),S8,0)","v":0},{"$f":"IF(AND(D238>=F9,D238<=G9),S9,0)","v":0},{"$f":"IF(AND(D238>=F10,D238<=G10),S10,0)","v":0},{"$f":"IF(AND(D238>=F11,D238<=G11),S11,0)","v":0},{"$f":"IF(AND(D238>=F12,D238<=G12),S12,0)","v":0},{"$f":"IF(AND(D238>=F13,D238<=G13),S13,0)","v":0},{"$f":"IF(AND(D238>=F14,D238<=G14),S14,0)","v":0},{"$f":"IF(AND(D238>=F15,D238<=G15),S15,0)","v":0},{"$f":"IF(AND(D238>=F16,D238<=G16),S16,0)","v":0},0,0,0,1]
[null,null,null,"2022-12-05",{"$f":"IF(D239<=G7,S7,0)","v":0},{"$f":"IF(AND(D239>=F8,D239<=G8),S8,0)","v":0},{"$f":"IF(AND(D239>=F9,D239<=G9),S9,0)","v":0},{"$f":"IF(AND(D239>=F10,D239<=G10),S10,0)","v":0},{"$f":"IF(AND(D239>=F11,D239<=G11),S11,0)","v":0},{"$f":"IF(AND(D239>=F12,D239<=G12),S12,0)","v":0},{"$f":"IF(AND(D239>=F13,D239<=G13),S13,0)","v":0},{"$f":"IF(AND(D239>=F14,D239<=G14),S14,0)","v":0},{"$f":"IF(AND(D239>=F15,D239<=G15),S15,0)","v":0},{"$f":"IF(AND(D239>=F16,D239<=G16),S16,0)","v":0},0,0,0,1]
[null,null,null,"2022-12-06",{"$f":"IF(D240<=G7,S7,0)","v":0},{"$f":"IF(AND(D240>=F8,D240<=G8),S8,0)","v":0},{"$f":"IF(AND(D240>=F9,D240<=G9),S9,0)","v":0},{"$f":"IF(AND(D240>=F10,D240<=G10),S10,0)","v":0},{"$f":"IF(AND(D240>=F11,D240<=G11),S11,0)","v":0},{"$f":"IF(AND(D240>=F12,D240<=G12),S12,0)","v":0},{"$f":"IF(AND(D240>=F13,D240<=G13),S13,0)","v":0},{"$f":"IF(AND(D240>=F14,D240<=G14),S14,0)","v":0},{"$f":"IF(AND(D240>=F15,D240<=G15),S15,0)","v":0},{"$f":"IF(AND(D240>=F16,D240<=G16),S16,0)","v":0},0,0,0,1]
[null,null,null,"2022-12-07",{"$f":"IF(D241<=G7,S7,0)","v":0},{"$f":"IF(AND(D241>=F8,D241<=G8),S8,0)","v":0},{"$f":"IF(AND(D241>=F9,D241<=G9),S9,0)","v":0},{"$f":"IF(AND(D241>=F10,D241<=G10),S10,0)","v":0},{"$f":"IF(AND(D241>=F11,D241<=G11),S11,0)","v":0},{"$f":"IF(AND(D241>=F12,D241<=G12),S12,0)","v":0},{"$f":"IF(AND(D241>=F13,D241<=G13),S13,0)","v":0},{"$f":"IF(AND(D241>=F14,D241<=G14),S14,0)","v":0},{"$f":"IF(AND(D241>=F15,D241<=G15),S15,0)","v":0},{"$f":"IF(AND(D241>=F16,D241<=G16),S16,0)","v":0},0,0,0,1]
[null,null,null,"2022-12-08",{"$f":"IF(D242<=G7,S7,0)","v":0},{"$f":"IF(AND(D242>=F8,D242<=G8),S8,0)","v":0},{"$f":"IF(AND(D242>=F9,D242<=G9),S9,0)","v":0},{"$f":"IF(AND(D242>=F10,D242<=G10),S10,0)","v":0},{"$f":"IF(AND(D242>=F11,D242<=G11),S11,0)","v":0},{"$f":"IF(AND(D242>=F12,D242<=G12),S12,0)","v":0},{"$f":"IF(AND(D242>=F13,D242<=G13),S13,0)","v":0},{"$f":"IF(AND(D242>=F14,D242<=G14),S14,0)","v":0},{"$f":"IF(AND(D242>=F15,D242<=G15),S15,0)","v":0},{"$f":"IF(AND(D242>=F16,D242<=G16),S16,0)","v":0},0,0,0,1]
[null,null,null,"2022-12-09",{"$f":"IF(D243<=G7,S7,0)","v":0},{"$f":"IF(AND(D243>=F8,D243<=G8),S8,0)","v":0},{"$f":"IF(AND(D243>=F9,D243<=G9),S9,0)","v":0},{"$f":"IF(AND(D243>=F10,D243<=G10),S10,0)","v":0},{"$f":"IF(AND(D243>=F11,D243<=G11),S11,0)","v":0},{"$f":"IF(AND(D243>=F12,D243<=G12),S12,0)","v":0},{"$f":"IF(AND(D243>=F13,D243<=G13),S13,0)","v":0},{"$f":"IF(AND(D243>=F14,D243<=G14),S14,0)","v":0},{"$f":"IF(AND(D243>=F15,D243<=G15),S15,0)","v":0},{"$f":"IF(AND(D243>=F16,D243<=G16),S16,0)","v":0},0,{"$f":"IF(O243>=1,1,O243)","v":0},0,1]
[null,null,null,{"$f":"IF(DAY(D243)+1=31, D243+2, D243+1)","v":"2022-12-10"},{"$f":"IF(D244<=G7,S7,0)","v":0},{"$f":"IF(AND(D244>=F8,D244<=G8),S8,0)","v":0},{"$f":"IF(AND(D244>=F9,D244<=G9),S9,0)","v":0},{"$f":"IF(AND(D244>=F10,D244<=G10),S10,0)","v":0},{"$f":"IF(AND(D244>=F11,D244<=G11),S11,0)","v":0},{"$f":"IF(AND(D244>=F12,D244<=G12),S12,0)","v":0},{"$f":"IF(AND(D244>=F13,D244<=G13),S13,0)","v":0},{"$f":"IF(AND(D244>=F14,D244<=G14),S14,0)","v":0},{"$f":"IF(AND(D244>=F15,D244<=G15),S15,0)","v":0},{"$f":"IF(AND(D244>=F16,D244<=G16),S16,0)","v":0},{"$f":"SUM(E244:N244)","v":0},0,0,1]
[null,null,null,"2022-12-11",{"$f":"IF(D245<=G7,S7,0)","v":0},{"$f":"IF(AND(D245>=F8,D245<=G8),S8,0)","v":0},{"$f":"IF(AND(D245>=F9,D245<=G9),S9,0)","v":0},{"$f":"IF(AND(D245>=F10,D245<=G10),S10,0)","v":0},{"$f":"IF(AND(D245>=F11,D245<=G11),S11,0)","v":0},{"$f":"IF(AND(D245>=F12,D245<=G12),S12,0)","v":0},{"$f":"IF(AND(D245>=F13,D245<=G13),S13,0)","v":0},{"$f":"IF(AND(D245>=F14,D245<=G14),S14,0)","v":0},{"$f":"IF(AND(D245>=F15,D245<=G15),S15,0)","v":0},{"$f":"IF(AND(D245>=F16,D245<=G16),S16,0)","v":0},0,0,{"$f":"IF(P244=P245,0,1)","v":0},{"$f":"SUM(Q244,R244)","v":1}]
[null,null,null,"2022-12-12",{"$f":"IF(D246<=G7,S7,0)","v":0},{"$f":"IF(AND(D246>=F8,D246<=G8),S8,0)","v":0},{"$f":"IF(AND(D246>=F9,D246<=G9),S9,0)","v":0},{"$f":"IF(AND(D246>=F10,D246<=G10),S10,0)","v":0},{"$f":"IF(AND(D246>=F11,D246<=G11),S11,0)","v":0},{"$f":"IF(AND(D246>=F12,D246<=G12),S12,0)","v":0},{"$f":"IF(AND(D246>=F13,D246<=G13),S13,0)","v":0},{"$f":"IF(AND(D246>=F14,D246<=G14),S14,0)","v":0},{"$f":"IF(AND(D246>=F15,D246<=G15),S15,0)","v":0},{"$f":"IF(AND(D246>=F16,D246<=G16),S16,0)","v":0},0,0,0,1]
[null,null,null,"2022-12-13",{"$f":"IF(D247<=G7,S7,0)","v":0},{"$f":"IF(AND(D247>=F8,D247<=G8),S8,0)","v":0},{"$f":"IF(AND(D247>=F9,D247<=G9),S9,0)","v":0},{"$f":"IF(AND(D247>=F10,D247<=G10),S10,0)","v":0},{"$f":"IF(AND(D247>=F11,D247<=G11),S11,0)","v":0},{"$f":"IF(AND(D247>=F12,D247<=G12),S12,0)","v":0},{"$f":"IF(AND(D247>=F13,D247<=G13),S13,0)","v":0},{"$f":"IF(AND(D247>=F14,D247<=G14),S14,0)","v":0},{"$f":"IF(AND(D247>=F15,D247<=G15),S15,0)","v":0},{"$f":"IF(AND(D247>=F16,D247<=G16),S16,0)","v":0},0,0,0,1]
[null,null,null,"2022-12-14",{"$f":"IF(D248<=G7,S7,0)","v":0},{"$f":"IF(AND(D248>=F8,D248<=G8),S8,0)","v":0},{"$f":"IF(AND(D248>=F9,D248<=G9),S9,0)","v":0},{"$f":"IF(AND(D248>=F10,D248<=G10),S10,0)","v":0},{"$f":"IF(AND(D248>=F11,D248<=G11),S11,0)","v":0},{"$f":"IF(AND(D248>=F12,D248<=G12),S12,0)","v":0},{"$f":"IF(AND(D248>=F13,D248<=G13),S13,0)","v":0},{"$f":"IF(AND(D248>=F14,D248<=G14),S14,0)","v":0},{"$f":"IF(AND(D248>=F15,D248<=G15),S15,0)","v":0},{"$f":"IF(AND(D248>=F16,D248<=G16),S16,0)","v":0},0,0,0,1]
[null,null,null,"2022-12-15",{"$f":"IF(D249<=G7,S7,0)","v":0},{"$f":"IF(AND(D249>=F8,D249<=G8),S8,0)","v":0},{"$f":"IF(AND(D249>=F9,D249<=G9),S9,0)","v":0},{"$f":"IF(AND(D249>=F10,D249<=G10),S10,0)","v":0},{"$f":"IF(AND(D249>=F11,D249<=G11),S11,0)","v":0},{"$f":"IF(AND(D249>=F12,D249<=G12),S12,0)","v":0},{"$f":"IF(AND(D249>=F13,D249<=G13),S13,0)","v":0},{"$f":"IF(AND(D249>=F14,D249<=G14),S14,0)","v":0},{"$f":"IF(AND(D249>=F15,D249<=G15),S15,0)","v":0},{"$f":"IF(AND(D249>=F16,D249<=G16),S16,0)","v":0},0,0,0,1]
[null,null,null,"2022-12-16",{"$f":"IF(D250<=G7,S7,0)","v":0},{"$f":"IF(AND(D250>=F8,D250<=G8),S8,0)","v":0},{"$f":"IF(AND(D250>=F9,D250<=G9),S9,0)","v":0},{"$f":"IF(AND(D250>=F10,D250<=G10),S10,0)","v":0},{"$f":"IF(AND(D250>=F11,D250<=G11),S11,0)","v":0},{"$f":"IF(AND(D250>=F12,D250<=G12),S12,0)","v":0},{"$f":"IF(AND(D250>=F13,D250<=G13),S13,0)","v":0},{"$f":"IF(AND(D250>=F14,D250<=G14),S14,0)","v":0},{"$f":"IF(AND(D250>=F15,D250<=G15),S15,0)","v":0},{"$f":"IF(AND(D250>=F16,D250<=G16),S16,0)","v":0},0,0,0,1]
[null,null,null,"2022-12-17",{"$f":"IF(D251<=G7,S7,0)","v":0},{"$f":"IF(AND(D251>=F8,D251<=G8),S8,0)","v":0},{"$f":"IF(AND(D251>=F9,D251<=G9),S9,0)","v":0},{"$f":"IF(AND(D251>=F10,D251<=G10),S10,0)","v":0},{"$f":"IF(AND(D251>=F11,D251<=G11),S11,0)","v":0},{"$f":"IF(AND(D251>=F12,D251<=G12),S12,0)","v":0},{"$f":"IF(AND(D251>=F13,D251<=G13),S13,0)","v":0},{"$f":"IF(AND(D251>=F14,D251<=G14),S14,0)","v":0},{"$f":"IF(AND(D251>=F15,D251<=G15),S15,0)","v":0},{"$f":"IF(AND(D251>=F16,D251<=G16),S16,0)","v":0},0,0,0,1]
[null,null,null,"2022-12-18",{"$f":"IF(D252<=G7,S7,0)","v":0},{"$f":"IF(AND(D252>=F8,D252<=G8),S8,0)","v":0},{"$f":"IF(AND(D252>=F9,D252<=G9),S9,0)","v":0},{"$f":"IF(AND(D252>=F10,D252<=G10),S10,0)","v":0},{"$f":"IF(AND(D252>=F11,D252<=G11),S11,0)","v":0},{"$f":"IF(AND(D252>=F12,D252<=G12),S12,0)","v":0},{"$f":"IF(AND(D252>=F13,D252<=G13),S13,0)","v":0},{"$f":"IF(AND(D252>=F14,D252<=G14),S14,0)","v":0},{"$f":"IF(AND(D252>=F15,D252<=G15),S15,0)","v":0},{"$f":"IF(AND(D252>=F16,D252<=G16),S16,0)","v":0},0,0,0,1]
[null,null,null,"2022-12-19",{"$f":"IF(D253<=G7,S7,0)","v":0},{"$f":"IF(AND(D253>=F8,D253<=G8),S8,0)","v":0},{"$f":"IF(AND(D253>=F9,D253<=G9),S9,0)","v":0},{"$f":"IF(AND(D253>=F10,D253<=G10),S10,0)","v":0},{"$f":"IF(AND(D253>=F11,D253<=G11),S11,0)","v":0},{"$f":"IF(AND(D253>=F12,D253<=G12),S12,0)","v":0},{"$f":"IF(AND(D253>=F13,D253<=G13),S13,0)","v":0},{"$f":"IF(AND(D253>=F14,D253<=G14),S14,0)","v":0},{"$f":"IF(AND(D253>=F15,D253<=G15),S15,0)","v":0},{"$f":"IF(AND(D253>=F16,D253<=G16),S16,0)","v":0},0,0,0,1]
[null,null,null,"2022-12-20",{"$f":"IF(D254<=G7,S7,0)","v":0},{"$f":"IF(AND(D254>=F8,D254<=G8),S8,0)","v":0},{"$f":"IF(AND(D254>=F9,D254<=G9),S9,0)","v":0},{"$f":"IF(AND(D254>=F10,D254<=G10),S10,0)","v":0},{"$f":"IF(AND(D254>=F11,D254<=G11),S11,0)","v":0},{"$f":"IF(AND(D254>=F12,D254<=G12),S12,0)","v":0},{"$f":"IF(AND(D254>=F13,D254<=G13),S13,0)","v":0},{"$f":"IF(AND(D254>=F14,D254<=G14),S14,0)","v":0},{"$f":"IF(AND(D254>=F15,D254<=G15),S15,0)","v":0},{"$f":"IF(AND(D254>=F16,D254<=G16),S16,0)","v":0},0,0,0,1]
[null,null,null,"2022-12-21",{"$f":"IF(D255<=G7,S7,0)","v":0},{"$f":"IF(AND(D255>=F8,D255<=G8),S8,0)","v":0},{"$f":"IF(AND(D255>=F9,D255<=G9),S9,0)","v":0},{"$f":"IF(AND(D255>=F10,D255<=G10),S10,0)","v":0},{"$f":"IF(AND(D255>=F11,D255<=G11),S11,0)","v":0},{"$f":"IF(AND(D255>=F12,D255<=G12),S12,0)","v":0},{"$f":"IF(AND(D255>=F13,D255<=G13),S13,0)","v":0},{"$f":"IF(AND(D255>=F14,D255<=G14),S14,0)","v":0},{"$f":"IF(AND(D255>=F15,D255<=G15),S15,0)","v":0},{"$f":"IF(AND(D255>=F16,D255<=G16),S16,0)","v":0},0,0,0,1]
[null,null,null,"2022-12-22",{"$f":"IF(D256<=G7,S7,0)","v":0},{"$f":"IF(AND(D256>=F8,D256<=G8),S8,0)","v":0},{"$f":"IF(AND(D256>=F9,D256<=G9),S9,0)","v":0},{"$f":"IF(AND(D256>=F10,D256<=G10),S10,0)","v":0},{"$f":"IF(AND(D256>=F11,D256<=G11),S11,0)","v":0},{"$f":"IF(AND(D256>=F12,D256<=G12),S12,0)","v":0},{"$f":"IF(AND(D256>=F13,D256<=G13),S13,0)","v":0},{"$f":"IF(AND(D256>=F14,D256<=G14),S14,0)","v":0},{"$f":"IF(AND(D256>=F15,D256<=G15),S15,0)","v":0},{"$f":"IF(AND(D256>=F16,D256<=G16),S16,0)","v":0},0,0,0,1]
[null,null,null,"2022-12-23",{"$f":"IF(D257<=G7,S7,0)","v":0},{"$f":"IF(AND(D257>=F8,D257<=G8),S8,0)","v":0},{"$f":"IF(AND(D257>=F9,D257<=G9),S9,0)","v":0},{"$f":"IF(AND(D257>=F10,D257<=G10),S10,0)","v":0},{"$f":"IF(AND(D257>=F11,D257<=G11),S11,0)","v":0},{"$f":"IF(AND(D257>=F12,D257<=G12),S12,0)","v":0},{"$f":"IF(AND(D257>=F13,D257<=G13),S13,0)","v":0},{"$f":"IF(AND(D257>=F14,D257<=G14),S14,0)","v":0},{"$f":"IF(AND(D257>=F15,D257<=G15),S15,0)","v":0},{"$f":"IF(AND(D257>=F16,D257<=G16),S16,0)","v":0},0,0,0,1]
[null,null,null,"2022-12-24",{"$f":"IF(D258<=G7,S7,0)","v":0},{"$f":"IF(AND(D258>=F8,D258<=G8),S8,0)","v":0},{"$f":"IF(AND(D258>=F9,D258<=G9),S9,0)","v":0},{"$f":"IF(AND(D258>=F10,D258<=G10),S10,0)","v":0},{"$f":"IF(AND(D258>=F11,D258<=G11),S11,0)","v":0},{"$f":"IF(AND(D258>=F12,D258<=G12),S12,0)","v":0},{"$f":"IF(AND(D258>=F13,D258<=G13),S13,0)","v":0},{"$f":"IF(AND(D258>=F14,D258<=G14),S14,0)","v":0},{"$f":"IF(AND(D258>=F15,D258<=G15),S15,0)","v":0},{"$f":"IF(AND(D258>=F16,D258<=G16),S16,0)","v":0},0,0,0,1]
[null,null,null,"2022-12-25",{"$f":"IF(D259<=G7,S7,0)","v":0},{"$f":"IF(AND(D259>=F8,D259<=G8),S8,0)","v":0},{"$f":"IF(AND(D259>=F9,D259<=G9),S9,0)","v":0},{"$f":"IF(AND(D259>=F10,D259<=G10),S10,0)","v":0},{"$f":"IF(AND(D259>=F11,D259<=G11),S11,0)","v":0},{"$f":"IF(AND(D259>=F12,D259<=G12),S12,0)","v":0},{"$f":"IF(AND(D259>=F13,D259<=G13),S13,0)","v":0},{"$f":"IF(AND(D259>=F14,D259<=G14),S14,0)","v":0},{"$f":"IF(AND(D259>=F15,D259<=G15),S15,0)","v":0},{"$f":"IF(AND(D259>=F16,D259<=G16),S16,0)","v":0},0,0,0,1]
[null,null,null,"2022-12-26",{"$f":"IF(D260<=G7,S7,0)","v":0},{"$f":"IF(AND(D260>=F8,D260<=G8),S8,0)","v":0},{"$f":"IF(AND(D260>=F9,D260<=G9),S9,0)","v":0},{"$f":"IF(AND(D260>=F10,D260<=G10),S10,0)","v":0},{"$f":"IF(AND(D260>=F11,D260<=G11),S11,0)","v":0},{"$f":"IF(AND(D260>=F12,D260<=G12),S12,0)","v":0},{"$f":"IF(AND(D260>=F13,D260<=G13),S13,0)","v":0},{"$f":"IF(AND(D260>=F14,D260<=G14),S14,0)","v":0},{"$f":"IF(AND(D260>=F15,D260<=G15),S15,0)","v":0},{"$f":"IF(AND(D260>=F16,D260<=G16),S16,0)","v":0},0,0,0,1]
[null,null,null,"2022-12-27",{"$f":"IF(D261<=G7,S7,0)","v":0},{"$f":"IF(AND(D261>=F8,D261<=G8),S8,0)","v":0},{"$f":"IF(AND(D261>=F9,D261<=G9),S9,0)","v":0},{"$f":"IF(AND(D261>=F10,D261<=G10),S10,0)","v":0},{"$f":"IF(AND(D261>=F11,D261<=G11),S11,0)","v":0},{"$f":"IF(AND(D261>=F12,D261<=G12),S12,0)","v":0},{"$f":"IF(AND(D261>=F13,D261<=G13),S13,0)","v":0},{"$f":"IF(AND(D261>=F14,D261<=G14),S14,0)","v":0},{"$f":"IF(AND(D261>=F15,D261<=G15),S15,0)","v":0},{"$f":"IF(AND(D261>=F16,D261<=G16),S16,0)","v":0},0,0,0,1]
[null,null,null,"2022-12-28",{"$f":"IF(D262<=G7,S7,0)","v":0},{"$f":"IF(AND(D262>=F8,D262<=G8),S8,0)","v":0},{"$f":"IF(AND(D262>=F9,D262<=G9),S9,0)","v":0},{"$f":"IF(AND(D262>=F10,D262<=G10),S10,0)","v":0},{"$f":"IF(AND(D262>=F11,D262<=G11),S11,0)","v":0},{"$f":"IF(AND(D262>=F12,D262<=G12),S12,0)","v":0},{"$f":"IF(AND(D262>=F13,D262<=G13),S13,0)","v":0},{"$f":"IF(AND(D262>=F14,D262<=G14),S14,0)","v":0},{"$f":"IF(AND(D262>=F15,D262<=G15),S15,0)","v":0},{"$f":"IF(AND(D262>=F16,D262<=G16),S16,0)","v":0},0,0,0,1]
[null,null,null,"2022-12-29",{"$f":"IF(D263<=G7,S7,0)","v":0},{"$f":"IF(AND(D263>=F8,D263<=G8),S8,0)","v":0},{"$f":"IF(AND(D263>=F9,D263<=G9),S9,0)","v":0},{"$f":"IF(AND(D263>=F10,D263<=G10),S10,0)","v":0},{"$f":"IF(AND(D263>=F11,D263<=G11),S11,0)","v":0},{"$f":"IF(AND(D263>=F12,D263<=G12),S12,0)","v":0},{"$f":"IF(AND(D263>=F13,D263<=G13),S13,0)","v":0},{"$f":"IF(AND(D263>=F14,D263<=G14),S14,0)","v":0},{"$f":"IF(AND(D263>=F15,D263<=G15),S15,0)","v":0},{"$f":"IF(AND(D263>=F16,D263<=G16),S16,0)","v":0},0,0,0,1]
[null,null,null,"2022-12-30",{"$f":"IF(D264<=G7,S7,0)","v":0},{"$f":"IF(AND(D264>=F8,D264<=G8),S8,0)","v":0},{"$f":"IF(AND(D264>=F9,D264<=G9),S9,0)","v":0},{"$f":"IF(AND(D264>=F10,D264<=G10),S10,0)","v":0},{"$f":"IF(AND(D264>=F11,D264<=G11),S11,0)","v":0},{"$f":"IF(AND(D264>=F12,D264<=G12),S12,0)","v":0},{"$f":"IF(AND(D264>=F13,D264<=G13),S13,0)","v":0},{"$f":"IF(AND(D264>=F14,D264<=G14),S14,0)","v":0},{"$f":"IF(AND(D264>=F15,D264<=G15),S15,0)","v":0},{"$f":"IF(AND(D264>=F16,D264<=G16),S16,0)","v":0},0,0,0,1]
[null,null,null,"2023-01-01",{"$f":"IF(D265<=G7,S7,0)","v":0},{"$f":"IF(AND(D265>=F8,D265<=G8),S8,0)","v":0},{"$f":"IF(AND(D265>=F9,D265<=G9),S9,0)","v":0},{"$f":"IF(AND(D265>=F10,D265<=G10),S10,0)","v":0},{"$f":"IF(AND(D265>=F11,D265<=G11),S11,0)","v":0},{"$f":"IF(AND(D265>=F12,D265<=G12),S12,0)","v":0},{"$f":"IF(AND(D265>=F13,D265<=G13),S13,0)","v":0},{"$f":"IF(AND(D265>=F14,D265<=G14),S14,0)","v":0},{"$f":"IF(AND(D265>=F15,D265<=G15),S15,0)","v":0},{"$f":"IF(AND(D265>=F16,D265<=G16),S16,0)","v":0},0,0,0,1]
[null,null,null,"2023-01-02",{"$f":"IF(D266<=G7,S7,0)","v":0},{"$f":"IF(AND(D266>=F8,D266<=G8),S8,0)","v":0},{"$f":"IF(AND(D266>=F9,D266<=G9),S9,0)","v":0},{"$f":"IF(AND(D266>=F10,D266<=G10),S10,0)","v":0},{"$f":"IF(AND(D266>=F11,D266<=G11),S11,0)","v":0},{"$f":"IF(AND(D266>=F12,D266<=G12),S12,0)","v":0},{"$f":"IF(AND(D266>=F13,D266<=G13),S13,0)","v":0},{"$f":"IF(AND(D266>=F14,D266<=G14),S14,0)","v":0},{"$f":"IF(AND(D266>=F15,D266<=G15),S15,0)","v":0},{"$f":"IF(AND(D266>=F16,D266<=G16),S16,0)","v":0},0,0,0,1]
[null,null,null,"2023-01-03",{"$f":"IF(D267<=G7,S7,0)","v":0},{"$f":"IF(AND(D267>=F8,D267<=G8),S8,0)","v":0},{"$f":"IF(AND(D267>=F9,D267<=G9),S9,0)","v":0},{"$f":"IF(AND(D267>=F10,D267<=G10),S10,0)","v":0},{"$f":"IF(AND(D267>=F11,D267<=G11),S11,0)","v":0},{"$f":"IF(AND(D267>=F12,D267<=G12),S12,0)","v":0},{"$f":"IF(AND(D267>=F13,D267<=G13),S13,0)","v":0},{"$f":"IF(AND(D267>=F14,D267<=G14),S14,0)","v":0},{"$f":"IF(AND(D267>=F15,D267<=G15),S15,0)","v":0},{"$f":"IF(AND(D267>=F16,D267<=G16),S16,0)","v":0},0,0,0,1]
[null,null,null,"2023-01-04",{"$f":"IF(D268<=G7,S7,0)","v":0},{"$f":"IF(AND(D268>=F8,D268<=G8),S8,0)","v":0},{"$f":"IF(AND(D268>=F9,D268<=G9),S9,0)","v":0},{"$f":"IF(AND(D268>=F10,D268<=G10),S10,0)","v":0},{"$f":"IF(AND(D268>=F11,D268<=G11),S11,0)","v":0},{"$f":"IF(AND(D268>=F12,D268<=G12),S12,0)","v":0},{"$f":"IF(AND(D268>=F13,D268<=G13),S13,0)","v":0},{"$f":"IF(AND(D268>=F14,D268<=G14),S14,0)","v":0},{"$f":"IF(AND(D268>=F15,D268<=G15),S15,0)","v":0},{"$f":"IF(AND(D268>=F16,D268<=G16),S16,0)","v":0},0,0,0,1]
[null,null,null,"2023-01-05",{"$f":"IF(D269<=G7,S7,0)","v":0},{"$f":"IF(AND(D269>=F8,D269<=G8),S8,0)","v":0},{"$f":"IF(AND(D269>=F9,D269<=G9),S9,0)","v":0},{"$f":"IF(AND(D269>=F10,D269<=G10),S10,0)","v":0},{"$f":"IF(AND(D269>=F11,D269<=G11),S11,0)","v":0},{"$f":"IF(AND(D269>=F12,D269<=G12),S12,0)","v":0},{"$f":"IF(AND(D269>=F13,D269<=G13),S13,0)","v":0},{"$f":"IF(AND(D269>=F14,D269<=G14),S14,0)","v":0},{"$f":"IF(AND(D269>=F15,D269<=G15),S15,0)","v":0},{"$f":"IF(AND(D269>=F16,D269<=G16),S16,0)","v":0},0,0,0,1]
[null,null,null,"2023-01-06",{"$f":"IF(D270<=G7,S7,0)","v":0},{"$f":"IF(AND(D270>=F8,D270<=G8),S8,0)","v":0},{"$f":"IF(AND(D270>=F9,D270<=G9),S9,0)","v":0},{"$f":"IF(AND(D270>=F10,D270<=G10),S10,0)","v":0},{"$f":"IF(AND(D270>=F11,D270<=G11),S11,0)","v":0},{"$f":"IF(AND(D270>=F12,D270<=G12),S12,0)","v":0},{"$f":"IF(AND(D270>=F13,D270<=G13),S13,0)","v":0},{"$f":"IF(AND(D270>=F14,D270<=G14),S14,0)","v":0},{"$f":"IF(AND(D270>=F15,D270<=G15),S15,0)","v":0},{"$f":"IF(AND(D270>=F16,D270<=G16),S16,0)","v":0},0,0,0,1]
[null,null,null,"2023-01-07",{"$f":"IF(D271<=G7,S7,0)","v":0},{"$f":"IF(AND(D271>=F8,D271<=G8),S8,0)","v":0},{"$f":"IF(AND(D271>=F9,D271<=G9),S9,0)","v":0},{"$f":"IF(AND(D271>=F10,D271<=G10),S10,0)","v":0},{"$f":"IF(AND(D271>=F11,D271<=G11),S11,0)","v":0},{"$f":"IF(AND(D271>=F12,D271<=G12),S12,0)","v":0},{"$f":"IF(AND(D271>=F13,D271<=G13),S13,0)","v":0},{"$f":"IF(AND(D271>=F14,D271<=G14),S14,0)","v":0},{"$f":"IF(AND(D271>=F15,D271<=G15),S15,0)","v":0},{"$f":"IF(AND(D271>=F16,D271<=G16),S16,0)","v":0},0,0,0,1]
[null,null,null,"2023-01-08",{"$f":"IF(D272<=G7,S7,0)","v":0},{"$f":"IF(AND(D272>=F8,D272<=G8),S8,0)","v":0},{"$f":"IF(AND(D272>=F9,D272<=G9),S9,0)","v":0},{"$f":"IF(AND(D272>=F10,D272<=G10),S10,0)","v":0},{"$f":"IF(AND(D272>=F11,D272<=G11),S11,0)","v":0},{"$f":"IF(AND(D272>=F12,D272<=G12),S12,0)","v":0},{"$f":"IF(AND(D272>=F13,D272<=G13),S13,0)","v":0},{"$f":"IF(AND(D272>=F14,D272<=G14),S14,0)","v":0},{"$f":"IF(AND(D272>=F15,D272<=G15),S15,0)","v":0},{"$f":"IF(AND(D272>=F16,D272<=G16),S16,0)","v":0},0,0,0,1]
[null,null,null,"2023-01-09",{"$f":"IF(D273<=G7,S7,0)","v":0},{"$f":"IF(AND(D273>=F8,D273<=G8),S8,0)","v":0},{"$f":"IF(AND(D273>=F9,D273<=G9),S9,0)","v":0},{"$f":"IF(AND(D273>=F10,D273<=G10),S10,0)","v":0},{"$f":"IF(AND(D273>=F11,D273<=G11),S11,0)","v":0},{"$f":"IF(AND(D273>=F12,D273<=G12),S12,0)","v":0},{"$f":"IF(AND(D273>=F13,D273<=G13),S13,0)","v":0},{"$f":"IF(AND(D273>=F14,D273<=G14),S14,0)","v":0},{"$f":"IF(AND(D273>=F15,D273<=G15),S15,0)","v":0},{"$f":"IF(AND(D273>=F16,D273<=G16),S16,0)","v":0},0,0,0,1]
[null,null,null,"2023-01-10",{"$f":"IF(D274<=G7,S7,0)","v":0},{"$f":"IF(AND(D274>=F8,D274<=G8),S8,0)","v":0},{"$f":"IF(AND(D274>=F9,D274<=G9),S9,0)","v":0},{"$f":"IF(AND(D274>=F10,D274<=G10),S10,0)","v":0},{"$f":"IF(AND(D274>=F11,D274<=G11),S11,0)","v":0},{"$f":"IF(AND(D274>=F12,D274<=G12),S12,0)","v":0},{"$f":"IF(AND(D274>=F13,D274<=G13),S13,0)","v":0},{"$f":"IF(AND(D274>=F14,D274<=G14),S14,0)","v":0},{"$f":"IF(AND(D274>=F15,D274<=G15),S15,0)","v":0},{"$f":"IF(AND(D274>=F16,D274<=G16),S16,0)","v":0},0,0,0,1]
[null,null,null,"2023-01-11",{"$f":"IF(D275<=G7,S7,0)","v":0},{"$f":"IF(AND(D275>=F8,D275<=G8),S8,0)","v":0},{"$f":"IF(AND(D275>=F9,D275<=G9),S9,0)","v":0},{"$f":"IF(AND(D275>=F10,D275<=G10),S10,0)","v":0},{"$f":"IF(AND(D275>=F11,D275<=G11),S11,0)","v":0},{"$f":"IF(AND(D275>=F12,D275<=G12),S12,0)","v":0},{"$f":"IF(AND(D275>=F13,D275<=G13),S13,0)","v":0},{"$f":"IF(AND(D275>=F14,D275<=G14),S14,0)","v":0},{"$f":"IF(AND(D275>=F15,D275<=G15),S15,0)","v":0},{"$f":"IF(AND(D275>=F16,D275<=G16),S16,0)","v":0},0,0,0,1]
[null,null,null,"2023-01-12",{"$f":"IF(D276<=G7,S7,0)","v":0},{"$f":"IF(AND(D276>=F8,D276<=G8),S8,0)","v":0},{"$f":"IF(AND(D276>=F9,D276<=G9),S9,0)","v":0},{"$f":"IF(AND(D276>=F10,D276<=G10),S10,0)","v":0},{"$f":"IF(AND(D276>=F11,D276<=G11),S11,0)","v":0},{"$f":"IF(AND(D276>=F12,D276<=G12),S12,0)","v":0},{"$f":"IF(AND(D276>=F13,D276<=G13),S13,0)","v":0},{"$f":"IF(AND(D276>=F14,D276<=G14),S14,0)","v":0},{"$f":"IF(AND(D276>=F15,D276<=G15),S15,0)","v":0},{"$f":"IF(AND(D276>=F16,D276<=G16),S16,0)","v":0},0,0,0,1]
[null,null,null,"2023-01-13",{"$f":"IF(D277<=G7,S7,0)","v":0},{"$f":"IF(AND(D277>=F8,D277<=G8),S8,0)","v":0},{"$f":"IF(AND(D277>=F9,D277<=G9),S9,0)","v":0},{"$f":"IF(AND(D277>=F10,D277<=G10),S10,0)","v":0},{"$f":"IF(AND(D277>=F11,D277<=G11),S11,0)","v":0},{"$f":"IF(AND(D277>=F12,D277<=G12),S12,0)","v":0},{"$f":"IF(AND(D277>=F13,D277<=G13),S13,0)","v":0},{"$f":"IF(AND(D277>=F14,D277<=G14),S14,0)","v":0},{"$f":"IF(AND(D277>=F15,D277<=G15),S15,0)","v":0},{"$f":"IF(AND(D277>=F16,D277<=G16),S16,0)","v":0},0,0,0,1]
[null,null,null,"2023-01-14",{"$f":"IF(D278<=G7,S7,0)","v":0},{"$f":"IF(AND(D278>=F8,D278<=G8),S8,0)","v":0},{"$f":"IF(AND(D278>=F9,D278<=G9),S9,0)","v":0},{"$f":"IF(AND(D278>=F10,D278<=G10),S10,0)","v":0},{"$f":"IF(AND(D278>=F11,D278<=G11),S11,0)","v":0},{"$f":"IF(AND(D278>=F12,D278<=G12),S12,0)","v":0},{"$f":"IF(AND(D278>=F13,D278<=G13),S13,0)","v":0},{"$f":"IF(AND(D278>=F14,D278<=G14),S14,0)","v":0},{"$f":"IF(AND(D278>=F15,D278<=G15),S15,0)","v":0},{"$f":"IF(AND(D278>=F16,D278<=G16),S16,0)","v":0},0,0,0,1]
[null,null,null,"2023-01-15",{"$f":"IF(D279<=G7,S7,0)","v":0},{"$f":"IF(AND(D279>=F8,D279<=G8),S8,0)","v":0},{"$f":"IF(AND(D279>=F9,D279<=G9),S9,0)","v":0},{"$f":"IF(AND(D279>=F10,D279<=G10),S10,0)","v":0},{"$f":"IF(AND(D279>=F11,D279<=G11),S11,0)","v":0},{"$f":"IF(AND(D279>=F12,D279<=G12),S12,0)","v":0},{"$f":"IF(AND(D279>=F13,D279<=G13),S13,0)","v":0},{"$f":"IF(AND(D279>=F14,D279<=G14),S14,0)","v":0},{"$f":"IF(AND(D279>=F15,D279<=G15),S15,0)","v":0},{"$f":"IF(AND(D279>=F16,D279<=G16),S16,0)","v":0},0,0,0,1]
[null,null,null,"2023-01-16",{"$f":"IF(D280<=G7,S7,0)","v":0},{"$f":"IF(AND(D280>=F8,D280<=G8),S8,0)","v":0},{"$f":"IF(AND(D280>=F9,D280<=G9),S9,0)","v":0},{"$f":"IF(AND(D280>=F10,D280<=G10),S10,0)","v":0},{"$f":"IF(AND(D280>=F11,D280<=G11),S11,0)","v":0},{"$f":"IF(AND(D280>=F12,D280<=G12),S12,0)","v":0},{"$f":"IF(AND(D280>=F13,D280<=G13),S13,0)","v":0},{"$f":"IF(AND(D280>=F14,D280<=G14),S14,0)","v":0},{"$f":"IF(AND(D280>=F15,D280<=G15),S15,0)","v":0},{"$f":"IF(AND(D280>=F16,D280<=G16),S16,0)","v":0},0,0,0,1]
[null,null,null,"2023-01-17",{"$f":"IF(D281<=G7,S7,0)","v":0},{"$f":"IF(AND(D281>=F8,D281<=G8),S8,0)","v":0},{"$f":"IF(AND(D281>=F9,D281<=G9),S9,0)","v":0},{"$f":"IF(AND(D281>=F10,D281<=G10),S10,0)","v":0},{"$f":"IF(AND(D281>=F11,D281<=G11),S11,0)","v":0},{"$f":"IF(AND(D281>=F12,D281<=G12),S12,0)","v":0},{"$f":"IF(AND(D281>=F13,D281<=G13),S13,0)","v":0},{"$f":"IF(AND(D281>=F14,D281<=G14),S14,0)","v":0},{"$f":"IF(AND(D281>=F15,D281<=G15),S15,0)","v":0},{"$f":"IF(AND(D281>=F16,D281<=G16),S16,0)","v":0},0,0,0,1]
[null,null,null,"2023-01-18",{"$f":"IF(D282<=G7,S7,0)","v":0},{"$f":"IF(AND(D282>=F8,D282<=G8),S8,0)","v":0},{"$f":"IF(AND(D282>=F9,D282<=G9),S9,0)","v":0},{"$f":"IF(AND(D282>=F10,D282<=G10),S10,0)","v":0},{"$f":"IF(AND(D282>=F11,D282<=G11),S11,0)","v":0},{"$f":"IF(AND(D282>=F12,D282<=G12),S12,0)","v":0},{"$f":"IF(AND(D282>=F13,D282<=G13),S13,0)","v":0},{"$f":"IF(AND(D282>=F14,D282<=G14),S14,0)","v":0},{"$f":"IF(AND(D282>=F15,D282<=G15),S15,0)","v":0},{"$f":"IF(AND(D282>=F16,D282<=G16),S16,0)","v":0},0,0,0,1]
[null,null,null,"2023-01-19",{"$f":"IF(D283<=G7,S7,0)","v":0},{"$f":"IF(AND(D283>=F8,D283<=G8),S8,0)","v":0},{"$f":"IF(AND(D283>=F9,D283<=G9),S9,0)","v":0},{"$f":"IF(AND(D283>=F10,D283<=G10),S10,0)","v":0},{"$f":"IF(AND(D283>=F11,D283<=G11),S11,0)","v":0},{"$f":"IF(AND(D283>=F12,D283<=G12),S12,0)","v":0},{"$f":"IF(AND(D283>=F13,D283<=G13),S13,0)","v":0},{"$f":"IF(AND(D283>=F14,D283<=G14),S14,0)","v":0},{"$f":"IF(AND(D283>=F15,D283<=G15),S15,0)","v":0},{"$f":"IF(AND(D283>=F16,D283<=G16),S16,0)","v":0},0,0,0,1]
[null,null,null,"2023-01-20",{"$f":"IF(D284<=G7,S7,0)","v":0},{"$f":"IF(AND(D284>=F8,D284<=G8),S8,0)","v":0},{"$f":"IF(AND(D284>=F9,D284<=G9),S9,0)","v":0},{"$f":"IF(AND(D284>=F10,D284<=G10),S10,0)","v":0},{"$f":"IF(AND(D284>=F11,D284<=G11),S11,0)","v":0},{"$f":"IF(AND(D284>=F12,D284<=G12),S12,0)","v":0},{"$f":"IF(AND(D284>=F13,D284<=G13),S13,0)","v":0},{"$f":"IF(AND(D284>=F14,D284<=G14),S14,0)","v":0},{"$f":"IF(AND(D284>=F15,D284<=G15),S15,0)","v":0},{"$f":"IF(AND(D284>=F16,D284<=G16),S16,0)","v":0},0,0,0,1]
[null,null,null,"2023-01-21",{"$f":"IF(D285<=G7,S7,0)","v":0},{"$f":"IF(AND(D285>=F8,D285<=G8),S8,0)","v":0},{"$f":"IF(AND(D285>=F9,D285<=G9),S9,0)","v":0},{"$f":"IF(AND(D285>=F10,D285<=G10),S10,0)","v":0},{"$f":"IF(AND(D285>=F11,D285<=G11),S11,0)","v":0},{"$f":"IF(AND(D285>=F12,D285<=G12),S12,0)","v":0},{"$f":"IF(AND(D285>=F13,D285<=G13),S13,0)","v":0},{"$f":"IF(AND(D285>=F14,D285<=G14),S14,0)","v":0},{"$f":"IF(AND(D285>=F15,D285<=G15),S15,0)","v":0},{"$f":"IF(AND(D285>=F16,D285<=G16),S16,0)","v":0},0,0,0,1]
[null,null,null,"2023-01-22",{"$f":"IF(D286<=G7,S7,0)","v":0},{"$f":"IF(AND(D286>=F8,D286<=G8),S8,0)","v":0},{"$f":"IF(AND(D286>=F9,D286<=G9),S9,0)","v":0},{"$f":"IF(AND(D286>=F10,D286<=G10),S10,0)","v":0},{"$f":"IF(AND(D286>=F11,D286<=G11),S11,0)","v":0},{"$f":"IF(AND(D286>=F12,D286<=G12),S12,0)","v":0},{"$f":"IF(AND(D286>=F13,D286<=G13),S13,0)","v":0},{"$f":"IF(AND(D286>=F14,D286<=G14),S14,0)","v":0},{"$f":"IF(AND(D286>=F15,D286<=G15),S15,0)","v":0},{"$f":"IF(AND(D286>=F16,D286<=G16),S16,0)","v":0},0,0,0,1]
[null,null,null,"2023-01-23",{"$f":"IF(D287<=G7,S7,0)","v":0},{"$f":"IF(AND(D287>=F8,D287<=G8),S8,0)","v":0},{"$f":"IF(AND(D287>=F9,D287<=G9),S9,0)","v":0},{"$f":"IF(AND(D287>=F10,D287<=G10),S10,0)","v":0},{"$f":"IF(AND(D287>=F11,D287<=G11),S11,0)","v":0},{"$f":"IF(AND(D287>=F12,D287<=G12),S12,0)","v":0},{"$f":"IF(AND(D287>=F13,D287<=G13),S13,0)","v":0},{"$f":"IF(AND(D287>=F14,D287<=G14),S14,0)","v":0},{"$f":"IF(AND(D287>=F15,D287<=G15),S15,0)","v":0},{"$f":"IF(AND(D287>=F16,D287<=G16),S16,0)","v":0},0,0,0,1]
[null,null,null,"2023-01-24",{"$f":"IF(D288<=G7,S7,0)","v":0},{"$f":"IF(AND(D288>=F8,D288<=G8),S8,0)","v":0},{"$f":"IF(AND(D288>=F9,D288<=G9),S9,0)","v":0},{"$f":"IF(AND(D288>=F10,D288<=G10),S10,0)","v":0},{"$f":"IF(AND(D288>=F11,D288<=G11),S11,0)","v":0},{"$f":"IF(AND(D288>=F12,D288<=G12),S12,0)","v":0},{"$f":"IF(AND(D288>=F13,D288<=G13),S13,0)","v":0},{"$f":"IF(AND(D288>=F14,D288<=G14),S14,0)","v":0},{"$f":"IF(AND(D288>=F15,D288<=G15),S15,0)","v":0},{"$f":"IF(AND(D288>=F16,D288<=G16),S16,0)","v":0},0,0,0,1]
[null,null,null,"2023-01-25",{"$f":"IF(D289<=G7,S7,0)","v":0},{"$f":"IF(AND(D289>=F8,D289<=G8),S8,0)","v":0},{"$f":"IF(AND(D289>=F9,D289<=G9),S9,0)","v":0},{"$f":"IF(AND(D289>=F10,D289<=G10),S10,0)","v":0},{"$f":"IF(AND(D289>=F11,D289<=G11),S11,0)","v":0},{"$f":"IF(AND(D289>=F12,D289<=G12),S12,0)","v":0},{"$f":"IF(AND(D289>=F13,D289<=G13),S13,0)","v":0},{"$f":"IF(AND(D289>=F14,D289<=G14),S14,0)","v":0},{"$f":"IF(AND(D289>=F15,D289<=G15),S15,0)","v":0},{"$f":"IF(AND(D289>=F16,D289<=G16),S16,0)","v":0},0,0,0,1]
[null,null,null,"2023-01-26",{"$f":"IF(D290<=G7,S7,0)","v":0},{"$f":"IF(AND(D290>=F8,D290<=G8),S8,0)","v":0},{"$f":"IF(AND(D290>=F9,D290<=G9),S9,0)","v":0},{"$f":"IF(AND(D290>=F10,D290<=G10),S10,0)","v":0},{"$f":"IF(AND(D290>=F11,D290<=G11),S11,0)","v":0},{"$f":"IF(AND(D290>=F12,D290<=G12),S12,0)","v":0},{"$f":"IF(AND(D290>=F13,D290<=G13),S13,0)","v":0},{"$f":"IF(AND(D290>=F14,D290<=G14),S14,0)","v":0},{"$f":"IF(AND(D290>=F15,D290<=G15),S15,0)","v":0},{"$f":"IF(AND(D290>=F16,D290<=G16),S16,0)","v":0},0,0,0,1]
[null,null,null,"2023-01-27",{"$f":"IF(D291<=G7,S7,0)","v":0},{"$f":"IF(AND(D291>=F8,D291<=G8),S8,0)","v":0},{"$f":"IF(AND(D291>=F9,D291<=G9),S9,0)","v":0},{"$f":"IF(AND(D291>=F10,D291<=G10),S10,0)","v":0},{"$f":"IF(AND(D291>=F11,D291<=G11),S11,0)","v":0},{"$f":"IF(AND(D291>=F12,D291<=G12),S12,0)","v":0},{"$f":"IF(AND(D291>=F13,D291<=G13),S13,0)","v":0},{"$f":"IF(AND(D291>=F14,D291<=G14),S14,0)","v":0},{"$f":"IF(AND(D291>=F15,D291<=G15),S15,0)","v":0},{"$f":"IF(AND(D291>=F16,D291<=G16),S16,0)","v":0},0,0,0,1]
[null,null,null,"2023-01-28",{"$f":"IF(D292<=G7,S7,0)","v":0},{"$f":"IF(AND(D292>=F8,D292<=G8),S8,0)","v":0},{"$f":"IF(AND(D292>=F9,D292<=G9),S9,0)","v":0},{"$f":"IF(AND(D292>=F10,D292<=G10),S10,0)","v":0},{"$f":"IF(AND(D292>=F11,D292<=G11),S11,0)","v":0},{"$f":"IF(AND(D292>=F12,D292<=G12),S12,0)","v":0},{"$f":"IF(AND(D292>=F13,D292<=G13),S13,0)","v":0},{"$f":"IF(AND(D292>=F14,D292<=G14),S14,0)","v":0},{"$f":"IF(AND(D292>=F15,D292<=G15),S15,0)","v":0},{"$f":"IF(AND(D292>=F16,D292<=G16),S16,0)","v":0},0,0,0,1]
[null,null,null,"2023-01-29",{"$f":"IF(D293<=G7,S7,0)","v":0},{"$f":"IF(AND(D293>=F8,D293<=G8),S8,0)","v":0},{"$f":"IF(AND(D293>=F9,D293<=G9),S9,0)","v":0},{"$f":"IF(AND(D293>=F10,D293<=G10),S10,0)","v":0},{"$f":"IF(AND(D293>=F11,D293<=G11),S11,0)","v":0},{"$f":"IF(AND(D293>=F12,D293<=G12),S12,0)","v":0},{"$f":"IF(AND(D293>=F13,D293<=G13),S13,0)","v":0},{"$f":"IF(AND(D293>=F14,D293<=G14),S14,0)","v":0},{"$f":"IF(AND(D293>=F15,D293<=G15),S15,0)","v":0},{"$f":"IF(AND(D293>=F16,D293<=G16),S16,0)","v":0},0,0,0,1]
[null,null,null,"2023-01-30",{"$f":"IF(D294<=G7,S7,0)","v":0},{"$f":"IF(AND(D294>=F8,D294<=G8),S8,0)","v":0},{"$f":"IF(AND(D294>=F9,D294<=G9),S9,0)","v":0},{"$f":"IF(AND(D294>=F10,D294<=G10),S10,0)","v":0},{"$f":"IF(AND(D294>=F11,D294<=G11),S11,0)","v":0},{"$f":"IF(AND(D294>=F12,D294<=G12),S12,0)","v":0},{"$f":"IF(AND(D294>=F13,D294<=G13),S13,0)","v":0},{"$f":"IF(AND(D294>=F14,D294<=G14),S14,0)","v":0},{"$f":"IF(AND(D294>=F15,D294<=G15),S15,0)","v":0},{"$f":"IF(AND(D294>=F16,D294<=G16),S16,0)","v":0},0,0,0,1]
[null,null,null,"2023-02-01",{"$f":"IF(D295<=G7,S7,0)","v":0},{"$f":"IF(AND(D295>=F8,D295<=G8),S8,0)","v":0},{"$f":"IF(AND(D295>=F9,D295<=G9),S9,0)","v":0},{"$f":"IF(AND(D295>=F10,D295<=G10),S10,0)","v":0},{"$f":"IF(AND(D295>=F11,D295<=G11),S11,0)","v":0},{"$f":"IF(AND(D295>=F12,D295<=G12),S12,0)","v":0},{"$f":"IF(AND(D295>=F13,D295<=G13),S13,0)","v":0},{"$f":"IF(AND(D295>=F14,D295<=G14),S14,0)","v":0},{"$f":"IF(AND(D295>=F15,D295<=G15),S15,0)","v":0},{"$f":"IF(AND(D295>=F16,D295<=G16),S16,0)","v":0},0,0,0,1]
[null,null,null,"2023-02-02",{"$f":"IF(D296<=G7,S7,0)","v":0},{"$f":"IF(AND(D296>=F8,D296<=G8),S8,0)","v":0},{"$f":"IF(AND(D296>=F9,D296<=G9),S9,0)","v":0},{"$f":"IF(AND(D296>=F10,D296<=G10),S10,0)","v":0},{"$f":"IF(AND(D296>=F11,D296<=G11),S11,0)","v":0},{"$f":"IF(AND(D296>=F12,D296<=G12),S12,0)","v":0},{"$f":"IF(AND(D296>=F13,D296<=G13),S13,0)","v":0},{"$f":"IF(AND(D296>=F14,D296<=G14),S14,0)","v":0},{"$f":"IF(AND(D296>=F15,D296<=G15),S15,0)","v":0},{"$f":"IF(AND(D296>=F16,D296<=G16),S16,0)","v":0},0,0,0,1]
[null,null,null,"2023-02-03",{"$f":"IF(D297<=G7,S7,0)","v":0},{"$f":"IF(AND(D297>=F8,D297<=G8),S8,0)","v":0},{"$f":"IF(AND(D297>=F9,D297<=G9),S9,0)","v":0},{"$f":"IF(AND(D297>=F10,D297<=G10),S10,0)","v":0},{"$f":"IF(AND(D297>=F11,D297<=G11),S11,0)","v":0},{"$f":"IF(AND(D297>=F12,D297<=G12),S12,0)","v":0},{"$f":"IF(AND(D297>=F13,D297<=G13),S13,0)","v":0},{"$f":"IF(AND(D297>=F14,D297<=G14),S14,0)","v":0},{"$f":"IF(AND(D297>=F15,D297<=G15),S15,0)","v":0},{"$f":"IF(AND(D297>=F16,D297<=G16),S16,0)","v":0},0,0,0,1]
[null,null,null,"2023-02-04",{"$f":"IF(D298<=G7,S7,0)","v":0},{"$f":"IF(AND(D298>=F8,D298<=G8),S8,0)","v":0},{"$f":"IF(AND(D298>=F9,D298<=G9),S9,0)","v":0},{"$f":"IF(AND(D298>=F10,D298<=G10),S10,0)","v":0},{"$f":"IF(AND(D298>=F11,D298<=G11),S11,0)","v":0},{"$f":"IF(AND(D298>=F12,D298<=G12),S12,0)","v":0},{"$f":"IF(AND(D298>=F13,D298<=G13),S13,0)","v":0},{"$f":"IF(AND(D298>=F14,D298<=G14),S14,0)","v":0},{"$f":"IF(AND(D298>=F15,D298<=G15),S15,0)","v":0},{"$f":"IF(AND(D298>=F16,D298<=G16),S16,0)","v":0},0,0,0,1]
[null,null,null,"2023-02-05",{"$f":"IF(D299<=G7,S7,0)","v":0},{"$f":"IF(AND(D299>=F8,D299<=G8),S8,0)","v":0},{"$f":"IF(AND(D299>=F9,D299<=G9),S9,0)","v":0},{"$f":"IF(AND(D299>=F10,D299<=G10),S10,0)","v":0},{"$f":"IF(AND(D299>=F11,D299<=G11),S11,0)","v":0},{"$f":"IF(AND(D299>=F12,D299<=G12),S12,0)","v":0},{"$f":"IF(AND(D299>=F13,D299<=G13),S13,0)","v":0},{"$f":"IF(AND(D299>=F14,D299<=G14),S14,0)","v":0},{"$f":"IF(AND(D299>=F15,D299<=G15),S15,0)","v":0},{"$f":"IF(AND(D299>=F16,D299<=G16),S16,0)","v":0},0,0,0,1]
[null,null,null,"2023-02-06",{"$f":"IF(D300<=G7,S7,0)","v":0},{"$f":"IF(AND(D300>=F8,D300<=G8),S8,0)","v":0},{"$f":"IF(AND(D300>=F9,D300<=G9),S9,0)","v":0},{"$f":"IF(AND(D300>=F10,D300<=G10),S10,0)","v":0},{"$f":"IF(AND(D300>=F11,D300<=G11),S11,0)","v":0},{"$f":"IF(AND(D300>=F12,D300<=G12),S12,0)","v":0},{"$f":"IF(AND(D300>=F13,D300<=G13),S13,0)","v":0},{"$f":"IF(AND(D300>=F14,D300<=G14),S14,0)","v":0},{"$f":"IF(AND(D300>=F15,D300<=G15),S15,0)","v":0},{"$f":"IF(AND(D300>=F16,D300<=G16),S16,0)","v":0},0,0,0,1]
[null,null,null,"2023-02-07",{"$f":"IF(D301<=G7,S7,0)","v":0},{"$f":"IF(AND(D301>=F8,D301<=G8),S8,0)","v":0},{"$f":"IF(AND(D301>=F9,D301<=G9),S9,0)","v":0},{"$f":"IF(AND(D301>=F10,D301<=G10),S10,0)","v":0},{"$f":"IF(AND(D301>=F11,D301<=G11),S11,0)","v":0},{"$f":"IF(AND(D301>=F12,D301<=G12),S12,0)","v":0},{"$f":"IF(AND(D301>=F13,D301<=G13),S13,0)","v":0},{"$f":"IF(AND(D301>=F14,D301<=G14),S14,0)","v":0},{"$f":"IF(AND(D301>=F15,D301<=G15),S15,0)","v":0},{"$f":"IF(AND(D301>=F16,D301<=G16),S16,0)","v":0},0,0,0,1]
[null,null,null,"2023-02-08",{"$f":"IF(D302<=G7,S7,0)","v":0},{"$f":"IF(AND(D302>=F8,D302<=G8),S8,0)","v":0},{"$f":"IF(AND(D302>=F9,D302<=G9),S9,0)","v":0},{"$f":"IF(AND(D302>=F10,D302<=G10),S10,0)","v":0},{"$f":"IF(AND(D302>=F11,D302<=G11),S11,0)","v":0},{"$f":"IF(AND(D302>=F12,D302<=G12),S12,0)","v":0},{"$f":"IF(AND(D302>=F13,D302<=G13),S13,0)","v":0},{"$f":"IF(AND(D302>=F14,D302<=G14),S14,0)","v":0},{"$f":"IF(AND(D302>=F15,D302<=G15),S15,0)","v":0},{"$f":"IF(AND(D302>=F16,D302<=G16),S16,0)","v":0},0,0,0,1]
[null,null,null,"2023-02-09",{"$f":"IF(D303<=G7,S7,0)","v":0},{"$f":"IF(AND(D303>=F8,D303<=G8),S8,0)","v":0},{"$f":"IF(AND(D303>=F9,D303<=G9),S9,0)","v":0},{"$f":"IF(AND(D303>=F10,D303<=G10),S10,0)","v":0},{"$f":"IF(AND(D303>=F11,D303<=G11),S11,0)","v":0},{"$f":"IF(AND(D303>=F12,D303<=G12),S12,0)","v":0},{"$f":"IF(AND(D303>=F13,D303<=G13),S13,0)","v":0},{"$f":"IF(AND(D303>=F14,D303<=G14),S14,0)","v":0},{"$f":"IF(AND(D303>=F15,D303<=G15),S15,0)","v":0},{"$f":"IF(AND(D303>=F16,D303<=G16),S16,0)","v":0},0,0,0,1]
[null,null,null,"2023-02-10",{"$f":"IF(D304<=G7,S7,0)","v":0},{"$f":"IF(AND(D304>=F8,D304<=G8),S8,0)","v":0},{"$f":"IF(AND(D304>=F9,D304<=G9),S9,0)","v":0},{"$f":"IF(AND(D304>=F10,D304<=G10),S10,0)","v":0},{"$f":"IF(AND(D304>=F11,D304<=G11),S11,0)","v":0},{"$f":"IF(AND(D304>=F12,D304<=G12),S12,0)","v":0},{"$f":"IF(AND(D304>=F13,D304<=G13),S13,0)","v":0},{"$f":"IF(AND(D304>=F14,D304<=G14),S14,0)","v":0},{"$f":"IF(AND(D304>=F15,D304<=G15),S15,0)","v":0},{"$f":"IF(AND(D304>=F16,D304<=G16),S16,0)","v":0},0,0,0,1]
[null,null,null,"2023-02-11",{"$f":"IF(D305<=G7,S7,0)","v":0},{"$f":"IF(AND(D305>=F8,D305<=G8),S8,0)","v":0},{"$f":"IF(AND(D305>=F9,D305<=G9),S9,0)","v":0},{"$f":"IF(AND(D305>=F10,D305<=G10),S10,0)","v":0},{"$f":"IF(AND(D305>=F11,D305<=G11),S11,0)","v":0},{"$f":"IF(AND(D305>=F12,D305<=G12),S12,0)","v":0},{"$f":"IF(AND(D305>=F13,D305<=G13),S13,0)","v":0},{"$f":"IF(AND(D305>=F14,D305<=G14),S14,0)","v":0},{"$f":"IF(AND(D305>=F15,D305<=G15),S15,0)","v":0},{"$f":"IF(AND(D305>=F16,D305<=G16),S16,0)","v":0},0,0,0,1]
[null,null,null,"2023-02-12",{"$f":"IF(D306<=G7,S7,0)","v":0},{"$f":"IF(AND(D306>=F8,D306<=G8),S8,0)","v":0},{"$f":"IF(AND(D306>=F9,D306<=G9),S9,0)","v":0},{"$f":"IF(AND(D306>=F10,D306<=G10),S10,0)","v":0},{"$f":"IF(AND(D306>=F11,D306<=G11),S11,0)","v":0},{"$f":"IF(AND(D306>=F12,D306<=G12),S12,0)","v":0},{"$f":"IF(AND(D306>=F13,D306<=G13),S13,0)","v":0},{"$f":"IF(AND(D306>=F14,D306<=G14),S14,0)","v":0},{"$f":"IF(AND(D306>=F15,D306<=G15),S15,0)","v":0},{"$f":"IF(AND(D306>=F16,D306<=G16),S16,0)","v":0},0,0,0,1]
[null,null,null,"2023-02-13",{"$f":"IF(D307<=G7,S7,0)","v":0},{"$f":"IF(AND(D307>=F8,D307<=G8),S8,0)","v":0},{"$f":"IF(AND(D307>=F9,D307<=G9),S9,0)","v":0},{"$f":"IF(AND(D307>=F10,D307<=G10),S10,0)","v":0},{"$f":"IF(AND(D307>=F11,D307<=G11),S11,0)","v":0},{"$f":"IF(AND(D307>=F12,D307<=G12),S12,0)","v":0},{"$f":"IF(AND(D307>=F13,D307<=G13),S13,0)","v":0},{"$f":"IF(AND(D307>=F14,D307<=G14),S14,0)","v":0},{"$f":"IF(AND(D307>=F15,D307<=G15),S15,0)","v":0},{"$f":"IF(AND(D307>=F16,D307<=G16),S16,0)","v":0},0,{"$f":"IF(O307>=1,1,O307)","v":0},0,1]
[null,null,null,{"$f":"IF(DAY(D307)+1=31, D307+2, D307+1)","v":"2023-02-14"},{"$f":"IF(D308<=G7,S7,0)","v":0},{"$f":"IF(AND(D308>=F8,D308<=G8),S8,0)","v":0},{"$f":"IF(AND(D308>=F9,D308<=G9),S9,0)","v":0},{"$f":"IF(AND(D308>=F10,D308<=G10),S10,0)","v":0},{"$f":"IF(AND(D308>=F11,D308<=G11),S11,0)","v":0},{"$f":"IF(AND(D308>=F12,D308<=G12),S12,0)","v":0},{"$f":"IF(AND(D308>=F13,D308<=G13),S13,0)","v":0},{"$f":"IF(AND(D308>=F14,D308<=G14),S14,0)","v":0},{"$f":"IF(AND(D308>=F15,D308<=G15),S15,0)","v":0},{"$f":"IF(AND(D308>=F16,D308<=G16),S16,0)","v":0},{"$f":"SUM(E308:N308)","v":0},0,0,1]
[null,null,null,"2023-02-15",{"$f":"IF(D309<=G7,S7,0)","v":0},{"$f":"IF(AND(D309>=F8,D309<=G8),S8,0)","v":0},{"$f":"IF(AND(D309>=F9,D309<=G9),S9,0)","v":0},{"$f":"IF(AND(D309>=F10,D309<=G10),S10,0)","v":0},{"$f":"IF(AND(D309>=F11,D309<=G11),S11,0)","v":0},{"$f":"IF(AND(D309>=F12,D309<=G12),S12,0)","v":0},{"$f":"IF(AND(D309>=F13,D309<=G13),S13,0)","v":0},{"$f":"IF(AND(D309>=F14,D309<=G14),S14,0)","v":0},{"$f":"IF(AND(D309>=F15,D309<=G15),S15,0)","v":0},{"$f":"IF(AND(D309>=F16,D309<=G16),S16,0)","v":0},0,0,{"$f":"IF(P308=P309,0,1)","v":0},{"$f":"SUM(Q308,R308)","v":1}]
[null,null,null,"2023-02-16",{"$f":"IF(D310<=G7,S7,0)","v":0},{"$f":"IF(AND(D310>=F8,D310<=G8),S8,0)","v":0},{"$f":"IF(AND(D310>=F9,D310<=G9),S9,0)","v":0},{"$f":"IF(AND(D310>=F10,D310<=G10),S10,0)","v":0},{"$f":"IF(AND(D310>=F11,D310<=G11),S11,0)","v":0},{"$f":"IF(AND(D310>=F12,D310<=G12),S12,0)","v":0},{"$f":"IF(AND(D310>=F13,D310<=G13),S13,0)","v":0},{"$f":"IF(AND(D310>=F14,D310<=G14),S14,0)","v":0},{"$f":"IF(AND(D310>=F15,D310<=G15),S15,0)","v":0},{"$f":"IF(AND(D310>=F16,D310<=G16),S16,0)","v":0},0,0,0,1]
[null,null,null,"2023-02-17",{"$f":"IF(D311<=G7,S7,0)","v":0},{"$f":"IF(AND(D311>=F8,D311<=G8),S8,0)","v":0},{"$f":"IF(AND(D311>=F9,D311<=G9),S9,0)","v":0},{"$f":"IF(AND(D311>=F10,D311<=G10),S10,0)","v":0},{"$f":"IF(AND(D311>=F11,D311<=G11),S11,0)","v":0},{"$f":"IF(AND(D311>=F12,D311<=G12),S12,0)","v":0},{"$f":"IF(AND(D311>=F13,D311<=G13),S13,0)","v":0},{"$f":"IF(AND(D311>=F14,D311<=G14),S14,0)","v":0},{"$f":"IF(AND(D311>=F15,D311<=G15),S15,0)","v":0},{"$f":"IF(AND(D311>=F16,D311<=G16),S16,0)","v":0},0,0,0,1]
[null,null,null,"2023-02-18",{"$f":"IF(D312<=G7,S7,0)","v":0},{"$f":"IF(AND(D312>=F8,D312<=G8),S8,0)","v":0},{"$f":"IF(AND(D312>=F9,D312<=G9),S9,0)","v":0},{"$f":"IF(AND(D312>=F10,D312<=G10),S10,0)","v":0},{"$f":"IF(AND(D312>=F11,D312<=G11),S11,0)","v":0},{"$f":"IF(AND(D312>=F12,D312<=G12),S12,0)","v":0},{"$f":"IF(AND(D312>=F13,D312<=G13),S13,0)","v":0},{"$f":"IF(AND(D312>=F14,D312<=G14),S14,0)","v":0},{"$f":"IF(AND(D312>=F15,D312<=G15),S15,0)","v":0},{"$f":"IF(AND(D312>=F16,D312<=G16),S16,0)","v":0},0,0,0,1]
[null,null,null,"2023-02-19",{"$f":"IF(D313<=G7,S7,0)","v":0},{"$f":"IF(AND(D313>=F8,D313<=G8),S8,0)","v":0},{"$f":"IF(AND(D313>=F9,D313<=G9),S9,0)","v":0},{"$f":"IF(AND(D313>=F10,D313<=G10),S10,0)","v":0},{"$f":"IF(AND(D313>=F11,D313<=G11),S11,0)","v":0},{"$f":"IF(AND(D313>=F12,D313<=G12),S12,0)","v":0},{"$f":"IF(AND(D313>=F13,D313<=G13),S13,0)","v":0},{"$f":"IF(AND(D313>=F14,D313<=G14),S14,0)","v":0},{"$f":"IF(AND(D313>=F15,D313<=G15),S15,0)","v":0},{"$f":"IF(AND(D313>=F16,D313<=G16),S16,0)","v":0},0,0,0,1]
[null,null,null,"2023-02-20",{"$f":"IF(D314<=G7,S7,0)","v":0},{"$f":"IF(AND(D314>=F8,D314<=G8),S8,0)","v":0},{"$f":"IF(AND(D314>=F9,D314<=G9),S9,0)","v":0},{"$f":"IF(AND(D314>=F10,D314<=G10),S10,0)","v":0},{"$f":"IF(AND(D314>=F11,D314<=G11),S11,0)","v":0},{"$f":"IF(AND(D314>=F12,D314<=G12),S12,0)","v":0},{"$f":"IF(AND(D314>=F13,D314<=G13),S13,0)","v":0},{"$f":"IF(AND(D314>=F14,D314<=G14),S14,0)","v":0},{"$f":"IF(AND(D314>=F15,D314<=G15),S15,0)","v":0},{"$f":"IF(AND(D314>=F16,D314<=G16),S16,0)","v":0},0,0,0,1]
[null,null,null,"2023-02-21",{"$f":"IF(D315<=G7,S7,0)","v":0},{"$f":"IF(AND(D315>=F8,D315<=G8),S8,0)","v":0},{"$f":"IF(AND(D315>=F9,D315<=G9),S9,0)","v":0},{"$f":"IF(AND(D315>=F10,D315<=G10),S10,0)","v":0},{"$f":"IF(AND(D315>=F11,D315<=G11),S11,0)","v":0},{"$f":"IF(AND(D315>=F12,D315<=G12),S12,0)","v":0},{"$f":"IF(AND(D315>=F13,D315<=G13),S13,0)","v":0},{"$f":"IF(AND(D315>=F14,D315<=G14),S14,0)","v":0},{"$f":"IF(AND(D315>=F15,D315<=G15),S15,0)","v":0},{"$f":"IF(AND(D315>=F16,D315<=G16),S16,0)","v":0},0,0,0,1]
[null,null,null,"2023-02-22",{"$f":"IF(D316<=G7,S7,0)","v":0},{"$f":"IF(AND(D316>=F8,D316<=G8),S8,0)","v":0},{"$f":"IF(AND(D316>=F9,D316<=G9),S9,0)","v":0},{"$f":"IF(AND(D316>=F10,D316<=G10),S10,0)","v":0},{"$f":"IF(AND(D316>=F11,D316<=G11),S11,0)","v":0},{"$f":"IF(AND(D316>=F12,D316<=G12),S12,0)","v":0},{"$f":"IF(AND(D316>=F13,D316<=G13),S13,0)","v":0},{"$f":"IF(AND(D316>=F14,D316<=G14),S14,0)","v":0},{"$f":"IF(AND(D316>=F15,D316<=G15),S15,0)","v":0},{"$f":"IF(AND(D316>=F16,D316<=G16),S16,0)","v":0},0,0,0,1]
[null,null,null,"2023-02-23",{"$f":"IF(D317<=G7,S7,0)","v":0},{"$f":"IF(AND(D317>=F8,D317<=G8),S8,0)","v":0},{"$f":"IF(AND(D317>=F9,D317<=G9),S9,0)","v":0},{"$f":"IF(AND(D317>=F10,D317<=G10),S10,0)","v":0},{"$f":"IF(AND(D317>=F11,D317<=G11),S11,0)","v":0},{"$f":"IF(AND(D317>=F12,D317<=G12),S12,0)","v":0},{"$f":"IF(AND(D317>=F13,D317<=G13),S13,0)","v":0},{"$f":"IF(AND(D317>=F14,D317<=G14),S14,0)","v":0},{"$f":"IF(AND(D317>=F15,D317<=G15),S15,0)","v":0},{"$f":"IF(AND(D317>=F16,D317<=G16),S16,0)","v":0},0,0,0,1]
[null,null,null,"2023-02-24",{"$f":"IF(D318<=G7,S7,0)","v":0},{"$f":"IF(AND(D318>=F8,D318<=G8),S8,0)","v":0},{"$f":"IF(AND(D318>=F9,D318<=G9),S9,0)","v":0},{"$f":"IF(AND(D318>=F10,D318<=G10),S10,0)","v":0},{"$f":"IF(AND(D318>=F11,D318<=G11),S11,0)","v":0},{"$f":"IF(AND(D318>=F12,D318<=G12),S12,0)","v":0},{"$f":"IF(AND(D318>=F13,D318<=G13),S13,0)","v":0},{"$f":"IF(AND(D318>=F14,D318<=G14),S14,0)","v":0},{"$f":"IF(AND(D318>=F15,D318<=G15),S15,0)","v":0},{"$f":"IF(AND(D318>=F16,D318<=G16),S16,0)","v":0},0,0,0,1]
[null,null,null,"2023-02-25",{"$f":"IF(D319<=G7,S7,0)","v":0},{"$f":"IF(AND(D319>=F8,D319<=G8),S8,0)","v":0},{"$f":"IF(AND(D319>=F9,D319<=G9),S9,0)","v":0},{"$f":"IF(AND(D319>=F10,D319<=G10),S10,0)","v":0},{"$f":"IF(AND(D319>=F11,D319<=G11),S11,0)","v":0},{"$f":"IF(AND(D319>=F12,D319<=G12),S12,0)","v":0},{"$f":"IF(AND(D319>=F13,D319<=G13),S13,0)","v":0},{"$f":"IF(AND(D319>=F14,D319<=G14),S14,0)","v":0},{"$f":"IF(AND(D319>=F15,D319<=G15),S15,0)","v":0},{"$f":"IF(AND(D319>=F16,D319<=G16),S16,0)","v":0},0,0,0,1]
[null,null,null,"2023-02-26",{"$f":"IF(D320<=G7,S7,0)","v":0},{"$f":"IF(AND(D320>=F8,D320<=G8),S8,0)","v":0},{"$f":"IF(AND(D320>=F9,D320<=G9),S9,0)","v":0},{"$f":"IF(AND(D320>=F10,D320<=G10),S10,0)","v":0},{"$f":"IF(AND(D320>=F11,D320<=G11),S11,0)","v":0},{"$f":"IF(AND(D320>=F12,D320<=G12),S12,0)","v":0},{"$f":"IF(AND(D320>=F13,D320<=G13),S13,0)","v":0},{"$f":"IF(AND(D320>=F14,D320<=G14),S14,0)","v":0},{"$f":"IF(AND(D320>=F15,D320<=G15),S15,0)","v":0},{"$f":"IF(AND(D320>=F16,D320<=G16),S16,0)","v":0},0,0,0,1]
[null,null,null,"2023-02-27",{"$f":"IF(D321<=G7,S7,0)","v":0},{"$f":"IF(AND(D321>=F8,D321<=G8),S8,0)","v":0},{"$f":"IF(AND(D321>=F9,D321<=G9),S9,0)","v":0},{"$f":"IF(AND(D321>=F10,D321<=G10),S10,0)","v":0},{"$f":"IF(AND(D321>=F11,D321<=G11),S11,0)","v":0},{"$f":"IF(AND(D321>=F12,D321<=G12),S12,0)","v":0},{"$f":"IF(AND(D321>=F13,D321<=G13),S13,0)","v":0},{"$f":"IF(AND(D321>=F14,D321<=G14),S14,0)","v":0},{"$f":"IF(AND(D321>=F15,D321<=G15),S15,0)","v":0},{"$f":"IF(AND(D321>=F16,D321<=G16),S16,0)","v":0},0,0,0,1]
[null,null,null,"2023-02-28",{"$f":"IF(D322<=G7,S7,0)","v":0},{"$f":"IF(AND(D322>=F8,D322<=G8),S8,0)","v":0},{"$f":"IF(AND(D322>=F9,D322<=G9),S9,0)","v":0},{"$f":"IF(AND(D322>=F10,D322<=G10),S10,0)","v":0},{"$f":"IF(AND(D322>=F11,D322<=G11),S11,0)","v":0},{"$f":"IF(AND(D322>=F12,D322<=G12),S12,0)","v":0},{"$f":"IF(AND(D322>=F13,D322<=G13),S13,0)","v":0},{"$f":"IF(AND(D322>=F14,D322<=G14),S14,0)","v":0},{"$f":"IF(AND(D322>=F15,D322<=G15),S15,0)","v":0},{"$f":"IF(AND(D322>=F16,D322<=G16),S16,0)","v":0},0,0,0,1]
[null,null,null,"2023-03-01",{"$f":"IF(D323<=G7,S7,0)","v":0},{"$f":"IF(AND(D323>=F8,D323<=G8),S8,0)","v":0},{"$f":"IF(AND(D323>=F9,D323<=G9),S9,0)","v":0},{"$f":"IF(AND(D323>=F10,D323<=G10),S10,0)","v":0},{"$f":"IF(AND(D323>=F11,D323<=G11),S11,0)","v":0},{"$f":"IF(AND(D323>=F12,D323<=G12),S12,0)","v":0},{"$f":"IF(AND(D323>=F13,D323<=G13),S13,0)","v":0},{"$f":"IF(AND(D323>=F14,D323<=G14),S14,0)","v":0},{"$f":"IF(AND(D323>=F15,D323<=G15),S15,0)","v":0},{"$f":"IF(AND(D323>=F16,D323<=G16),S16,0)","v":0},0,0,0,1]
[null,null,null,"2023-03-02",{"$f":"IF(D324<=G7,S7,0)","v":0},{"$f":"IF(AND(D324>=F8,D324<=G8),S8,0)","v":0},{"$f":"IF(AND(D324>=F9,D324<=G9),S9,0)","v":0},{"$f":"IF(AND(D324>=F10,D324<=G10),S10,0)","v":0},{"$f":"IF(AND(D324>=F11,D324<=G11),S11,0)","v":0},{"$f":"IF(AND(D324>=F12,D324<=G12),S12,0)","v":0},{"$f":"IF(AND(D324>=F13,D324<=G13),S13,0)","v":0},{"$f":"IF(AND(D324>=F14,D324<=G14),S14,0)","v":0},{"$f":"IF(AND(D324>=F15,D324<=G15),S15,0)","v":0},{"$f":"IF(AND(D324>=F16,D324<=G16),S16,0)","v":0},0,0,0,1]
[null,null,null,"2023-03-03",{"$f":"IF(D325<=G7,S7,0)","v":0},{"$f":"IF(AND(D325>=F8,D325<=G8),S8,0)","v":0},{"$f":"IF(AND(D325>=F9,D325<=G9),S9,0)","v":0},{"$f":"IF(AND(D325>=F10,D325<=G10),S10,0)","v":0},{"$f":"IF(AND(D325>=F11,D325<=G11),S11,0)","v":0},{"$f":"IF(AND(D325>=F12,D325<=G12),S12,0)","v":0},{"$f":"IF(AND(D325>=F13,D325<=G13),S13,0)","v":0},{"$f":"IF(AND(D325>=F14,D325<=G14),S14,0)","v":0},{"$f":"IF(AND(D325>=F15,D325<=G15),S15,0)","v":0},{"$f":"IF(AND(D325>=F16,D325<=G16),S16,0)","v":0},0,0,0,1]
[null,null,null,"2023-03-04",{"$f":"IF(D326<=G7,S7,0)","v":0},{"$f":"IF(AND(D326>=F8,D326<=G8),S8,0)","v":0},{"$f":"IF(AND(D326>=F9,D326<=G9),S9,0)","v":0},{"$f":"IF(AND(D326>=F10,D326<=G10),S10,0)","v":0},{"$f":"IF(AND(D326>=F11,D326<=G11),S11,0)","v":0},{"$f":"IF(AND(D326>=F12,D326<=G12),S12,0)","v":0},{"$f":"IF(AND(D326>=F13,D326<=G13),S13,0)","v":0},{"$f":"IF(AND(D326>=F14,D326<=G14),S14,0)","v":0},{"$f":"IF(AND(D326>=F15,D326<=G15),S15,0)","v":0},{"$f":"IF(AND(D326>=F16,D326<=G16),S16,0)","v":0},0,0,0,1]
[null,null,null,"2023-03-05",{"$f":"IF(D327<=G7,S7,0)","v":0},{"$f":"IF(AND(D327>=F8,D327<=G8),S8,0)","v":0},{"$f":"IF(AND(D327>=F9,D327<=G9),S9,0)","v":0},{"$f":"IF(AND(D327>=F10,D327<=G10),S10,0)","v":0},{"$f":"IF(AND(D327>=F11,D327<=G11),S11,0)","v":0},{"$f":"IF(AND(D327>=F12,D327<=G12),S12,0)","v":0},{"$f":"IF(AND(D327>=F13,D327<=G13),S13,0)","v":0},{"$f":"IF(AND(D327>=F14,D327<=G14),S14,0)","v":0},{"$f":"IF(AND(D327>=F15,D327<=G15),S15,0)","v":0},{"$f":"IF(AND(D327>=F16,D327<=G16),S16,0)","v":0},0,0,0,1]
[null,null,null,"2023-03-06",{"$f":"IF(D328<=G7,S7,0)","v":0},{"$f":"IF(AND(D328>=F8,D328<=G8),S8,0)","v":0},{"$f":"IF(AND(D328>=F9,D328<=G9),S9,0)","v":0},{"$f":"IF(AND(D328>=F10,D328<=G10),S10,0)","v":0},{"$f":"IF(AND(D328>=F11,D328<=G11),S11,0)","v":0},{"$f":"IF(AND(D328>=F12,D328<=G12),S12,0)","v":0},{"$f":"IF(AND(D328>=F13,D328<=G13),S13,0)","v":0},{"$f":"IF(AND(D328>=F14,D328<=G14),S14,0)","v":0},{"$f":"IF(AND(D328>=F15,D328<=G15),S15,0)","v":0},{"$f":"IF(AND(D328>=F16,D328<=G16),S16,0)","v":0},0,0,0,1]
[null,null,null,"2023-03-07",{"$f":"IF(D329<=G7,S7,0)","v":0},{"$f":"IF(AND(D329>=F8,D329<=G8),S8,0)","v":0},{"$f":"IF(AND(D329>=F9,D329<=G9),S9,0)","v":0},{"$f":"IF(AND(D329>=F10,D329<=G10),S10,0)","v":0},{"$f":"IF(AND(D329>=F11,D329<=G11),S11,0)","v":0},{"$f":"IF(AND(D329>=F12,D329<=G12),S12,0)","v":0},{"$f":"IF(AND(D329>=F13,D329<=G13),S13,0)","v":0},{"$f":"IF(AND(D329>=F14,D329<=G14),S14,0)","v":0},{"$f":"IF(AND(D329>=F15,D329<=G15),S15,0)","v":0},{"$f":"IF(AND(D329>=F16,D329<=G16),S16,0)","v":0},0,0,0,1]
[null,null,null,"2023-03-08",{"$f":"IF(D330<=G7,S7,0)","v":0},{"$f":"IF(AND(D330>=F8,D330<=G8),S8,0)","v":0},{"$f":"IF(AND(D330>=F9,D330<=G9),S9,0)","v":0},{"$f":"IF(AND(D330>=F10,D330<=G10),S10,0)","v":0},{"$f":"IF(AND(D330>=F11,D330<=G11),S11,0)","v":0},{"$f":"IF(AND(D330>=F12,D330<=G12),S12,0)","v":0},{"$f":"IF(AND(D330>=F13,D330<=G13),S13,0)","v":0},{"$f":"IF(AND(D330>=F14,D330<=G14),S14,0)","v":0},{"$f":"IF(AND(D330>=F15,D330<=G15),S15,0)","v":0},{"$f":"IF(AND(D330>=F16,D330<=G16),S16,0)","v":0},0,0,0,1]
[null,null,null,"2023-03-09",{"$f":"IF(D331<=G7,S7,0)","v":0},{"$f":"IF(AND(D331>=F8,D331<=G8),S8,0)","v":0},{"$f":"IF(AND(D331>=F9,D331<=G9),S9,0)","v":0},{"$f":"IF(AND(D331>=F10,D331<=G10),S10,0)","v":0},{"$f":"IF(AND(D331>=F11,D331<=G11),S11,0)","v":0},{"$f":"IF(AND(D331>=F12,D331<=G12),S12,0)","v":0},{"$f":"IF(AND(D331>=F13,D331<=G13),S13,0)","v":0},{"$f":"IF(AND(D331>=F14,D331<=G14),S14,0)","v":0},{"$f":"IF(AND(D331>=F15,D331<=G15),S15,0)","v":0},{"$f":"IF(AND(D331>=F16,D331<=G16),S16,0)","v":0},0,0,0,1]
[null,null,null,"2023-03-10",{"$f":"IF(D332<=G7,S7,0)","v":0},{"$f":"IF(AND(D332>=F8,D332<=G8),S8,0)","v":0},{"$f":"IF(AND(D332>=F9,D332<=G9),S9,0)","v":0},{"$f":"IF(AND(D332>=F10,D332<=G10),S10,0)","v":0},{"$f":"IF(AND(D332>=F11,D332<=G11),S11,0)","v":0},{"$f":"IF(AND(D332>=F12,D332<=G12),S12,0)","v":0},{"$f":"IF(AND(D332>=F13,D332<=G13),S13,0)","v":0},{"$f":"IF(AND(D332>=F14,D332<=G14),S14,0)","v":0},{"$f":"IF(AND(D332>=F15,D332<=G15),S15,0)","v":0},{"$f":"IF(AND(D332>=F16,D332<=G16),S16,0)","v":0},0,0,0,1]
[null,null,null,"2023-03-11",{"$f":"IF(D333<=G7,S7,0)","v":0},{"$f":"IF(AND(D333>=F8,D333<=G8),S8,0)","v":0},{"$f":"IF(AND(D333>=F9,D333<=G9),S9,0)","v":0},{"$f":"IF(AND(D333>=F10,D333<=G10),S10,0)","v":0},{"$f":"IF(AND(D333>=F11,D333<=G11),S11,0)","v":0},{"$f":"IF(AND(D333>=F12,D333<=G12),S12,0)","v":0},{"$f":"IF(AND(D333>=F13,D333<=G13),S13,0)","v":0},{"$f":"IF(AND(D333>=F14,D333<=G14),S14,0)","v":0},{"$f":"IF(AND(D333>=F15,D333<=G15),S15,0)","v":0},{"$f":"IF(AND(D333>=F16,D333<=G16),S16,0)","v":0},0,0,0,1]
[null,null,null,"2023-03-12",{"$f":"IF(D334<=G7,S7,0)","v":0},{"$f":"IF(AND(D334>=F8,D334<=G8),S8,0)","v":0},{"$f":"IF(AND(D334>=F9,D334<=G9),S9,0)","v":0},{"$f":"IF(AND(D334>=F10,D334<=G10),S10,0)","v":0},{"$f":"IF(AND(D334>=F11,D334<=G11),S11,0)","v":0},{"$f":"IF(AND(D334>=F12,D334<=G12),S12,0)","v":0},{"$f":"IF(AND(D334>=F13,D334<=G13),S13,0)","v":0},{"$f":"IF(AND(D334>=F14,D334<=G14),S14,0)","v":0},{"$f":"IF(AND(D334>=F15,D334<=G15),S15,0)","v":0},{"$f":"IF(AND(D334>=F16,D334<=G16),S16,0)","v":0},0,0,0,1]
[null,null,null,"2023-03-13",{"$f":"IF(D335<=G7,S7,0)","v":0},{"$f":"IF(AND(D335>=F8,D335<=G8),S8,0)","v":0},{"$f":"IF(AND(D335>=F9,D335<=G9),S9,0)","v":0},{"$f":"IF(AND(D335>=F10,D335<=G10),S10,0)","v":0},{"$f":"IF(AND(D335>=F11,D335<=G11),S11,0)","v":0},{"$f":"IF(AND(D335>=F12,D335<=G12),S12,0)","v":0},{"$f":"IF(AND(D335>=F13,D335<=G13),S13,0)","v":0},{"$f":"IF(AND(D335>=F14,D335<=G14),S14,0)","v":0},{"$f":"IF(AND(D335>=F15,D335<=G15),S15,0)","v":0},{"$f":"IF(AND(D335>=F16,D335<=G16),S16,0)","v":0},0,0,0,1]
[null,null,null,"2023-03-14",{"$f":"IF(D336<=G7,S7,0)","v":0},{"$f":"IF(AND(D336>=F8,D336<=G8),S8,0)","v":0},{"$f":"IF(AND(D336>=F9,D336<=G9),S9,0)","v":0},{"$f":"IF(AND(D336>=F10,D336<=G10),S10,0)","v":0},{"$f":"IF(AND(D336>=F11,D336<=G11),S11,0)","v":0},{"$f":"IF(AND(D336>=F12,D336<=G12),S12,0)","v":0},{"$f":"IF(AND(D336>=F13,D336<=G13),S13,0)","v":0},{"$f":"IF(AND(D336>=F14,D336<=G14),S14,0)","v":0},{"$f":"IF(AND(D336>=F15,D336<=G15),S15,0)","v":0},{"$f":"IF(AND(D336>=F16,D336<=G16),S16,0)","v":0},0,0,0,1]
[null,null,null,"2023-03-15",{"$f":"IF(D337<=G7,S7,0)","v":0},{"$f":"IF(AND(D337>=F8,D337<=G8),S8,0)","v":0},{"$f":"IF(AND(D337>=F9,D337<=G9),S9,0)","v":0},{"$f":"IF(AND(D337>=F10,D337<=G10),S10,0)","v":0},{"$f":"IF(AND(D337>=F11,D337<=G11),S11,0)","v":0},{"$f":"IF(AND(D337>=F12,D337<=G12),S12,0)","v":0},{"$f":"IF(AND(D337>=F13,D337<=G13),S13,0)","v":0},{"$f":"IF(AND(D337>=F14,D337<=G14),S14,0)","v":0},{"$f":"IF(AND(D337>=F15,D337<=G15),S15,0)","v":0},{"$f":"IF(AND(D337>=F16,D337<=G16),S16,0)","v":0},0,0,0,1]
[null,null,null,"2023-03-16",{"$f":"IF(D338<=G7,S7,0)","v":0},{"$f":"IF(AND(D338>=F8,D338<=G8),S8,0)","v":0},{"$f":"IF(AND(D338>=F9,D338<=G9),S9,0)","v":0},{"$f":"IF(AND(D338>=F10,D338<=G10),S10,0)","v":0},{"$f":"IF(AND(D338>=F11,D338<=G11),S11,0)","v":0},{"$f":"IF(AND(D338>=F12,D338<=G12),S12,0)","v":0},{"$f":"IF(AND(D338>=F13,D338<=G13),S13,0)","v":0},{"$f":"IF(AND(D338>=F14,D338<=G14),S14,0)","v":0},{"$f":"IF(AND(D338>=F15,D338<=G15),S15,0)","v":0},{"$f":"IF(AND(D338>=F16,D338<=G16),S16,0)","v":0},0,0,0,1]
[null,null,null,"2023-03-17",{"$f":"IF(D339<=G7,S7,0)","v":0},{"$f":"IF(AND(D339>=F8,D339<=G8),S8,0)","v":0},{"$f":"IF(AND(D339>=F9,D339<=G9),S9,0)","v":0},{"$f":"IF(AND(D339>=F10,D339<=G10),S10,0)","v":0},{"$f":"IF(AND(D339>=F11,D339<=G11),S11,0)","v":0},{"$f":"IF(AND(D339>=F12,D339<=G12),S12,0)","v":0},{"$f":"IF(AND(D339>=F13,D339<=G13),S13,0)","v":0},{"$f":"IF(AND(D339>=F14,D339<=G14),S14,0)","v":0},{"$f":"IF(AND(D339>=F15,D339<=G15),S15,0)","v":0},{"$f":"IF(AND(D339>=F16,D339<=G16),S16,0)","v":0},0,0,0,1]
[null,null,null,"2023-03-18",{"$f":"IF(D340<=G7,S7,0)","v":0},{"$f":"IF(AND(D340>=F8,D340<=G8),S8,0)","v":0},{"$f":"IF(AND(D340>=F9,D340<=G9),S9,0)","v":0},{"$f":"IF(AND(D340>=F10,D340<=G10),S10,0)","v":0},{"$f":"IF(AND(D340>=F11,D340<=G11),S11,0)","v":0},{"$f":"IF(AND(D340>=F12,D340<=G12),S12,0)","v":0},{"$f":"IF(AND(D340>=F13,D340<=G13),S13,0)","v":0},{"$f":"IF(AND(D340>=F14,D340<=G14),S14,0)","v":0},{"$f":"IF(AND(D340>=F15,D340<=G15),S15,0)","v":0},{"$f":"IF(AND(D340>=F16,D340<=G16),S16,0)","v":0},0,0,0,1]
[null,null,null,"2023-03-19",{"$f":"IF(D341<=G7,S7,0)","v":0},{"$f":"IF(AND(D341>=F8,D341<=G8),S8,0)","v":0},{"$f":"IF(AND(D341>=F9,D341<=G9),S9,0)","v":0},{"$f":"IF(AND(D341>=F10,D341<=G10),S10,0)","v":0},{"$f":"IF(AND(D341>=F11,D341<=G11),S11,0)","v":0},{"$f":"IF(AND(D341>=F12,D341<=G12),S12,0)","v":0},{"$f":"IF(AND(D341>=F13,D341<=G13),S13,0)","v":0},{"$f":"IF(AND(D341>=F14,D341<=G14),S14,0)","v":0},{"$f":"IF(AND(D341>=F15,D341<=G15),S15,0)","v":0},{"$f":"IF(AND(D341>=F16,D341<=G16),S16,0)","v":0},0,0,0,1]
[null,null,null,"2023-03-20",{"$f":"IF(D342<=G7,S7,0)","v":0},{"$f":"IF(AND(D342>=F8,D342<=G8),S8,0)","v":0},{"$f":"IF(AND(D342>=F9,D342<=G9),S9,0)","v":0},{"$f":"IF(AND(D342>=F10,D342<=G10),S10,0)","v":0},{"$f":"IF(AND(D342>=F11,D342<=G11),S11,0)","v":0},{"$f":"IF(AND(D342>=F12,D342<=G12),S12,0)","v":0},{"$f":"IF(AND(D342>=F13,D342<=G13),S13,0)","v":0},{"$f":"IF(AND(D342>=F14,D342<=G14),S14,0)","v":0},{"$f":"IF(AND(D342>=F15,D342<=G15),S15,0)","v":0},{"$f":"IF(AND(D342>=F16,D342<=G16),S16,0)","v":0},0,0,0,1]
[null,null,null,"2023-03-21",{"$f":"IF(D343<=G7,S7,0)","v":0},{"$f":"IF(AND(D343>=F8,D343<=G8),S8,0)","v":0},{"$f":"IF(AND(D343>=F9,D343<=G9),S9,0)","v":0},{"$f":"IF(AND(D343>=F10,D343<=G10),S10,0)","v":0},{"$f":"IF(AND(D343>=F11,D343<=G11),S11,0)","v":0},{"$f":"IF(AND(D343>=F12,D343<=G12),S12,0)","v":0},{"$f":"IF(AND(D343>=F13,D343<=G13),S13,0)","v":0},{"$f":"IF(AND(D343>=F14,D343<=G14),S14,0)","v":0},{"$f":"IF(AND(D343>=F15,D343<=G15),S15,0)","v":0},{"$f":"IF(AND(D343>=F16,D343<=G16),S16,0)","v":0},0,0,0,1]
[null,null,null,"2023-03-22",{"$f":"IF(D344<=G7,S7,0)","v":0},{"$f":"IF(AND(D344>=F8,D344<=G8),S8,0)","v":0},{"$f":"IF(AND(D344>=F9,D344<=G9),S9,0)","v":0},{"$f":"IF(AND(D344>=F10,D344<=G10),S10,0)","v":0},{"$f":"IF(AND(D344>=F11,D344<=G11),S11,0)","v":0},{"$f":"IF(AND(D344>=F12,D344<=G12),S12,0)","v":0},{"$f":"IF(AND(D344>=F13,D344<=G13),S13,0)","v":0},{"$f":"IF(AND(D344>=F14,D344<=G14),S14,0)","v":0},{"$f":"IF(AND(D344>=F15,D344<=G15),S15,0)","v":0},{"$f":"IF(AND(D344>=F16,D344<=G16),S16,0)","v":0},0,0,0,1]
[null,null,null,"2023-03-23",{"$f":"IF(D345<=G7,S7,0)","v":0},{"$f":"IF(AND(D345>=F8,D345<=G8),S8,0)","v":0},{"$f":"IF(AND(D345>=F9,D345<=G9),S9,0)","v":0},{"$f":"IF(AND(D345>=F10,D345<=G10),S10,0)","v":0},{"$f":"IF(AND(D345>=F11,D345<=G11),S11,0)","v":0},{"$f":"IF(AND(D345>=F12,D345<=G12),S12,0)","v":0},{"$f":"IF(AND(D345>=F13,D345<=G13),S13,0)","v":0},{"$f":"IF(AND(D345>=F14,D345<=G14),S14,0)","v":0},{"$f":"IF(AND(D345>=F15,D345<=G15),S15,0)","v":0},{"$f":"IF(AND(D345>=F16,D345<=G16),S16,0)","v":0},0,0,0,1]
[null,null,null,"2023-03-24",{"$f":"IF(D346<=G7,S7,0)","v":0},{"$f":"IF(AND(D346>=F8,D346<=G8),S8,0)","v":0},{"$f":"IF(AND(D346>=F9,D346<=G9),S9,0)","v":0},{"$f":"IF(AND(D346>=F10,D346<=G10),S10,0)","v":0},{"$f":"IF(AND(D346>=F11,D346<=G11),S11,0)","v":0},{"$f":"IF(AND(D346>=F12,D346<=G12),S12,0)","v":0},{"$f":"IF(AND(D346>=F13,D346<=G13),S13,0)","v":0},{"$f":"IF(AND(D346>=F14,D346<=G14),S14,0)","v":0},{"$f":"IF(AND(D346>=F15,D346<=G15),S15,0)","v":0},{"$f":"IF(AND(D346>=F16,D346<=G16),S16,0)","v":0},0,0,0,1]
[null,null,null,"2023-03-25",{"$f":"IF(D347<=G7,S7,0)","v":0},{"$f":"IF(AND(D347>=F8,D347<=G8),S8,0)","v":0},{"$f":"IF(AND(D347>=F9,D347<=G9),S9,0)","v":0},{"$f":"IF(AND(D347>=F10,D347<=G10),S10,0)","v":0},{"$f":"IF(AND(D347>=F11,D347<=G11),S11,0)","v":0},{"$f":"IF(AND(D347>=F12,D347<=G12),S12,0)","v":0},{"$f":"IF(AND(D347>=F13,D347<=G13),S13,0)","v":0},{"$f":"IF(AND(D347>=F14,D347<=G14),S14,0)","v":0},{"$f":"IF(AND(D347>=F15,D347<=G15),S15,0)","v":0},{"$f":"IF(AND(D347>=F16,D347<=G16),S16,0)","v":0},0,0,0,1]
[null,null,null,"2023-03-26",{"$f":"IF(D348<=G7,S7,0)","v":0},{"$f":"IF(AND(D348>=F8,D348<=G8),S8,0)","v":0},{"$f":"IF(AND(D348>=F9,D348<=G9),S9,0)","v":0},{"$f":"IF(AND(D348>=F10,D348<=G10),S10,0)","v":0},{"$f":"IF(AND(D348>=F11,D348<=G11),S11,0)","v":0},{"$f":"IF(AND(D348>=F12,D348<=G12),S12,0)","v":0},{"$f":"IF(AND(D348>=F13,D348<=G13),S13,0)","v":0},{"$f":"IF(AND(D348>=F14,D348<=G14),S14,0)","v":0},{"$f":"IF(AND(D348>=F15,D348<=G15),S15,0)","v":0},{"$f":"IF(AND(D348>=F16,D348<=G16),S16,0)","v":0},0,0,0,1]
[null,null,null,"2023-03-27",{"$f":"IF(D349<=G7,S7,0)","v":0},{"$f":"IF(AND(D349>=F208,D349<=G208),S208,0)","v":0},{"$f":"IF(AND(D349>=F208,D349<=H208),T208,0)","v":0},{"$f":"IF(AND(D349>=H208,D349<=I208),U208,0)","v":0},{"$f":"IF(AND(D349>=I208,D349<=J208),V208,0)","v":0},{"$f":"IF(AND(D349>=J208,D349<=K208),W208,0)","v":0},{"$f":"IF(AND(D349>=K208,D349<=L208),X208,0)","v":0},{"$f":"IF(AND(D349>=L208,D349<=M208),Y208,0)","v":0},{"$f":"IF(AND(D349>=M208,D349<=N208),Z208,0)","v":0},{"$f":"IF(AND(D349>=N208,D349<=O208),AA208,0)","v":0},0,0,0,1]
[null,null,null,"2023-03-28",{"$f":"IF(D350<=G7,S7,0)","v":0},{"$f":"IF(AND(D350>=F8,D350<=G8),S8,0)","v":0},{"$f":"IF(AND(D350>=F9,D350<=G9),S9,0)","v":0},{"$f":"IF(AND(D350>=F10,D350<=G10),S10,0)","v":0},{"$f":"IF(AND(D350>=F11,D350<=G11),S11,0)","v":0},{"$f":"IF(AND(D350>=F12,D350<=G12),S12,0)","v":0},{"$f":"IF(AND(D350>=F13,D350<=G13),S13,0)","v":0},{"$f":"IF(AND(D350>=F14,D350<=G14),S14,0)","v":0},{"$f":"IF(AND(D350>=F15,D350<=G15),S15,0)","v":0},{"$f":"IF(AND(D350>=F16,D350<=G16),S16,0)","v":0},0,0,0,1]
[null,null,null,"2023-03-29",{"$f":"IF(D351<=G7,S7,0)","v":0},{"$f":"IF(AND(D351>=F8,D351<=G8),S8,0)","v":0},{"$f":"IF(AND(D351>=F9,D351<=G9),S9,0)","v":0},{"$f":"IF(AND(D351>=F10,D351<=G10),S10,0)","v":0},{"$f":"IF(AND(D351>=F11,D351<=G11),S11,0)","v":0},{"$f":"IF(AND(D351>=F12,D351<=G12),S12,0)","v":0},{"$f":"IF(AND(D351>=F13,D351<=G13),S13,0)","v":0},{"$f":"IF(AND(D351>=F14,D351<=G14),S14,0)","v":0},{"$f":"IF(AND(D351>=F15,D351<=G15),S15,0)","v":0},{"$f":"IF(AND(D351>=F16,D351<=G16),S16,0)","v":0},0,0,0,1]
[null,null,null,"2023-03-30",{"$f":"IF(D352<=G7,S7,0)","v":0},{"$f":"IF(AND(D352>=F8,D352<=G8),S8,0)","v":0},{"$f":"IF(AND(D352>=F9,D352<=G9),S9,0)","v":0},{"$f":"IF(AND(D352>=F10,D352<=G10),S10,0)","v":0},{"$f":"IF(AND(D352>=F11,D352<=G11),S11,0)","v":0},{"$f":"IF(AND(D352>=F12,D352<=G12),S12,0)","v":0},{"$f":"IF(AND(D352>=F13,D352<=G13),S13,0)","v":0},{"$f":"IF(AND(D352>=F14,D352<=G14),S14,0)","v":0},{"$f":"IF(AND(D352>=F15,D352<=G15),S15,0)","v":0},{"$f":"IF(AND(D352>=F16,D352<=G16),S16,0)","v":0},0,0,0,1]
[null,null,null,"2023-04-01",{"$f":"IF(D353<=G7,S7,0)","v":0},{"$f":"IF(AND(D353>=F8,D353<=G8),S8,0)","v":0},{"$f":"IF(AND(D353>=F9,D353<=G9),S9,0)","v":0},{"$f":"IF(AND(D353>=F10,D353<=G10),S10,0)","v":0},{"$f":"IF(AND(D353>=F11,D353<=G11),S11,0)","v":0},{"$f":"IF(AND(D353>=F12,D353<=G12),S12,0)","v":0},{"$f":"IF(AND(D353>=F13,D353<=G13),S13,0)","v":0},{"$f":"IF(AND(D353>=F14,D353<=G14),S14,0)","v":0},{"$f":"IF(AND(D353>=F15,D353<=G15),S15,0)","v":0},{"$f":"IF(AND(D353>=F16,D353<=G16),S16,0)","v":0},0,0,0,1]
[null,null,null,"2023-04-02",{"$f":"IF(D354<=G7,S7,0)","v":0},{"$f":"IF(AND(D354>=F8,D354<=G8),S8,0)","v":0},{"$f":"IF(AND(D354>=F9,D354<=G9),S9,0)","v":0},{"$f":"IF(AND(D354>=F10,D354<=G10),S10,0)","v":0},{"$f":"IF(AND(D354>=F11,D354<=G11),S11,0)","v":0},{"$f":"IF(AND(D354>=F12,D354<=G12),S12,0)","v":0},{"$f":"IF(AND(D354>=F13,D354<=G13),S13,0)","v":0},{"$f":"IF(AND(D354>=F14,D354<=G14),S14,0)","v":0},{"$f":"IF(AND(D354>=F15,D354<=G15),S15,0)","v":0},{"$f":"IF(AND(D354>=F16,D354<=G16),S16,0)","v":0},0,0,0,1]
[null,null,null,"2023-04-03",{"$f":"IF(D355<=G7,S7,0)","v":0},{"$f":"IF(AND(D355>=F8,D355<=G8),S8,0)","v":0},{"$f":"IF(AND(D355>=F9,D355<=G9),S9,0)","v":0},{"$f":"IF(AND(D355>=F10,D355<=G10),S10,0)","v":0},{"$f":"IF(AND(D355>=F11,D355<=G11),S11,0)","v":0},{"$f":"IF(AND(D355>=F12,D355<=G12),S12,0)","v":0},{"$f":"IF(AND(D355>=F13,D355<=G13),S13,0)","v":0},{"$f":"IF(AND(D355>=F14,D355<=G14),S14,0)","v":0},{"$f":"IF(AND(D355>=F15,D355<=G15),S15,0)","v":0},{"$f":"IF(AND(D355>=F16,D355<=G16),S16,0)","v":0},0,0,0,1]
[null,null,null,"2023-04-04",{"$f":"IF(D356<=G7,S7,0)","v":0},{"$f":"IF(AND(D356>=F8,D356<=G8),S8,0)","v":0},{"$f":"IF(AND(D356>=F9,D356<=G9),S9,0)","v":0},{"$f":"IF(AND(D356>=F10,D356<=G10),S10,0)","v":0},{"$f":"IF(AND(D356>=F11,D356<=G11),S11,0)","v":0},{"$f":"IF(AND(D356>=F12,D356<=G12),S12,0)","v":0},{"$f":"IF(AND(D356>=F13,D356<=G13),S13,0)","v":0},{"$f":"IF(AND(D356>=F14,D356<=G14),S14,0)","v":0},{"$f":"IF(AND(D356>=F15,D356<=G15),S15,0)","v":0},{"$f":"IF(AND(D356>=F16,D356<=G16),S16,0)","v":0},0,0,0,1]
[null,null,null,"2023-04-05",{"$f":"IF(D357<=G7,S7,0)","v":0},{"$f":"IF(AND(D357>=F8,D357<=G8),S8,0)","v":0},{"$f":"IF(AND(D357>=F9,D357<=G9),S9,0)","v":0},{"$f":"IF(AND(D357>=F10,D357<=G10),S10,0)","v":0},{"$f":"IF(AND(D357>=F11,D357<=G11),S11,0)","v":0},{"$f":"IF(AND(D357>=F12,D357<=G12),S12,0)","v":0},{"$f":"IF(AND(D357>=F13,D357<=G13),S13,0)","v":0},{"$f":"IF(AND(D357>=F14,D357<=G14),S14,0)","v":0},{"$f":"IF(AND(D357>=F15,D357<=G15),S15,0)","v":0},{"$f":"IF(AND(D357>=F16,D357<=G16),S16,0)","v":0},0,0,0,1]
[null,null,null,"2023-04-06",{"$f":"IF(D358<=G7,S7,0)","v":0},{"$f":"IF(AND(D358>=F8,D358<=G8),S8,0)","v":0},{"$f":"IF(AND(D358>=F9,D358<=G9),S9,0)","v":0},{"$f":"IF(AND(D358>=F10,D358<=G10),S10,0)","v":0},{"$f":"IF(AND(D358>=F11,D358<=G11),S11,0)","v":0},{"$f":"IF(AND(D358>=F12,D358<=G12),S12,0)","v":0},{"$f":"IF(AND(D358>=F13,D358<=G13),S13,0)","v":0},{"$f":"IF(AND(D358>=F14,D358<=G14),S14,0)","v":0},{"$f":"IF(AND(D358>=F15,D358<=G15),S15,0)","v":0},{"$f":"IF(AND(D358>=F16,D358<=G16),S16,0)","v":0},0,0,0,1]
[null,null,null,"2023-04-07",{"$f":"IF(D359<=G7,S7,0)","v":0},{"$f":"IF(AND(D359>=F8,D359<=G8),S8,0)","v":0},{"$f":"IF(AND(D359>=F9,D359<=G9),S9,0)","v":0},{"$f":"IF(AND(D359>=F10,D359<=G10),S10,0)","v":0},{"$f":"IF(AND(D359>=F11,D359<=G11),S11,0)","v":0},{"$f":"IF(AND(D359>=F12,D359<=G12),S12,0)","v":0},{"$f":"IF(AND(D359>=F13,D359<=G13),S13,0)","v":0},{"$f":"IF(AND(D359>=F14,D359<=G14),S14,0)","v":0},{"$f":"IF(AND(D359>=F15,D359<=G15),S15,0)","v":0},{"$f":"IF(AND(D359>=F16,D359<=G16),S16,0)","v":0},0,0,0,1]
[null,null,null,"2023-04-08",{"$f":"IF(D360<=G7,S7,0)","v":0},{"$f":"IF(AND(D360>=F8,D360<=G8),S8,0)","v":0},{"$f":"IF(AND(D360>=F9,D360<=G9),S9,0)","v":0},{"$f":"IF(AND(D360>=F10,D360<=G10),S10,0)","v":0},{"$f":"IF(AND(D360>=F11,D360<=G11),S11,0)","v":0},{"$f":"IF(AND(D360>=F12,D360<=G12),S12,0)","v":0},{"$f":"IF(AND(D360>=F13,D360<=G13),S13,0)","v":0},{"$f":"IF(AND(D360>=F14,D360<=G14),S14,0)","v":0},{"$f":"IF(AND(D360>=F15,D360<=G15),S15,0)","v":0},{"$f":"IF(AND(D360>=F16,D360<=G16),S16,0)","v":0},0,0,0,1]
[null,null,null,"2023-04-09",{"$f":"IF(D361<=G7,S7,0)","v":0},{"$f":"IF(AND(D361>=F8,D361<=G8),S8,0)","v":0},{"$f":"IF(AND(D361>=F9,D361<=G9),S9,0)","v":0},{"$f":"IF(AND(D361>=F10,D361<=G10),S10,0)","v":0},{"$f":"IF(AND(D361>=F11,D361<=G11),S11,0)","v":0},{"$f":"IF(AND(D361>=F12,D361<=G12),S12,0)","v":0},{"$f":"IF(AND(D361>=F13,D361<=G13),S13,0)","v":0},{"$f":"IF(AND(D361>=F14,D361<=G14),S14,0)","v":0},{"$f":"IF(AND(D361>=F15,D361<=G15),S15,0)","v":0},{"$f":"IF(AND(D361>=F16,D361<=G16),S16,0)","v":0},0,0,0,1]
[null,null,null,"2023-04-10",{"$f":"IF(D362<=G7,S7,0)","v":0},{"$f":"IF(AND(D362>=F8,D362<=G8),S8,0)","v":0},{"$f":"IF(AND(D362>=F9,D362<=G9),S9,0)","v":0},{"$f":"IF(AND(D362>=F10,D362<=G10),S10,0)","v":0},{"$f":"IF(AND(D362>=F11,D362<=G11),S11,0)","v":0},{"$f":"IF(AND(D362>=F12,D362<=G12),S12,0)","v":0},{"$f":"IF(AND(D362>=F13,D362<=G13),S13,0)","v":0},{"$f":"IF(AND(D362>=F14,D362<=G14),S14,0)","v":0},{"$f":"IF(AND(D362>=F15,D362<=G15),S15,0)","v":0},{"$f":"IF(AND(D362>=F16,D362<=G16),S16,0)","v":0},0,0,0,1]
[null,null,null,"2023-04-11",{"$f":"IF(D363<=G7,S7,0)","v":0},{"$f":"IF(AND(D363>=F8,D363<=G8),S8,0)","v":0},{"$f":"IF(AND(D363>=F9,D363<=G9),S9,0)","v":0},{"$f":"IF(AND(D363>=F10,D363<=G10),S10,0)","v":0},{"$f":"IF(AND(D363>=F11,D363<=G11),S11,0)","v":0},{"$f":"IF(AND(D363>=F12,D363<=G12),S12,0)","v":0},{"$f":"IF(AND(D363>=F13,D363<=G13),S13,0)","v":0},{"$f":"IF(AND(D363>=F14,D363<=G14),S14,0)","v":0},{"$f":"IF(AND(D363>=F15,D363<=G15),S15,0)","v":0},{"$f":"IF(AND(D363>=F16,D363<=G16),S16,0)","v":0},0,0,0,1]
[null,null,null,"2023-04-12",{"$f":"IF(D364<=G7,S7,0)","v":0},{"$f":"IF(AND(D364>=F8,D364<=G8),S8,0)","v":0},{"$f":"IF(AND(D364>=F9,D364<=G9),S9,0)","v":0},{"$f":"IF(AND(D364>=F10,D364<=G10),S10,0)","v":0},{"$f":"IF(AND(D364>=F11,D364<=G11),S11,0)","v":0},{"$f":"IF(AND(D364>=F12,D364<=G12),S12,0)","v":0},{"$f":"IF(AND(D364>=F13,D364<=G13),S13,0)","v":0},{"$f":"IF(AND(D364>=F14,D364<=G14),S14,0)","v":0},{"$f":"IF(AND(D364>=F15,D364<=G15),S15,0)","v":0},{"$f":"IF(AND(D364>=F16,D364<=G16),S16,0)","v":0},0,0,0,1]
[null,null,null,"2023-04-13",{"$f":"IF(D365<=G7,S7,0)","v":0},{"$f":"IF(AND(D365>=F8,D365<=G8),S8,0)","v":0},{"$f":"IF(AND(D365>=F9,D365<=G9),S9,0)","v":0},{"$f":"IF(AND(D365>=F10,D365<=G10),S10,0)","v":0},{"$f":"IF(AND(D365>=F11,D365<=G11),S11,0)","v":0},{"$f":"IF(AND(D365>=F12,D365<=G12),S12,0)","v":0},{"$f":"IF(AND(D365>=F13,D365<=G13),S13,0)","v":0},{"$f":"IF(AND(D365>=F14,D365<=G14),S14,0)","v":0},{"$f":"IF(AND(D365>=F15,D365<=G15),S15,0)","v":0},{"$f":"IF(AND(D365>=F16,D365<=G16),S16,0)","v":0},0,0,0,1]
[null,null,null,"2023-04-14",{"$f":"IF(D366<=G7,S7,0)","v":0},{"$f":"IF(AND(D366>=F8,D366<=G8),S8,0)","v":0},{"$f":"IF(AND(D366>=F9,D366<=G9),S9,0)","v":0},{"$f":"IF(AND(D366>=F10,D366<=G10),S10,0)","v":0},{"$f":"IF(AND(D366>=F11,D366<=G11),S11,0)","v":0},{"$f":"IF(AND(D366>=F12,D366<=G12),S12,0)","v":0},{"$f":"IF(AND(D366>=F13,D366<=G13),S13,0)","v":0},{"$f":"IF(AND(D366>=F14,D366<=G14),S14,0)","v":0},{"$f":"IF(AND(D366>=F15,D366<=G15),S15,0)","v":0},{"$f":"IF(AND(D366>=F16,D366<=G16),S16,0)","v":0},0,0,0,1]
[null,null,null,"2023-04-15",{"$f":"IF(D367<=G7,S7,0)","v":0},{"$f":"IF(AND(D367>=F8,D367<=G8),S8,0)","v":0},{"$f":"IF(AND(D367>=F9,D367<=G9),S9,0)","v":0},{"$f":"IF(AND(D367>=F10,D367<=G10),S10,0)","v":0},{"$f":"IF(AND(D367>=F11,D367<=G11),S11,0)","v":0},{"$f":"IF(AND(D367>=F12,D367<=G12),S12,0)","v":0},{"$f":"IF(AND(D367>=F13,D367<=G13),S13,0)","v":0},{"$f":"IF(AND(D367>=F14,D367<=G14),S14,0)","v":0},{"$f":"IF(AND(D367>=F15,D367<=G15),S15,0)","v":0},{"$f":"IF(AND(D367>=F16,D367<=G16),S16,0)","v":0},0,0,0,1]
[null,null,null,"2023-04-16",{"$f":"IF(D368<=G7,S7,0)","v":0},{"$f":"IF(AND(D368>=F8,D368<=G8),S8,0)","v":0},{"$f":"IF(AND(D368>=F9,D368<=G9),S9,0)","v":0},{"$f":"IF(AND(D368>=F10,D368<=G10),S10,0)","v":0},{"$f":"IF(AND(D368>=F11,D368<=G11),S11,0)","v":0},{"$f":"IF(AND(D368>=F12,D368<=G12),S12,0)","v":0},{"$f":"IF(AND(D368>=F13,D368<=G13),S13,0)","v":0},{"$f":"IF(AND(D368>=F14,D368<=G14),S14,0)","v":0},{"$f":"IF(AND(D368>=F15,D368<=G15),S15,0)","v":0},{"$f":"IF(AND(D368>=F16,D368<=G16),S16,0)","v":0},0,0,0,1]
[null,null,null,"2023-04-17",{"$f":"IF(D369<=G7,S7,0)","v":0},{"$f":"IF(AND(D369>=F8,D369<=G8),S8,0)","v":0},{"$f":"IF(AND(D369>=F9,D369<=G9),S9,0)","v":0},{"$f":"IF(AND(D369>=F10,D369<=G10),S10,0)","v":0},{"$f":"IF(AND(D369>=F11,D369<=G11),S11,0)","v":0},{"$f":"IF(AND(D369>=F12,D369<=G12),S12,0)","v":0},{"$f":"IF(AND(D369>=F13,D369<=G13),S13,0)","v":0},{"$f":"IF(AND(D369>=F14,D369<=G14),S14,0)","v":0},{"$f":"IF(AND(D369>=F15,D369<=G15),S15,0)","v":0},{"$f":"IF(AND(D369>=F16,D369<=G16),S16,0)","v":0},0,0,0,1]
[null,null,null,"2023-04-18",{"$f":"IF(D370<=G7,S7,0)","v":0},{"$f":"IF(AND(D370>=F8,D370<=G8),S8,0)","v":0},{"$f":"IF(AND(D370>=F9,D370<=G9),S9,0)","v":0},{"$f":"IF(AND(D370>=F10,D370<=G10),S10,0)","v":0},{"$f":"IF(AND(D370>=F11,D370<=G11),S11,0)","v":0},{"$f":"IF(AND(D370>=F12,D370<=G12),S12,0)","v":0},{"$f":"IF(AND(D370>=F13,D370<=G13),S13,0)","v":0},{"$f":"IF(AND(D370>=F14,D370<=G14),S14,0)","v":0},{"$f":"IF(AND(D370>=F15,D370<=G15),S15,0)","v":0},{"$f":"IF(AND(D370>=F16,D370<=G16),S16,0)","v":0},0,0,0,1]
[null,null,null,"2023-04-19",{"$f":"IF(D371<=G7,S7,0)","v":0},{"$f":"IF(AND(D371>=F8,D371<=G8),S8,0)","v":0},{"$f":"IF(AND(D371>=F9,D371<=G9),S9,0)","v":0},{"$f":"IF(AND(D371>=F10,D371<=G10),S10,0)","v":0},{"$f":"IF(AND(D371>=F11,D371<=G11),S11,0)","v":0},{"$f":"IF(AND(D371>=F12,D371<=G12),S12,0)","v":0},{"$f":"IF(AND(D371>=F13,D371<=G13),S13,0)","v":0},{"$f":"IF(AND(D371>=F14,D371<=G14),S14,0)","v":0},{"$f":"IF(AND(D371>=F15,D371<=G15),S15,0)","v":0},{"$f":"IF(AND(D371>=F16,D371<=G16),S16,0)","v":0},0,{"$f":"IF(O371>=1,1,O371)","v":0},0,1]
[null,null,null,{"$f":"IF(DAY(D371)+1=31, D371+2, D371+1)","v":"2023-04-20"},{"$f":"IF(D372<=G7,S7,0)","v":0},{"$f":"IF(AND(D372>=F8,D372<=G8),S8,0)","v":0},{"$f":"IF(AND(D372>=F9,D372<=G9),S9,0)","v":0},{"$f":"IF(AND(D372>=F10,D372<=G10),S10,0)","v":0},{"$f":"IF(AND(D372>=F11,D372<=G11),S11,0)","v":0},{"$f":"IF(AND(D372>=F12,D372<=G12),S12,0)","v":0},{"$f":"IF(AND(D372>=F13,D372<=G13),S13,0)","v":0},{"$f":"IF(AND(D372>=F14,D372<=G14),S14,0)","v":0},{"$f":"IF(AND(D372>=F15,D372<=G15),S15,0)","v":0},{"$f":"IF(AND(D372>=F16,D372<=G16),S16,0)","v":0},{"$f":"SUM(E372:N372)","v":0},0,0,1]
[null,null,null,"2023-04-21",{"$f":"IF(D373<=G7,S7,0)","v":0},{"$f":"IF(AND(D373>=F8,D373<=G8),S8,0)","v":0},{"$f":"IF(AND(D373>=F9,D373<=G9),S9,0)","v":0},{"$f":"IF(AND(D373>=F10,D373<=G10),S10,0)","v":0},{"$f":"IF(AND(D373>=F11,D373<=G11),S11,0)","v":0},{"$f":"IF(AND(D373>=F12,D373<=G12),S12,0)","v":0},{"$f":"IF(AND(D373>=F13,D373<=G13),S13,0)","v":0},{"$f":"IF(AND(D373>=F14,D373<=G14),S14,0)","v":0},{"$f":"IF(AND(D373>=F15,D373<=G15),S15,0)","v":0},{"$f":"IF(AND(D373>=F16,D373<=G16),S16,0)","v":0},0,0,{"$f":"IF(P372=P373,0,1)","v":0},{"$f":"SUM(Q372,R372)","v":1}]
[null,null,null,"2023-04-22",{"$f":"IF(D374<=G7,S7,0)","v":0},{"$f":"IF(AND(D374>=F8,D374<=G8),S8,0)","v":0},{"$f":"IF(AND(D374>=F9,D374<=G9),S9,0)","v":0},{"$f":"IF(AND(D374>=F10,D374<=G10),S10,0)","v":0},{"$f":"IF(AND(D374>=F11,D374<=G11),S11,0)","v":0},{"$f":"IF(AND(D374>=F12,D374<=G12),S12,0)","v":0},{"$f":"IF(AND(D374>=F13,D374<=G13),S13,0)","v":0},{"$f":"IF(AND(D374>=F14,D374<=G14),S14,0)","v":0},{"$f":"IF(AND(D374>=F15,D374<=G15),S15,0)","v":0},{"$f":"IF(AND(D374>=F16,D374<=G16),S16,0)","v":0},0,0,0,1]
[null,null,null,"2023-04-23",{"$f":"IF(D375<=G7,S7,0)","v":0},{"$f":"IF(AND(D375>=F8,D375<=G8),S8,0)","v":0},{"$f":"IF(AND(D375>=F9,D375<=G9),S9,0)","v":0},{"$f":"IF(AND(D375>=F10,D375<=G10),S10,0)","v":0},{"$f":"IF(AND(D375>=F11,D375<=G11),S11,0)","v":0},{"$f":"IF(AND(D375>=F12,D375<=G12),S12,0)","v":0},{"$f":"IF(AND(D375>=F13,D375<=G13),S13,0)","v":0},{"$f":"IF(AND(D375>=F14,D375<=G14),S14,0)","v":0},{"$f":"IF(AND(D375>=F15,D375<=G15),S15,0)","v":0},{"$f":"IF(AND(D375>=F16,D375<=G16),S16,0)","v":0},0,0,0,1]
[null,null,null,"2023-04-24",{"$f":"IF(D376<=G7,S7,0)","v":0},{"$f":"IF(AND(D376>=F8,D376<=G8),S8,0)","v":0},{"$f":"IF(AND(D376>=F9,D376<=G9),S9,0)","v":0},{"$f":"IF(AND(D376>=F10,D376<=G10),S10,0)","v":0},{"$f":"IF(AND(D376>=F11,D376<=G11),S11,0)","v":0},{"$f":"IF(AND(D376>=F12,D376<=G12),S12,0)","v":0},{"$f":"IF(AND(D376>=F13,D376<=G13),S13,0)","v":0},{"$f":"IF(AND(D376>=F14,D376<=G14),S14,0)","v":0},{"$f":"IF(AND(D376>=F15,D376<=G15),S15,0)","v":0},{"$f":"IF(AND(D376>=F16,D376<=G16),S16,0)","v":0},0,0,0,1]
[null,null,null,"2023-04-25",{"$f":"IF(D377<=G7,S7,0)","v":0},{"$f":"IF(AND(D377>=F8,D377<=G8),S8,0)","v":0},{"$f":"IF(AND(D377>=F9,D377<=G9),S9,0)","v":0},{"$f":"IF(AND(D377>=F10,D377<=G10),S10,0)","v":0},{"$f":"IF(AND(D377>=F11,D377<=G11),S11,0)","v":0},{"$f":"IF(AND(D377>=F12,D377<=G12),S12,0)","v":0},{"$f":"IF(AND(D377>=F13,D377<=G13),S13,0)","v":0},{"$f":"IF(AND(D377>=F14,D377<=G14),S14,0)","v":0},{"$f":"IF(AND(D377>=F15,D377<=G15),S15,0)","v":0},{"$f":"IF(AND(D377>=F16,D377<=G16),S16,0)","v":0},0,0,0,1]
[null,null,null,"2023-04-26",{"$f":"IF(D378<=G7,S7,0)","v":0},{"$f":"IF(AND(D378>=F8,D378<=G8),S8,0)","v":0},{"$f":"IF(AND(D378>=F9,D378<=G9),S9,0)","v":0},{"$f":"IF(AND(D378>=F10,D378<=G10),S10,0)","v":0},{"$f":"IF(AND(D378>=F11,D378<=G11),S11,0)","v":0},{"$f":"IF(AND(D378>=F12,D378<=G12),S12,0)","v":0},{"$f":"IF(AND(D378>=F13,D378<=G13),S13,0)","v":0},{"$f":"IF(AND(D378>=F14,D378<=G14),S14,0)","v":0},{"$f":"IF(AND(D378>=F15,D378<=G15),S15,0)","v":0},{"$f":"IF(AND(D378>=F16,D378<=G16),S16,0)","v":0},0,0,0,1]
[null,null,null,"2023-04-27",{"$f":"IF(D379<=G7,S7,0)","v":0},{"$f":"IF(AND(D379>=F8,D379<=G8),S8,0)","v":0},{"$f":"IF(AND(D379>=F9,D379<=G9),S9,0)","v":0},{"$f":"IF(AND(D379>=F10,D379<=G10),S10,0)","v":0},{"$f":"IF(AND(D379>=F11,D379<=G11),S11,0)","v":0},{"$f":"IF(AND(D379>=F12,D379<=G12),S12,0)","v":0},{"$f":"IF(AND(D379>=F13,D379<=G13),S13,0)","v":0},{"$f":"IF(AND(D379>=F14,D379<=G14),S14,0)","v":0},{"$f":"IF(AND(D379>=F15,D379<=G15),S15,0)","v":0},{"$f":"IF(AND(D379>=F16,D379<=G16),S16,0)","v":0},0,0,0,1]
[null,null,null,"2023-04-28",{"$f":"IF(D380<=G7,S7,0)","v":0},{"$f":"IF(AND(D380>=F8,D380<=G8),S8,0)","v":0},{"$f":"IF(AND(D380>=F9,D380<=G9),S9,0)","v":0},{"$f":"IF(AND(D380>=F10,D380<=G10),S10,0)","v":0},{"$f":"IF(AND(D380>=F11,D380<=G11),S11,0)","v":0},{"$f":"IF(AND(D380>=F12,D380<=G12),S12,0)","v":0},{"$f":"IF(AND(D380>=F13,D380<=G13),S13,0)","v":0},{"$f":"IF(AND(D380>=F14,D380<=G14),S14,0)","v":0},{"$f":"IF(AND(D380>=F15,D380<=G15),S15,0)","v":0},{"$f":"IF(AND(D380>=F16,D380<=G16),S16,0)","v":0},0,0,0,1]
[null,null,null,"2023-04-29",{"$f":"IF(D381<=G7,S7,0)","v":0},{"$f":"IF(AND(D381>=F8,D381<=G8),S8,0)","v":0},{"$f":"IF(AND(D381>=F9,D381<=G9),S9,0)","v":0},{"$f":"IF(AND(D381>=F10,D381<=G10),S10,0)","v":0},{"$f":"IF(AND(D381>=F11,D381<=G11),S11,0)","v":0},{"$f":"IF(AND(D381>=F12,D381<=G12),S12,0)","v":0},{"$f":"IF(AND(D381>=F13,D381<=G13),S13,0)","v":0},{"$f":"IF(AND(D381>=F14,D381<=G14),S14,0)","v":0},{"$f":"IF(AND(D381>=F15,D381<=G15),S15,0)","v":0},{"$f":"IF(AND(D381>=F16,D381<=G16),S16,0)","v":0},0,0,0,1]
[null,null,null,"2023-04-30",{"$f":"IF(D382<=G7,S7,0)","v":0},{"$f":"IF(AND(D382>=F8,D382<=G8),S8,0)","v":0},{"$f":"IF(AND(D382>=F9,D382<=G9),S9,0)","v":0},{"$f":"IF(AND(D382>=F10,D382<=G10),S10,0)","v":0},{"$f":"IF(AND(D382>=F11,D382<=G11),S11,0)","v":0},{"$f":"IF(AND(D382>=F12,D382<=G12),S12,0)","v":0},{"$f":"IF(AND(D382>=F13,D382<=G13),S13,0)","v":0},{"$f":"IF(AND(D382>=F14,D382<=G14),S14,0)","v":0},{"$f":"IF(AND(D382>=F15,D382<=G15),S15,0)","v":0},{"$f":"IF(AND(D382>=F16,D382<=G16),S16,0)","v":0},0,0,0,1]
[null,null,null,"2023-05-02",{"$f":"IF(D383<=G7,S7,0)","v":0},{"$f":"IF(AND(D383>=F8,D383<=G8),S8,0)","v":0},{"$f":"IF(AND(D383>=F9,D383<=G9),S9,0)","v":0},{"$f":"IF(AND(D383>=F10,D383<=G10),S10,0)","v":0},{"$f":"IF(AND(D383>=F11,D383<=G11),S11,0)","v":0},{"$f":"IF(AND(D383>=F12,D383<=G12),S12,0)","v":0},{"$f":"IF(AND(D383>=F13,D383<=G13),S13,0)","v":0},{"$f":"IF(AND(D383>=F14,D383<=G14),S14,0)","v":0},{"$f":"IF(AND(D383>=F15,D383<=G15),S15,0)","v":0},{"$f":"IF(AND(D383>=F16,D383<=G16),S16,0)","v":0},0,0,0,1]
[null,null,null,"2023-05-03",{"$f":"IF(D384<=G7,S7,0)","v":0},{"$f":"IF(AND(D384>=F8,D384<=G8),S8,0)","v":0},{"$f":"IF(AND(D384>=F9,D384<=G9),S9,0)","v":0},{"$f":"IF(AND(D384>=F10,D384<=G10),S10,0)","v":0},{"$f":"IF(AND(D384>=F11,D384<=G11),S11,0)","v":0},{"$f":"IF(AND(D384>=F12,D384<=G12),S12,0)","v":0},{"$f":"IF(AND(D384>=F13,D384<=G13),S13,0)","v":0},{"$f":"IF(AND(D384>=F14,D384<=G14),S14,0)","v":0},{"$f":"IF(AND(D384>=F15,D384<=G15),S15,0)","v":0},{"$f":"IF(AND(D384>=F16,D384<=G16),S16,0)","v":0},0,0,0,1]
[null,null,null,"2023-05-04",{"$f":"IF(D385<=G7,S7,0)","v":0},{"$f":"IF(AND(D385>=F8,D385<=G8),S8,0)","v":0},{"$f":"IF(AND(D385>=F9,D385<=G9),S9,0)","v":0},{"$f":"IF(AND(D385>=F10,D385<=G10),S10,0)","v":0},{"$f":"IF(AND(D385>=F11,D385<=G11),S11,0)","v":0},{"$f":"IF(AND(D385>=F12,D385<=G12),S12,0)","v":0},{"$f":"IF(AND(D385>=F13,D385<=G13),S13,0)","v":0},{"$f":"IF(AND(D385>=F14,D385<=G14),S14,0)","v":0},{"$f":"IF(AND(D385>=F15,D385<=G15),S15,0)","v":0},{"$f":"IF(AND(D385>=F16,D385<=G16),S16,0)","v":0},0,0,0,1]
[null,null,null,"2023-05-05",{"$f":"IF(D386<=G7,S7,0)","v":0},{"$f":"IF(AND(D386>=F8,D386<=G8),S8,0)","v":0},{"$f":"IF(AND(D386>=F9,D386<=G9),S9,0)","v":0},{"$f":"IF(AND(D386>=F10,D386<=G10),S10,0)","v":0},{"$f":"IF(AND(D386>=F11,D386<=G11),S11,0)","v":0},{"$f":"IF(AND(D386>=F12,D386<=G12),S12,0)","v":0},{"$f":"IF(AND(D386>=F13,D386<=G13),S13,0)","v":0},{"$f":"IF(AND(D386>=F14,D386<=G14),S14,0)","v":0},{"$f":"IF(AND(D386>=F15,D386<=G15),S15,0)","v":0},{"$f":"IF(AND(D386>=F16,D386<=G16),S16,0)","v":0},0,0,0,1]
[null,null,null,"2023-05-06",{"$f":"IF(D387<=G7,S7,0)","v":0},{"$f":"IF(AND(D387>=F8,D387<=G8),S8,0)","v":0},{"$f":"IF(AND(D387>=F9,D387<=G9),S9,0)","v":0},{"$f":"IF(AND(D387>=F10,D387<=G10),S10,0)","v":0},{"$f":"IF(AND(D387>=F11,D387<=G11),S11,0)","v":0},{"$f":"IF(AND(D387>=F12,D387<=G12),S12,0)","v":0},{"$f":"IF(AND(D387>=F13,D387<=G13),S13,0)","v":0},{"$f":"IF(AND(D387>=F14,D387<=G14),S14,0)","v":0},{"$f":"IF(AND(D387>=F15,D387<=G15),S15,0)","v":0},{"$f":"IF(AND(D387>=F16,D387<=G16),S16,0)","v":0},0,0,0,1]
[null,null,null,"2023-05-07",{"$f":"IF(D388<=G7,S7,0)","v":0},{"$f":"IF(AND(D388>=F8,D388<=G8),S8,0)","v":0},{"$f":"IF(AND(D388>=F9,D388<=G9),S9,0)","v":0},{"$f":"IF(AND(D388>=F10,D388<=G10),S10,0)","v":0},{"$f":"IF(AND(D388>=F11,D388<=G11),S11,0)","v":0},{"$f":"IF(AND(D388>=F12,D388<=G12),S12,0)","v":0},{"$f":"IF(AND(D388>=F13,D388<=G13),S13,0)","v":0},{"$f":"IF(AND(D388>=F14,D388<=G14),S14,0)","v":0},{"$f":"IF(AND(D388>=F15,D388<=G15),S15,0)","v":0},{"$f":"IF(AND(D388>=F16,D388<=G16),S16,0)","v":0},0,0,0,1]
[null,null,null,"2023-05-08",{"$f":"IF(D389<=G7,S7,0)","v":0},{"$f":"IF(AND(D389>=F8,D389<=G8),S8,0)","v":0},{"$f":"IF(AND(D389>=F9,D389<=G9),S9,0)","v":0},{"$f":"IF(AND(D389>=F10,D389<=G10),S10,0)","v":0},{"$f":"IF(AND(D389>=F11,D389<=G11),S11,0)","v":0},{"$f":"IF(AND(D389>=F12,D389<=G12),S12,0)","v":0},{"$f":"IF(AND(D389>=F13,D389<=G13),S13,0)","v":0},{"$f":"IF(AND(D389>=F14,D389<=G14),S14,0)","v":0},{"$f":"IF(AND(D389>=F15,D389<=G15),S15,0)","v":0},{"$f":"IF(AND(D389>=F16,D389<=G16),S16,0)","v":0},0,0,0,1]
[null,null,null,"2023-05-09",{"$f":"IF(D390<=G7,S7,0)","v":0},{"$f":"IF(AND(D390>=F8,D390<=G8),S8,0)","v":0},{"$f":"IF(AND(D390>=F9,D390<=G9),S9,0)","v":0},{"$f":"IF(AND(D390>=F10,D390<=G10),S10,0)","v":0},{"$f":"IF(AND(D390>=F11,D390<=G11),S11,0)","v":0},{"$f":"IF(AND(D390>=F12,D390<=G12),S12,0)","v":0},{"$f":"IF(AND(D390>=F13,D390<=G13),S13,0)","v":0},{"$f":"IF(AND(D390>=F14,D390<=G14),S14,0)","v":0},{"$f":"IF(AND(D390>=F15,D390<=G15),S15,0)","v":0},{"$f":"IF(AND(D390>=F16,D390<=G16),S16,0)","v":0},0,0,0,1]
[null,null,null,"2023-05-10",{"$f":"IF(D391<=G7,S7,0)","v":0},{"$f":"IF(AND(D391>=F8,D391<=G8),S8,0)","v":0},{"$f":"IF(AND(D391>=F9,D391<=G9),S9,0)","v":0},{"$f":"IF(AND(D391>=F10,D391<=G10),S10,0)","v":0},{"$f":"IF(AND(D391>=F11,D391<=G11),S11,0)","v":0},{"$f":"IF(AND(D391>=F12,D391<=G12),S12,0)","v":0},{"$f":"IF(AND(D391>=F13,D391<=G13),S13,0)","v":0},{"$f":"IF(AND(D391>=F14,D391<=G14),S14,0)","v":0},{"$f":"IF(AND(D391>=F15,D391<=G15),S15,0)","v":0},{"$f":"IF(AND(D391>=F16,D391<=G16),S16,0)","v":0},0,0,0,1]
[null,null,null,"2023-05-11",{"$f":"IF(D392<=G7,S7,0)","v":0},{"$f":"IF(AND(D392>=F8,D392<=G8),S8,0)","v":0},{"$f":"IF(AND(D392>=F9,D392<=G9),S9,0)","v":0},{"$f":"IF(AND(D392>=F10,D392<=G10),S10,0)","v":0},{"$f":"IF(AND(D392>=F11,D392<=G11),S11,0)","v":0},{"$f":"IF(AND(D392>=F12,D392<=G12),S12,0)","v":0},{"$f":"IF(AND(D392>=F13,D392<=G13),S13,0)","v":0},{"$f":"IF(AND(D392>=F14,D392<=G14),S14,0)","v":0},{"$f":"IF(AND(D392>=F15,D392<=G15),S15,0)","v":0},{"$f":"IF(AND(D392>=F16,D392<=G16),S16,0)","v":0},0,0,0,1]
[null,null,null,"2023-05-12",{"$f":"IF(D393<=G7,S7,0)","v":0},{"$f":"IF(AND(D393>=F8,D393<=G8),S8,0)","v":0},{"$f":"IF(AND(D393>=F9,D393<=G9),S9,0)","v":0},{"$f":"IF(AND(D393>=F10,D393<=G10),S10,0)","v":0},{"$f":"IF(AND(D393>=F11,D393<=G11),S11,0)","v":0},{"$f":"IF(AND(D393>=F12,D393<=G12),S12,0)","v":0},{"$f":"IF(AND(D393>=F13,D393<=G13),S13,0)","v":0},{"$f":"IF(AND(D393>=F14,D393<=G14),S14,0)","v":0},{"$f":"IF(AND(D393>=F15,D393<=G15),S15,0)","v":0},{"$f":"IF(AND(D393>=F16,D393<=G16),S16,0)","v":0},0,0,0,1]
[null,null,null,"2023-05-13",{"$f":"IF(D394<=G7,S7,0)","v":0},{"$f":"IF(AND(D394>=F8,D394<=G8),S8,0)","v":0},{"$f":"IF(AND(D394>=F9,D394<=G9),S9,0)","v":0},{"$f":"IF(AND(D394>=F10,D394<=G10),S10,0)","v":0},{"$f":"IF(AND(D394>=F11,D394<=G11),S11,0)","v":0},{"$f":"IF(AND(D394>=F12,D394<=G12),S12,0)","v":0},{"$f":"IF(AND(D394>=F13,D394<=G13),S13,0)","v":0},{"$f":"IF(AND(D394>=F14,D394<=G14),S14,0)","v":0},{"$f":"IF(AND(D394>=F15,D394<=G15),S15,0)","v":0},{"$f":"IF(AND(D394>=F16,D394<=G16),S16,0)","v":0},0,0,0,1]
[null,null,null,"2023-05-14",{"$f":"IF(D395<=G7,S7,0)","v":0},{"$f":"IF(AND(D395>=F8,D395<=G8),S8,0)","v":0},{"$f":"IF(AND(D395>=F9,D395<=G9),S9,0)","v":0},{"$f":"IF(AND(D395>=F10,D395<=G10),S10,0)","v":0},{"$f":"IF(AND(D395>=F11,D395<=G11),S11,0)","v":0},{"$f":"IF(AND(D395>=F12,D395<=G12),S12,0)","v":0},{"$f":"IF(AND(D395>=F13,D395<=G13),S13,0)","v":0},{"$f":"IF(AND(D395>=F14,D395<=G14),S14,0)","v":0},{"$f":"IF(AND(D395>=F15,D395<=G15),S15,0)","v":0},{"$f":"IF(AND(D395>=F16,D395<=G16),S16,0)","v":0},0,0,0,1]
[null,null,null,"2023-05-15",{"$f":"IF(D396<=G7,S7,0)","v":0},{"$f":"IF(AND(D396>=F8,D396<=G8),S8,0)","v":0},{"$f":"IF(AND(D396>=F9,D396<=G9),S9,0)","v":0},{"$f":"IF(AND(D396>=F10,D396<=G10),S10,0)","v":0},{"$f":"IF(AND(D396>=F11,D396<=G11),S11,0)","v":0},{"$f":"IF(AND(D396>=F12,D396<=G12),S12,0)","v":0},{"$f":"IF(AND(D396>=F13,D396<=G13),S13,0)","v":0},{"$f":"IF(AND(D396>=F14,D396<=G14),S14,0)","v":0},{"$f":"IF(AND(D396>=F15,D396<=G15),S15,0)","v":0},{"$f":"IF(AND(D396>=F16,D396<=G16),S16,0)","v":0},0,0,0,1]
[null,null,null,"2023-05-16",{"$f":"IF(D397<=G7,S7,0)","v":0},{"$f":"IF(AND(D397>=F8,D397<=G8),S8,0)","v":0},{"$f":"IF(AND(D397>=F9,D397<=G9),S9,0)","v":0},{"$f":"IF(AND(D397>=F10,D397<=G10),S10,0)","v":0},{"$f":"IF(AND(D397>=F11,D397<=G11),S11,0)","v":0},{"$f":"IF(AND(D397>=F12,D397<=G12),S12,0)","v":0},{"$f":"IF(AND(D397>=F13,D397<=G13),S13,0)","v":0},{"$f":"IF(AND(D397>=F14,D397<=G14),S14,0)","v":0},{"$f":"IF(AND(D397>=F15,D397<=G15),S15,0)","v":0},{"$f":"IF(AND(D397>=F16,D397<=G16),S16,0)","v":0},0,0,0,1]
[null,null,null,"2023-05-17",{"$f":"IF(D398<=G7,S7,0)","v":0},{"$f":"IF(AND(D398>=F8,D398<=G8),S8,0)","v":0},{"$f":"IF(AND(D398>=F9,D398<=G9),S9,0)","v":0},{"$f":"IF(AND(D398>=F10,D398<=G10),S10,0)","v":0},{"$f":"IF(AND(D398>=F11,D398<=G11),S11,0)","v":0},{"$f":"IF(AND(D398>=F12,D398<=G12),S12,0)","v":0},{"$f":"IF(AND(D398>=F13,D398<=G13),S13,0)","v":0},{"$f":"IF(AND(D398>=F14,D398<=G14),S14,0)","v":0},{"$f":"IF(AND(D398>=F15,D398<=G15),S15,0)","v":0},{"$f":"IF(AND(D398>=F16,D398<=G16),S16,0)","v":0},0,0,0,1]
[null,null,null,"2023-05-18",{"$f":"IF(D399<=G7,S7,0)","v":0},{"$f":"IF(AND(D399>=F8,D399<=G8),S8,0)","v":0},{"$f":"IF(AND(D399>=F9,D399<=G9),S9,0)","v":0},{"$f":"IF(AND(D399>=F10,D399<=G10),S10,0)","v":0},{"$f":"IF(AND(D399>=F11,D399<=G11),S11,0)","v":0},{"$f":"IF(AND(D399>=F12,D399<=G12),S12,0)","v":0},{"$f":"IF(AND(D399>=F13,D399<=G13),S13,0)","v":0},{"$f":"IF(AND(D399>=F14,D399<=G14),S14,0)","v":0},{"$f":"IF(AND(D399>=F15,D399<=G15),S15,0)","v":0},{"$f":"IF(AND(D399>=F16,D399<=G16),S16,0)","v":0},0,0,0,1]
[null,null,null,"2023-05-19",{"$f":"IF(D400<=G7,S7,0)","v":0},{"$f":"IF(AND(D400>=F8,D400<=G8),S8,0)","v":0},{"$f":"IF(AND(D400>=F9,D400<=G9),S9,0)","v":0},{"$f":"IF(AND(D400>=F10,D400<=G10),S10,0)","v":0},{"$f":"IF(AND(D400>=F11,D400<=G11),S11,0)","v":0},{"$f":"IF(AND(D400>=F12,D400<=G12),S12,0)","v":0},{"$f":"IF(AND(D400>=F13,D400<=G13),S13,0)","v":0},{"$f":"IF(AND(D400>=F14,D400<=G14),S14,0)","v":0},{"$f":"IF(AND(D400>=F15,D400<=G15),S15,0)","v":0},{"$f":"IF(AND(D400>=F16,D400<=G16),S16,0)","v":0},0,0,0,1]
[null,null,null,"2023-05-20",{"$f":"IF(D401<=G7,S7,0)","v":0},{"$f":"IF(AND(D401>=F8,D401<=G8),S8,0)","v":0},{"$f":"IF(AND(D401>=F9,D401<=G9),S9,0)","v":0},{"$f":"IF(AND(D401>=F10,D401<=G10),S10,0)","v":0},{"$f":"IF(AND(D401>=F11,D401<=G11),S11,0)","v":0},{"$f":"IF(AND(D401>=F12,D401<=G12),S12,0)","v":0},{"$f":"IF(AND(D401>=F13,D401<=G13),S13,0)","v":0},{"$f":"IF(AND(D401>=F14,D401<=G14),S14,0)","v":0},{"$f":"IF(AND(D401>=F15,D401<=G15),S15,0)","v":0},{"$f":"IF(AND(D401>=F16,D401<=G16),S16,0)","v":0},0,0,0,1]
[null,null,null,"2023-05-21",{"$f":"IF(D402<=G7,S7,0)","v":0},{"$f":"IF(AND(D402>=F8,D402<=G8),S8,0)","v":0},{"$f":"IF(AND(D402>=F9,D402<=G9),S9,0)","v":0},{"$f":"IF(AND(D402>=F10,D402<=G10),S10,0)","v":0},{"$f":"IF(AND(D402>=F11,D402<=G11),S11,0)","v":0},{"$f":"IF(AND(D402>=F12,D402<=G12),S12,0)","v":0},{"$f":"IF(AND(D402>=F13,D402<=G13),S13,0)","v":0},{"$f":"IF(AND(D402>=F14,D402<=G14),S14,0)","v":0},{"$f":"IF(AND(D402>=F15,D402<=G15),S15,0)","v":0},{"$f":"IF(AND(D402>=F16,D402<=G16),S16,0)","v":0},0,0,0,1]
[null,null,null,"2023-05-22",{"$f":"IF(D403<=G7,S7,0)","v":0},{"$f":"IF(AND(D403>=F8,D403<=G8),S8,0)","v":0},{"$f":"IF(AND(D403>=F9,D403<=G9),S9,0)","v":0},{"$f":"IF(AND(D403>=F10,D403<=G10),S10,0)","v":0},{"$f":"IF(AND(D403>=F11,D403<=G11),S11,0)","v":0},{"$f":"IF(AND(D403>=F12,D403<=G12),S12,0)","v":0},{"$f":"IF(AND(D403>=F13,D403<=G13),S13,0)","v":0},{"$f":"IF(AND(D403>=F14,D403<=G14),S14,0)","v":0},{"$f":"IF(AND(D403>=F15,D403<=G15),S15,0)","v":0},{"$f":"IF(AND(D403>=F16,D403<=G16),S16,0)","v":0},0,0,0,1]
[null,null,null,"2023-05-23",{"$f":"IF(D404<=G7,S7,0)","v":0},{"$f":"IF(AND(D404>=F8,D404<=G8),S8,0)","v":0},{"$f":"IF(AND(D404>=F9,D404<=G9),S9,0)","v":0},{"$f":"IF(AND(D404>=F10,D404<=G10),S10,0)","v":0},{"$f":"IF(AND(D404>=F11,D404<=G11),S11,0)","v":0},{"$f":"IF(AND(D404>=F12,D404<=G12),S12,0)","v":0},{"$f":"IF(AND(D404>=F13,D404<=G13),S13,0)","v":0},{"$f":"IF(AND(D404>=F14,D404<=G14),S14,0)","v":0},{"$f":"IF(AND(D404>=F15,D404<=G15),S15,0)","v":0},{"$f":"IF(AND(D404>=F16,D404<=G16),S16,0)","v":0},0,0,0,1]
[null,null,null,"2023-05-24",{"$f":"IF(D405<=G7,S7,0)","v":0},{"$f":"IF(AND(D405>=F8,D405<=G8),S8,0)","v":0},{"$f":"IF(AND(D405>=F9,D405<=G9),S9,0)","v":0},{"$f":"IF(AND(D405>=F10,D405<=G10),S10,0)","v":0},{"$f":"IF(AND(D405>=F11,D405<=G11),S11,0)","v":0},{"$f":"IF(AND(D405>=F12,D405<=G12),S12,0)","v":0},{"$f":"IF(AND(D405>=F13,D405<=G13),S13,0)","v":0},{"$f":"IF(AND(D405>=F14,D405<=G14),S14,0)","v":0},{"$f":"IF(AND(D405>=F15,D405<=G15),S15,0)","v":0},{"$f":"IF(AND(D405>=F16,D405<=G16),S16,0)","v":0},0,0,0,1]
[null,null,null,"2023-05-25",{"$f":"IF(D406<=G7,S7,0)","v":0},{"$f":"IF(AND(D406>=F8,D406<=G8),S8,0)","v":0},{"$f":"IF(AND(D406>=F9,D406<=G9),S9,0)","v":0},{"$f":"IF(AND(D406>=F10,D406<=G10),S10,0)","v":0},{"$f":"IF(AND(D406>=F11,D406<=G11),S11,0)","v":0},{"$f":"IF(AND(D406>=F12,D406<=G12),S12,0)","v":0},{"$f":"IF(AND(D406>=F13,D406<=G13),S13,0)","v":0},{"$f":"IF(AND(D406>=F14,D406<=G14),S14,0)","v":0},{"$f":"IF(AND(D406>=F15,D406<=G15),S15,0)","v":0},{"$f":"IF(AND(D406>=F16,D406<=G16),S16,0)","v":0},0,0,0,1]
[null,null,null,"2023-05-26",{"$f":"IF(D407<=G7,S7,0)","v":0},{"$f":"IF(AND(D407>=F8,D407<=G8),S8,0)","v":0},{"$f":"IF(AND(D407>=F9,D407<=G9),S9,0)","v":0},{"$f":"IF(AND(D407>=F10,D407<=G10),S10,0)","v":0},{"$f":"IF(AND(D407>=F11,D407<=G11),S11,0)","v":0},{"$f":"IF(AND(D407>=F12,D407<=G12),S12,0)","v":0},{"$f":"IF(AND(D407>=F13,D407<=G13),S13,0)","v":0},{"$f":"IF(AND(D407>=F14,D407<=G14),S14,0)","v":0},{"$f":"IF(AND(D407>=F15,D407<=G15),S15,0)","v":0},{"$f":"IF(AND(D407>=F16,D407<=G16),S16,0)","v":0},0,0,0,1]
[null,null,null,"2023-05-27",{"$f":"IF(D408<=G7,S7,0)","v":0},{"$f":"IF(AND(D408>=F8,D408<=G8),S8,0)","v":0},{"$f":"IF(AND(D408>=F9,D408<=G9),S9,0)","v":0},{"$f":"IF(AND(D408>=F10,D408<=G10),S10,0)","v":0},{"$f":"IF(AND(D408>=F11,D408<=G11),S11,0)","v":0},{"$f":"IF(AND(D408>=F12,D408<=G12),S12,0)","v":0},{"$f":"IF(AND(D408>=F13,D408<=G13),S13,0)","v":0},{"$f":"IF(AND(D408>=F14,D408<=G14),S14,0)","v":0},{"$f":"IF(AND(D408>=F15,D408<=G15),S15,0)","v":0},{"$f":"IF(AND(D408>=F16,D408<=G16),S16,0)","v":0},0,0,0,1]
[null,null,null,"2023-05-28",{"$f":"IF(D409<=G7,S7,0)","v":0},{"$f":"IF(AND(D409>=F8,D409<=G8),S8,0)","v":0},{"$f":"IF(AND(D409>=F9,D409<=G9),S9,0)","v":0},{"$f":"IF(AND(D409>=F10,D409<=G10),S10,0)","v":0},{"$f":"IF(AND(D409>=F11,D409<=G11),S11,0)","v":0},{"$f":"IF(AND(D409>=F12,D409<=G12),S12,0)","v":0},{"$f":"IF(AND(D409>=F13,D409<=G13),S13,0)","v":0},{"$f":"IF(AND(D409>=F14,D409<=G14),S14,0)","v":0},{"$f":"IF(AND(D409>=F15,D409<=G15),S15,0)","v":0},{"$f":"IF(AND(D409>=F16,D409<=G16),S16,0)","v":0},0,0,0,1]
[null,null,null,"2023-05-29",{"$f":"IF(D410<=G7,S7,0)","v":0},{"$f":"IF(AND(D410>=F8,D410<=G8),S8,0)","v":0},{"$f":"IF(AND(D410>=F9,D410<=G9),S9,0)","v":0},{"$f":"IF(AND(D410>=F10,D410<=G10),S10,0)","v":0},{"$f":"IF(AND(D410>=F11,D410<=G11),S11,0)","v":0},{"$f":"IF(AND(D410>=F12,D410<=G12),S12,0)","v":0},{"$f":"IF(AND(D410>=F13,D410<=G13),S13,0)","v":0},{"$f":"IF(AND(D410>=F14,D410<=G14),S14,0)","v":0},{"$f":"IF(AND(D410>=F15,D410<=G15),S15,0)","v":0},{"$f":"IF(AND(D410>=F16,D410<=G16),S16,0)","v":0},0,0,0,1]
[null,null,null,"2023-05-30",{"$f":"IF(D411<=G7,S7,0)","v":0},{"$f":"IF(AND(D411>=F8,D411<=G8),S8,0)","v":0},{"$f":"IF(AND(D411>=F9,D411<=G9),S9,0)","v":0},{"$f":"IF(AND(D411>=F10,D411<=G10),S10,0)","v":0},{"$f":"IF(AND(D411>=F11,D411<=G11),S11,0)","v":0},{"$f":"IF(AND(D411>=F12,D411<=G12),S12,0)","v":0},{"$f":"IF(AND(D411>=F13,D411<=G13),S13,0)","v":0},{"$f":"IF(AND(D411>=F14,D411<=G14),S14,0)","v":0},{"$f":"IF(AND(D411>=F15,D411<=G15),S15,0)","v":0},{"$f":"IF(AND(D411>=F16,D411<=G16),S16,0)","v":0},0,0,0,1]
[null,null,null,"2023-06-01",{"$f":"IF(D412<=G7,S7,0)","v":0},{"$f":"IF(AND(D412>=F8,D412<=G8),S8,0)","v":0},{"$f":"IF(AND(D412>=F9,D412<=G9),S9,0)","v":0},{"$f":"IF(AND(D412>=F10,D412<=G10),S10,0)","v":0},{"$f":"IF(AND(D412>=F11,D412<=G11),S11,0)","v":0},{"$f":"IF(AND(D412>=F12,D412<=G12),S12,0)","v":0},{"$f":"IF(AND(D412>=F13,D412<=G13),S13,0)","v":0},{"$f":"IF(AND(D412>=F14,D412<=G14),S14,0)","v":0},{"$f":"IF(AND(D412>=F15,D412<=G15),S15,0)","v":0},{"$f":"IF(AND(D412>=F16,D412<=G16),S16,0)","v":0},0,0,0,1]
[null,null,null,"2023-06-02",{"$f":"IF(D413<=G7,S7,0)","v":0},{"$f":"IF(AND(D413>=F8,D413<=G8),S8,0)","v":0},{"$f":"IF(AND(D413>=F9,D413<=G9),S9,0)","v":0},{"$f":"IF(AND(D413>=F10,D413<=G10),S10,0)","v":0},{"$f":"IF(AND(D413>=F11,D413<=G11),S11,0)","v":0},{"$f":"IF(AND(D413>=F12,D413<=G12),S12,0)","v":0},{"$f":"IF(AND(D413>=F13,D413<=G13),S13,0)","v":0},{"$f":"IF(AND(D413>=F14,D413<=G14),S14,0)","v":0},{"$f":"IF(AND(D413>=F15,D413<=G15),S15,0)","v":0},{"$f":"IF(AND(D413>=F16,D413<=G16),S16,0)","v":0},0,0,0,1]
[null,null,null,"2023-06-03",{"$f":"IF(D414<=G7,S7,0)","v":0},{"$f":"IF(AND(D414>=F8,D414<=G8),S8,0)","v":0},{"$f":"IF(AND(D414>=F9,D414<=G9),S9,0)","v":0},{"$f":"IF(AND(D414>=F10,D414<=G10),S10,0)","v":0},{"$f":"IF(AND(D414>=F11,D414<=G11),S11,0)","v":0},{"$f":"IF(AND(D414>=F12,D414<=G12),S12,0)","v":0},{"$f":"IF(AND(D414>=F13,D414<=G13),S13,0)","v":0},{"$f":"IF(AND(D414>=F14,D414<=G14),S14,0)","v":0},{"$f":"IF(AND(D414>=F15,D414<=G15),S15,0)","v":0},{"$f":"IF(AND(D414>=F16,D414<=G16),S16,0)","v":0},0,0,0,1]
[null,null,null,"2023-06-04",{"$f":"IF(D415<=G7,S7,0)","v":0},{"$f":"IF(AND(D415>=F8,D415<=G8),S8,0)","v":0},{"$f":"IF(AND(D415>=F9,D415<=G9),S9,0)","v":0},{"$f":"IF(AND(D415>=F10,D415<=G10),S10,0)","v":0},{"$f":"IF(AND(D415>=F11,D415<=G11),S11,0)","v":0},{"$f":"IF(AND(D415>=F12,D415<=G12),S12,0)","v":0},{"$f":"IF(AND(D415>=F13,D415<=G13),S13,0)","v":0},{"$f":"IF(AND(D415>=F14,D415<=G14),S14,0)","v":0},{"$f":"IF(AND(D415>=F15,D415<=G15),S15,0)","v":0},{"$f":"IF(AND(D415>=F16,D415<=G16),S16,0)","v":0},0,0,0,1]

{"sheet":"Sheet3","index":2,"n_rows":9,"n_cols":6,"rows_kept":9,"cut":false,"hidden":true,"merged":[]}
[]
[]
[]
[null,null,"Lists"]
[null,null,"Term",null,null,"Trng"]
[null,null,"Semester",null,null,"Grad "]
[null,null,"Quarter",null,null,"Undergrad"]
[null,null,"Non-Standard Semester",null,null,"NCD"]
[null,null,"Non-Standard Quarter"]

{"sheet":"30","index":3,"n_rows":415,"n_cols":20,"rows_kept":415,"cut":false,"hidden":true,"merged":[]}
[]
[]
[]
[]
[]
[null,null,"Term","Start","End","St Corr","End Corr","#Days","Start B","End B","Cor # Days","Weeks","Term Type",null,"Hours",null,"Hrs St","Hrs Non",null,"RoP"]
[null,null,1,{"$f":"'Non-33 TT'!C10","v":"2022-05-23"},{"$f":"'Non-33 TT'!D10","v":"2022-08-08"},{"$f":"IF(DAY(D7)=31, D7+1,D7)","v":"2022-05-23"},{"$f":"IF(DAY(E7)=31, E7-1,E7)","v":"2022-08-08"},{"$f":"DAYS360(F7-1,G7,)","v":76},{"$f":"'Non-33 TT'!E10","v":"00:00:00"},{"$f":"'Non-33 TT'!F10","v":"00:00:00"},{"$f":"IF(AND(I7>D7,J7<E7,J7-I7>6),H7-(J7-I7),H7)","v":76},{"$f":"ROUND(K7/7,0)","v":11},{"$f":"'Non-33 TT'!G10","v":"Non-Standard Semester"},"Undergrad",{"$f":"'Non-33 TT'!I10","v":6},null,{"$f":"O7","v":6},{"$f":"IF(M7=\"Non-Standard Semester\",O7*18/L7,O7*12/L7)","v":9.8181818181818183},{"$f":"R7","v":9.8181818181818183},{"$f":"IF(OR(M7=\"Semester\",K24=\"Qtr\"),Q7,S7)","v":9.8181818181818183}]
[null,null,2,{"$f":"'Non-33 TT'!C11","v":"2021-06-07"},{"$f":"'Non-33 TT'!D11","v":"2021-08-01"},"2021-06-07","2021-08-01",55,{"$f":"'Non-33 TT'!E11","v":"00:00:00"},{"$f":"'Non-33 TT'!F11","v":"00:00:00"},55,8,{"$f":"'Non-33 TT'!G11","v":"Non-Standard Semester"},"Undergrad",{"$f":"'Non-33 TT'!I11","v":3},null,{"$f":"O8","v":3},{"$f":"IF(M8=\"Non-Standard Semester\",O8*18/L8,O8*12/L8)","v":6.75},{"$f":"R8","v":6.75},{"$f":"IF(OR(M8=\"Semester\",K25=\"Qtr\"),Q8,S8)","v":6.75}]
[null,null,3,{"$f":"'Non-33 TT'!C12","v":"2021-06-28"},{"$f":"'Non-33 TT'!D12","v":"2021-08-08"},"2021-06-28","2021-08-08",41,{"$f":"'Non-33 TT'!E12","v":"00:00:00"},{"$f":"'Non-33 TT'!F12","v":"00:00:00"},41,6,{"$f":"'Non-33 TT'!G12","v":"Non-Standard Semester"},"Undergrad",{"$f":"'Non-33 TT'!I12","v":3},null,3,9,9,9]
[null,null,4,{"$f":"'Non-33 TT'!C13","v":"00:00:00"},{"$f":"'Non-33 TT'!D13","v":"00:00:00"},"00:00:00","00:00:00",{"$error":"#NUM!"},{"$f":"'Non-33 TT'!E13","v":"00:00:00"},{"$f":"'Non-33 TT'!F13","v":"00:00:00"},{"$error":"#NUM!"},{"$error":"#NUM!"},{"$f":"'Non-33 TT'!G13","v":0},"Undergrad",{"$f":"'Non-33 TT'!I13","v":0},null,0,{"$error":"#NUM!"},{"$error":"#NUM!"},{"$error":"#NUM!"}]
[null,null,5,{"$f":"'Non-33 TT'!C14","v":"00:00:00"},{"$f":"'Non-33 TT'!D14","v":"00:00:00"},"00:00:00","00:00:00",{"$error":"#NUM!"},{"$f":"'Non-33 TT'!E14","v":"00:00:00"},{"$f":"'Non-33 TT'!F14","v":"00:00:00"},{"$error":"#NUM!"},{"$error":"#NUM!"},{"$f":"'Non-33 TT'!G14","v":0},"Undergrad",{"$f":"'Non-33 TT'!I14","v":0},null,0,{"$error":"#NUM!"},{"$error":"#NUM!"},{"$error":"#NUM!"}]
[null,null,6,{"$f":"'Non-33 TT'!C15","v":"00:00:00"},{"$f":"'Non-33 TT'!D15","v":"00:00:00"},"00:00:00","00:00:00",{"$error":"#NUM!"},{"$f":"'Non-33 TT'!E15","v":"00:00:00"},{"$f":"'Non-33 TT'!F15","v":"00:00:00"},{"$error":"#NUM!"},{"$error":"#NUM!"},{"$f":"'Non-33 TT'!G15","v":0},"Undergrad",{"$f":"'Non-33 TT'!I15","v":0},null,0,{"$error":"#NUM!"},{"$error":"#NUM!"},{"$error":"#NUM!"}]
[null,null,7,{"$f":"'Non-33 TT'!C16","v":"00:00:00"},{"$f":"'Non-33 TT'!D16","v":"00:00:00"},"00:00:00","00:00:00",{"$error":"#NUM!"},{"$f":"'Non-33 TT'!E16","v":"00:00:00"},{"$f":"'Non-33 TT'!F16","v":"00:00:00"},{"$error":"#NUM!"},{"$error":"#NUM!"},{"$f":"'Non-33 TT'!G16","v":0},"Undergrad",{"$f":"'Non-33 TT'!I16","v":0},null,0,{"$error":"#NUM!"},{"$error":"#NUM!"},{"$error":"#NUM!"}]
[null,null,8,{"$f":"'Non-33 TT'!C17","v":"00:00:00"},{"$f":"'Non-33 TT'!D17","v":"00:00:00"},"00:00:00","00:00:00",{"$error":"#NUM!"},{"$f":"'Non-33 TT'!E17","v":"00:00:00"},{"$f":"'Non-33 TT'!F17","v":"00:00:00"},{"$error":"#NUM!"},{"$error":"#NUM!"},{"$f":"'Non-33 TT'!G17","v":0},"Undergrad",{"$f":"'Non-33 TT'!I17","v":0},null,0,{"$error":"#NUM!"},{"$error":"#NUM!"},{"$error":"#NUM!"}]
[null,null,9,{"$f":"'Non-33 TT'!C18","v":"00:00:00"},{"$f":"'Non-33 TT'!D18","v":"00:00:00"},"00:00:00","00:00:00",{"$error":"#NUM!"},{"$f":"'Non-33 TT'!E18","v":"00:00:00"},{"$f":"'Non-33 TT'!F18","v":"00:00:00"},{"$error":"#NUM!"},{"$error":"#NUM!"},{"$f":"'Non-33 TT'!G18","v":0},"Undergrad",{"$f":"'Non-33 TT'!I18","v":0},null,0,{"$error":"#NUM!"},{"$error":"#NUM!"},{"$error":"#NUM!"}]
[null,null,10,{"$f":"'Non-33 TT'!C19","v":"00:00:00"},{"$f":"'Non-33 TT'!D19","v":"00:00:00"},"00:00:00","00:00:00",{"$error":"#NUM!"},{"$f":"'Non-33 TT'!E19","v":"00:00:00"},{"$f":"'Non-33 TT'!F19","v":"00:00:00"},{"$error":"#NUM!"},{"$error":"#NUM!"},{"$f":"'Non-33 TT'!G19","v":0},"Undergrad",{"$f":"'Non-33 TT'!I19","v":0},null,0,{"$error":"#NUM!"},{"$error":"#NUM!"},{"$error":"#NUM!"}]
[]
[]
[]
[null,null,null,"# of Days","Date of Change",null,"Eq Hours",null,"Last Chg #"]
[null,null,0,0,{"$f":"D50","v":"2022-05-23"},{"$f":"IF(C21<=I21,E21,)","v":"2022-05-23"},{"$f":"O50","v":9},null,{"$f":"LARGE(R50:R415,1)","v":1}]
[null,null,1,{"$f":"COUNTIF(R50:R415,\"=0\")-1","v":75},{"$f":"OFFSET(D50,D22,0)","v":"2022-08-09"},{"$f":"IF(C22<=I21,E22,)","v":"2022-08-09"},{"$f":"OFFSET(O50,D22,0)","v":0}]
[null,null,2,{"$f":"COUNTIF(R50:R415,\"=1\")","v":290},{"$f":"OFFSET(D50,SUM(D22:D23),0)","v":"2023-06-04"},{"$f":"IF(C23<=I21,E23,)","v":"00:00:00"},{"$f":"OFFSET(O50,SUM(D22:D23),0)","v":0}]
[null,null,3,{"$f":"COUNTIF(R50:R415,\"=2\")","v":0},{"$f":"OFFSET(D50,SUM(D22:D24),0)","v":"2023-06-04"},{"$f":"IF(C24<=I21,E24,)","v":"00:00:00"},{"$f":"OFFSET(O50,SUM(D22:D24),0)","v":0}]
[null,null,4,{"$f":"COUNTIF(R50:R415,\"=3\")","v":0},{"$f":"OFFSET(D50,SUM(D22:D25),0)","v":"2023-06-04"},{"$f":"IF(C25<=I21,E25,)","v":"00:00:00"},{"$f":"OFFSET(O50,SUM(D22:D25),0)","v":0}]
[null,null,5,{"$f":"COUNTIF(R50:R415,\"=4\")","v":0},{"$f":"OFFSET(D50,SUM(D22:D26),0)","v":"2023-06-04"},{"$f":"IF(C26<=I21,E26,)","v":"00:00:00"},{"$f":"OFFSET(O50,SUM(D22:D26),0)","v":0}]
[null,null,6,{"$f":"COUNTIF(R50:R415,\"=5\")","v":0},{"$f":"OFFSET(D50,SUM(D22:D27),0)","v":"2023-06-04"},{"$f":"IF(C27<=I21,E27,)","v":"00:00:00"},{"$f":"OFFSET(O50,SUM(D22:D27),0)","v":0}]
[null,null,7,{"$f":"COUNTIF(R50:R415,\"=6\")","v":0},{"$f":"OFFSET(D50,SUM(D22:D28),0)","v":"2023-06-04"},{"$f":"IF(C28<=I21,E28,)","v":"00:00:00"},{"$f":"OFFSET(O50,SUM(D22:D28),0)","v":0}]
[null,null,8,{"$f":"COUNTIF(R50:R415,\"=7\")","v":0},{"$f":"OFFSET(D50,SUM(D22:D29),0)","v":"2023-06-04"},{"$f":"IF(C29<=I21,E29,)","v":"00:00:00"},{"$f":"OFFSET(O50,SUM(D22:D29),0)","v":0}]
[null,null,9,{"$f":"COUNTIF(R50:R415,\"=8\")","v":0},{"$f":"OFFSET(D50,SUM(D22:D30),0)","v":"2023-06-04"},{"$f":"IF(C30<=I21,E30,)","v":"00:00:00"},{"$f":"OFFSET(O50,SUM(D22:D30),0)","v":0}]
[null,null,10,{"$f":"COUNTIF(R50:R415,\"=9\")","v":0},{"$f":"OFFSET(D50,SUM(D22:D31),0)","v":"2023-06-04"},{"$f":"IF(C31<=I21,E31,)","v":"00:00:00"},{"$f":"OFFSET(O50,SUM(D22:D31),0)","v":0}]
[null,null,11,{"$f":"COUNTIF(R50:R415,\"=10\")","v":0},{"$f":"OFFSET(D50,SUM(D22:D32),0)","v":"2023-06-04"},{"$f":"IF(C32<=I21,E32,)","v":"00:00:00"},{"$f":"OFFSET(O50,SUM(D22:D32),0)","v":0}]
[null,null,12,{"$f":"COUNTIF(R50:R415,\"=11\")","v":0},{"$f":"OFFSET(D50,SUM(D22:D33),0)","v":"2023-06-04"},{"$f":"IF(C33<=I21,E33,)","v":"00:00:00"},{"$f":"OFFSET(O50,SUM(D22:D33),0)","v":0}]
[null,null,13,{"$f":"COUNTIF(R50:R415,\"=12\")","v":0},{"$f":"OFFSET(D50,SUM(D22:D34),0)","v":"2023-06-04"},{"$f":"IF(C34<=I21,E34,)","v":"00:00:00"},{"$f":"OFFSET(O50,SUM(D22:D34),0)","v":0}]
[null,null,14,{"$f":"COUNTIF(R50:R415,\"=13\")","v":0},{"$f":"OFFSET(D50,SUM(D22:D35),0)","v":"2023-06-04"},{"$f":"IF(C35<=I21,E35,)","v":"00:00:00"},{"$f":"OFFSET(O50,SUM(D22:D35),0)","v":0}]
[null,null,15,{"$f":"COUNTIF(R50:R415,\"=14\")","v":0},{"$f":"OFFSET(D50,SUM(D22:D36),0)","v":"2023-06-04"},{"$f":"IF(C36<=I21,E36,)","v":"00:00:00"},{"$f":"OFFSET(O50,SUM(D22:D36),0)","v":0}]
[null,null,16,{"$f":"COUNTIF(R50:R415,\"=15\")","v":0},{"$f":"OFFSET(D50,SUM(D22:D37),0)","v":"2023-06-04"},{"$f":"IF(C37<=I21,E37,)","v":"00:00:00"},{"$f":"OFFSET(O50,SUM(D22:D37),0)","v":0}]
[null,null,17,{"$f":"COUNTIF(R50:R415,\"=16\")","v":0},{"$f":"OFFSET(D50,SUM(D22:D38),0)","v":"2023-06-04"},{"$f":"IF(C38<=I21,E38,)","v":"00:00:00"},{"$f":"OFFSET(O50,SUM(D22:D38),0)","v":0}]
[null,null,18,{"$f":"COUNTIF(R50:R415,\"=17\")","v":0},{"$f":"OFFSET(D50,SUM(D22:D39),0)","v":"2023-06-04"},{"$f":"IF(C39<=I21,E39,)","v":"00:00:00"},{"$f":"OFFSET(O50,SUM(D22:D39),0)","v":0}]
[null,null,19,{"$f":"COUNTIF(R50:R415,\"=18\")","v":0},{"$f":"OFFSET(D50,SUM(D22:D40),0)","v":"2023-06-04"},{"$f":"IF(C40<=I21,E40,)","v":"00:00:00"},{"$f":"OFFSET(O50,SUM(D22:D40),0)","v":0}]
[]
[]
[]
[]
[]
[]
[]
[]
[null,null,null,null,1,2,3,4,5,6,7,8,9,10,"SUM","1.00 MAX","CHANGE","Chg #"]
[null,null,null,{"$f":"F7","v":"2022-05-23"},{"$f":"IF(D50<=F7,T7,0)","v":9.8181818181818183},{"$f":"IF(AND(D50>=F8,D50<=G8),T8,0)","v":0},{"$f":"IF(AND(D50>=F9,D50<=G9),T9,0)","v":0},{"$f":"IF(AND(D50>=F10,D50<=G10),T10,0)","v":0},{"$f":"IF(AND(D50>=F11,D50<=G11),T11,0)","v":0},{"$f":"IF(AND(D50>=F12,D50<=G12),T12,0)","v":0},{"$f":"IF(AND(D50>=F13,D50<=G13),T13,0)","v":0},{"$f":"IF(AND(D50>=F14,D50<=G14),T14,0)","v":0},{"$f":"IF(AND(D50>=F15,D50<=G15),T15,0)","v":0},{"$f":"IF(AND(D50>=F16,D50<=G16),T16,0)","v":0},{"$f":"IF(AND(SUM(E50:N50)>0,SUM(E50:N50)<1),1,TRUNC(SUM(E50:N50),0))","v":9},{"$f":"IF(O50>=1,1,O50)","v":1},0,0]
[null,null,null,{"$f":"IF(DAY(D50)+1=31, D50+2, D50+1)","v":"2022-05-24"},{"$f":"IF(D51<=G7,T7,0)","v":9.8181818181818183},{"$f":"IF(AND(D51>=F8,D51<=G8),T8,0)","v":0},{"$f":"IF(AND(D51>=F9,D51<=G9),T9,0)","v":0},{"$f":"IF(AND(D51>=F10,D51<=G10),T10,0)","v":0},{"$f":"IF(AND(D51>=F11,D51<=G11),T11,0)","v":0},{"$f":"IF(AND(D51>=F12,D51<=G12),T12,0)","v":0},{"$f":"IF(AND(D51>=F13,D51<=G13),T13,0)","v":0},{"$f":"IF(AND(D51>=F14,D51<=G14),T14,0)","v":0},{"$f":"IF(AND(D51>=F15,D51<=G15),T15,0)","v":0},{"$f":"IF(AND(D51>=F16,D51<=G16),T16,0)","v":0},{"$f":"IF(AND(SUM(E51:N51)>0,SUM(E51:N51)<1),1,TRUNC(SUM(E51:N51),0))","v":9},1,{"$f":"IF(O50=O51,0,1)","v":0},{"$f":"SUM(Q50,R50)","v":0}]
[null,null,null,"2022-05-25",{"$f":"IF(D52<=G7,T7,0)","v":9.8181818181818183},{"$f":"IF(AND(D52>=F8,D52<=G8),T8,0)","v":0},{"$f":"IF(AND(D52>=F9,D52<=G9),T9,0)","v":0},{"$f":"IF(AND(D52>=F10,D52<=G10),T10,0)","v":0},{"$f":"IF(AND(D52>=F11,D52<=G11),T11,0)","v":0},{"$f":"IF(AND(D52>=F12,D52<=G12),T12,0)","v":0},{"$f":"IF(AND(D52>=F13,D52<=G13),T13,0)","v":0},{"$f":"IF(AND(D52>=F14,D52<=G14),T14,0)","v":0},{"$f":"IF(AND(D52>=F15,D52<=G15),T15,0)","v":0},{"$f":"IF(AND(D52>=F16,D52<=G16),T16,0)","v":0},{"$f":"IF(AND(SUM(E52:N52)>0,SUM(E52:N52)<1),1,TRUNC(SUM(E52:N52),0))","v":9},1,{"$f":"IF(O51=O52,0,1)","v":0},0]
[null,null,null,"2022-05-26",{"$f":"IF(D53<=G7,T7,0)","v":9.8181818181818183},{"$f":"IF(AND(D53>=F8,D53<=G8),T8,0)","v":0},{"$f":"IF(AND(D53>=F9,D53<=G9),T9,0)","v":0},{"$f":"IF(AND(D53>=F10,D53<=G10),T10,0)","v":0},{"$f":"IF(AND(D53>=F11,D53<=G11),T11,0)","v":0},{"$f":"IF(AND(D53>=F12,D53<=G12),T12,0)","v":0},{"$f":"IF(AND(D53>=F13,D53<=G13),T13,0)","v":0},{"$f":"IF(AND(D53>=F14,D53<=G14),T14,0)","v":0},{"$f":"IF(AND(D53>=F15,D53<=G15),T15,0)","v":0},{"$f":"IF(AND(D53>=F16,D53<=G16),T16,0)","v":0},9,1,{"$f":"IF(O52=O53,0,1)","v":0},0]
[null,null,null,"2022-05-27",{"$f":"IF(D54<=G7,T7,0)","v":9.8181818181818183},{"$f":"IF(AND(D54>=F8,D54<=G8),T8,0)","v":0},{"$f":"IF(AND(D54>=F9,D54<=G9),T9,0)","v":0},{"$f":"IF(AND(D54>=F10,D54<=G10),T10,0)","v":0},{"$f":"IF(AND(D54>=F11,D54<=G11),T11,0)","v":0},{"$f":"IF(AND(D54>=F12,D54<=G12),T12,0)","v":0},{"$f":"IF(AND(D54>=F13,D54<=G13),T13,0)","v":0},{"$f":"IF(AND(D54>=F14,D54<=G14),T14,0)","v":0},{"$f":"IF(AND(D54>=F15,D54<=G15),T15,0)","v":0},{"$f":"IF(AND(D54>=F16,D54<=G16),T16,0)","v":0},9,1,0,0]
[null,null,null,"2022-05-28",{"$f":"IF(D55<=G7,T7,0)","v":9.8181818181818183},{"$f":"IF(AND(D55>=F8,D55<=G8),T8,0)","v":0},{"$f":"IF(AND(D55>=F9,D55<=G9),T9,0)","v":0},{"$f":"IF(AND(D55>=F10,D55<=G10),T10,0)","v":0},{"$f":"IF(AND(D55>=F11,D55<=G11),T11,0)","v":0},{"$f":"IF(AND(D55>=F12,D55<=G12),T12,0)","v":0},{"$f":"IF(AND(D55>=F13,D55<=G13),T13,0)","v":0},{"$f":"IF(AND(D55>=F14,D55<=G14),T14,0)","v":0},{"$f":"IF(AND(D55>=F15,D55<=G15),T15,0)","v":0},{"$f":"IF(AND(D55>=F16,D55<=G16),T16,0)","v":0},9,1,0,0]
[null,null,null,"2022-05-29",{"$f":"IF(D56<=G7,T7,0)","v":9.8181818181818183},{"$f":"IF(AND(D56>=F8,D56<=G8),T8,0)","v":0},{"$f":"IF(AND(D56>=F9,D56<=G9),T9,0)","v":0},{"$f":"IF(AND(D56>=F10,D56<=G10),T10,0)","v":0},{"$f":"IF(AND(D56>=F11,D56<=G11),T11,0)","v":0},{"$f":"IF(AND(D56>=F12,D56<=G12),T12,0)","v":0},{"$f":"IF(AND(D56>=F13,D56<=G13),T13,0)","v":0},{"$f":"IF(AND(D56>=F14,D56<=G14),T14,0)","v":0},{"$f":"IF(AND(D56>=F15,D56<=G15),T15,0)","v":0},{"$f":"IF(AND(D56>=F16,D56<=G16),T16,0)","v":0},9,1,0,0]
[null,null,null,"2022-05-30",{"$f":"IF(D57<=G7,T7,0)","v":9.8181818181818183},{"$f":"IF(AND(D57>=F8,D57<=G8),T8,0)","v":0},{"$f":"IF(AND(D57>=F9,D57<=G9),T9,0)","v":0},{"$f":"IF(AND(D57>=F10,D57<=G10),T10,0)","v":0},{"$f":"IF(AND(D57>=F11,D57<=G11),T11,0)","v":0},{"$f":"IF(AND(D57>=F12,D57<=G12),T12,0)","v":0},{"$f":"IF(AND(D57>=F13,D57<=G13),T13,0)","v":0},{"$f":"IF(AND(D57>=F14,D57<=G14),T14,0)","v":0},{"$f":"IF(AND(D57>=F15,D57<=G15),T15,0)","v":0},{"$f":"IF(AND(D57>=F16,D57<=G16),T16,0)","v":0},9,1,0,0]
[null,null,null,"2022-06-01",{"$f":"IF(D58<=G7,T7,0)","v":9.8181818181818183},{"$f":"IF(AND(D58>=F8,D58<=G8),T8,0)","v":0},{"$f":"IF(AND(D58>=F9,D58<=G9),T9,0)","v":0},{"$f":"IF(AND(D58>=F10,D58<=G10),T10,0)","v":0},{"$f":"IF(AND(D58>=F11,D58<=G11),T11,0)","v":0},{"$f":"IF(AND(D58>=F12,D58<=G12),T12,0)","v":0},{"$f":"IF(AND(D58>=F13,D58<=G13),T13,0)","v":0},{"$f":"IF(AND(D58>=F14,D58<=G14),T14,0)","v":0},{"$f":"IF(AND(D58>=F15,D58<=G15),T15,0)","v":0},{"$f":"IF(AND(D58>=F16,D58<=G16),T16,0)","v":0},9,1,0,0]
[null,null,null,"2022-06-02",{"$f":"IF(D59<=G7,T7,0)","v":9.8181818181818183},{"$f":"IF(AND(D59>=F8,D59<=G8),T8,0)","v":0},{"$f":"IF(AND(D59>=F9,D59<=G9),T9,0)","v":0},{"$f":"IF(AND(D59>=F10,D59<=G10),T10,0)","v":0},{"$f":"IF(AND(D59>=F11,D59<=G11),T11,0)","v":0},{"$f":"IF(AND(D59>=F12,D59<=G12),T12,0)","v":0},{"$f":"IF(AND(D59>=F13,D59<=G13),T13,0)","v":0},{"$f":"IF(AND(D59>=F14,D59<=G14),T14,0)","v":0},{"$f":"IF(AND(D59>=F15,D59<=G15),T15,0)","v":0},{"$f":"IF(AND(D59>=F16,D59<=G16),T16,0)","v":0},9,1,0,0]
[null,null,null,"2022-06-03",{"$f":"IF(D60<=G7,T7,0)","v":9.8181818181818183},{"$f":"IF(AND(D60>=F8,D60<=G8),T8,0)","v":0},{"$f":"IF(AND(D60>=F9,D60<=G9),T9,0)","v":0},{"$f":"IF(AND(D60>=F10,D60<=G10),T10,0)","v":0},{"$f":"IF(AND(D60>=F11,D60<=G11),T11,0)","v":0},{"$f":"IF(AND(D60>=F12,D60<=G12),T12,0)","v":0},{"$f":"IF(AND(D60>=F13,D60<=G13),T13,0)","v":0},{"$f":"IF(AND(D60>=F14,D60<=G14),T14,0)","v":0},{"$f":"IF(AND(D60>=F15,D60<=G15),T15,0)","v":0},{"$f":"IF(AND(D60>=F16,D60<=G16),T16,0)","v":0},9,1,0,0]
[null,null,null,"2022-06-04",{"$f":"IF(D61<=G7,T7,0)","v":9.8181818181818183},{"$f":"IF(AND(D61>=F8,D61<=G8),T8,0)","v":0},{"$f":"IF(AND(D61>=F9,D61<=G9),T9,0)","v":0},{"$f":"IF(AND(D61>=F10,D61<=G10),T10,0)","v":0},{"$f":"IF(AND(D61>=F11,D61<=G11),T11,0)","v":0},{"$f":"IF(AND(D61>=F12,D61<=G12),T12,0)","v":0},{"$f":"IF(AND(D61>=F13,D61<=G13),T13,0)","v":0},{"$f":"IF(AND(D61>=F14,D61<=G14),T14,0)","v":0},{"$f":"IF(AND(D61>=F15,D61<=G15),T15,0)","v":0},{"$f":"IF(AND(D61>=F16,D61<=G16),T16,0)","v":0},9,1,0,0]
[null,null,null,"2022-06-05",{"$f":"IF(D62<=G7,T7,0)","v":9.8181818181818183},{"$f":"IF(AND(D62>=F8,D62<=G8),T8,0)","v":0},{"$f":"IF(AND(D62>=F9,D62<=G9),T9,0)","v":0},{"$f":"IF(AND(D62>=F10,D62<=G10),T10,0)","v":0},{"$f":"IF(AND(D62>=F11,D62<=G11),T11,0)","v":0},{"$f":"IF(AND(D62>=F12,D62<=G12),T12,0)","v":0},{"$f":"IF(AND(D62>=F13,D62<=G13),T13,0)","v":0},{"$f":"IF(AND(D62>=F14,D62<=G14),T14,0)","v":0},{"$f":"IF(AND(D62>=F15,D62<=G15),T15,0)","v":0},{"$f":"IF(AND(D62>=F16,D62<=G16),T16,0)","v":0},9,1,0,0]
[null,null,null,"2022-06-06",{"$f":"IF(D63<=G7,T7,0)","v":9.8181818181818183},{"$f":"IF(AND(D63>=F8,D63<=G8),T8,0)","v":0},{"$f":"IF(AND(D63>=F9,D63<=G9),T9,0)","v":0},{"$f":"IF(AND(D63>=F10,D63<=G10),T10,0)","v":0},{"$f":"IF(AND(D63>=F11,D63<=G11),T11,0)","v":0},{"$f":"IF(AND(D63>=F12,D63<=G12),T12,0)","v":0},{"$f":"IF(AND(D63>=F13,D63<=G13),T13,0)","v":0},{"$f":"IF(AND(D63>=F14,D63<=G14),T14,0)","v":0},{"$f":"IF(AND(D63>=F15,D63<=G15),T15,0)","v":0},{"$f":"IF(AND(D63>=F16,D63<=G16),T16,0)","v":0},9,1,0,0]
[null,null,null,"2022-06-07",{"$f":"IF(D64<=G7,T7,0)","v":9.8181818181818183},{"$f":"IF(AND(D64>=F8,D64<=G8),T8,0)","v":0},{"$f":"IF(AND(D64>=F9,D64<=G9),T9,0)","v":0},{"$f":"IF(AND(D64>=F10,D64<=G10),T10,0)","v":0},{"$f":"IF(AND(D64>=F11,D64<=G11),T11,0)","v":0},{"$f":"IF(AND(D64>=F12,D64<=G12),T12,0)","v":0},{"$f":"IF(AND(D64>=F13,D64<=G13),T13,0)","v":0},{"$f":"IF(AND(D64>=F14,D64<=G14),T14,0)","v":0},{"$f":"IF(AND(D64>=F15,D64<=G15),T15,0)","v":0},{"$f":"IF(AND(D64>=F16,D64<=G16),T16,0)","v":0},9,1,0,0]
[null,null,null,"2022-06-08",{"$f":"IF(D65<=G7,T7,0)","v":9.8181818181818183},{"$f":"IF(AND(D65>=F8,D65<=G8),T8,0)","v":0},{"$f":"IF(AND(D65>=F9,D65<=G9),T9,0)","v":0},{"$f":"IF(AND(D65>=F10,D65<=G10),T10,0)","v":0},{"$f":"IF(AND(D65>=F11,D65<=G11),T11,0)","v":0},{"$f":"IF(AND(D65>=F12,D65<=G12),T12,0)","v":0},{"$f":"IF(AND(D65>=F13,D65<=G13),T13,0)","v":0},{"$f":"IF(AND(D65>=F14,D65<=G14),T14,0)","v":0},{"$f":"IF(AND(D65>=F15,D65<=G15),T15,0)","v":0},{"$f":"IF(AND(D65>=F16,D65<=G16),T16,0)","v":0},9,1,0,0]
[null,null,null,"2022-06-09",{"$f":"IF(D66<=G7,T7,0)","v":9.8181818181818183},{"$f":"IF(AND(D66>=F8,D66<=G8),T8,0)","v":0},{"$f":"IF(AND(D66>=F9,D66<=G9),T9,0)","v":0},{"$f":"IF(AND(D66>=F10,D66<=G10),T10,0)","v":0},{"$f":"IF(AND(D66>=F11,D66<=G11),T11,0)","v":0},{"$f":"IF(AND(D66>=F12,D66<=G12),T12,0)","v":0},{"$f":"IF(AND(D66>=F13,D66<=G13),T13,0)","v":0},{"$f":"IF(AND(D66>=F14,D66<=G14),T14,0)","v":0},{"$f":"IF(AND(D66>=F15,D66<=G15),T15,0)","v":0},{"$f":"IF(AND(D66>=F16,D66<=G16),T16,0)","v":0},9,1,0,0]
[null,null,null,"2022-06-10",{"$f":"IF(D67<=G7,T7,0)","v":9.8181818181818183},{"$f":"IF(AND(D67>=F8,D67<=G8),T8,0)","v":0},{"$f":"IF(AND(D67>=F9,D67<=G9),T9,0)","v":0},{"$f":"IF(AND(D67>=F10,D67<=G10),T10,0)","v":0},{"$f":"IF(AND(D67>=F11,D67<=G11),T11,0)","v":0},{"$f":"IF(AND(D67>=F12,D67<=G12),T12,0)","v":0},{"$f":"IF(AND(D67>=F13,D67<=G13),T13,0)","v":0},{"$f":"IF(AND(D67>=F14,D67<=G14),T14,0)","v":0},{"$f":"IF(AND(D67>=F15,D67<=G15),T15,0)","v":0},{"$f":"IF(AND(D67>=F16,D67<=G16),T16,0)","v":0},9,1,0,0]
[null,null,null,"2022-06-11",{"$f":"IF(D68<=G7,T7,0)","v":9.8181818181818183},{"$f":"IF(AND(D68>=F8,D68<=G8),T8,0)","v":0},{"$f":"IF(AND(D68>=F9,D68<=G9),T9,0)","v":0},{"$f":"IF(AND(D68>=F10,D68<=G10),T10,0)","v":0},{"$f":"IF(AND(D68>=F11,D68<=G11),T11,0)","v":0},{"$f":"IF(AND(D68>=F12,D68<=G12),T12,0)","v":0},{"$f":"IF(AND(D68>=F13,D68<=G13),T13,0)","v":0},{"$f":"IF(AND(D68>=F14,D68<=G14),T14,0)","v":0},{"$f":"IF(AND(D68>=F15,D68<=G15),T15,0)","v":0},{"$f":"IF(AND(D68>=F16,D68<=G16),T16,0)","v":0},9,1,0,0]
[null,null,null,"2022-06-12",{"$f":"IF(D69<=G7,T7,0)","v":9.8181818181818183},{"$f":"IF(AND(D69>=F8,D69<=G8),T8,0)","v":0},{"$f":"IF(AND(D69>=F9,D69<=G9),T9,0)","v":0},{"$f":"IF(AND(D69>=F10,D69<=G10),T10,0)","v":0},{"$f":"IF(AND(D69>=F11,D69<=G11),T11,0)","v":0},{"$f":"IF(AND(D69>=F12,D69<=G12),T12,0)","v":0},{"$f":"IF(AND(D69>=F13,D69<=G13),T13,0)","v":0},{"$f":"IF(AND(D69>=F14,D69<=G14),T14,0)","v":0},{"$f":"IF(AND(D69>=F15,D69<=G15),T15,0)","v":0},{"$f":"IF(AND(D69>=F16,D69<=G16),T16,0)","v":0},9,1,0,0]
[null,null,null,"2022-06-13",{"$f":"IF(D70<=G7,T7,0)","v":9.8181818181818183},{"$f":"IF(AND(D70>=F8,D70<=G8),T8,0)","v":0},{"$f":"IF(AND(D70>=F9,D70<=G9),T9,0)","v":0},{"$f":"IF(AND(D70>=F10,D70<=G10),T10,0)","v":0},{"$f":"IF(AND(D70>=F11,D70<=G11),T11,0)","v":0},{"$f":"IF(AND(D70>=F12,D70<=G12),T12,0)","v":0},{"$f":"IF(AND(D70>=F13,D70<=G13),T13,0)","v":0},{"$f":"IF(AND(D70>=F14,D70<=G14),T14,0)","v":0},{"$f":"IF(AND(D70>=F15,D70<=G15),T15,0)","v":0},{"$f":"IF(AND(D70>=F16,D70<=G16),T16,0)","v":0},9,1,0,0]
[null,null,null,"2022-06-14",{"$f":"IF(D71<=G7,T7,0)","v":9.8181818181818183},{"$f":"IF(AND(D71>=F8,D71<=G8),T8,0)","v":0},{"$f":"IF(AND(D71>=F9,D71<=G9),T9,0)","v":0},{"$f":"IF(AND(D71>=F10,D71<=G10),T10,0)","v":0},{"$f":"IF(AND(D71>=F11,D71<=G11),T11,0)","v":0},{"$f":"IF(AND(D71>=F12,D71<=G12),T12,0)","v":0},{"$f":"IF(AND(D71>=F13,D71<=G13),T13,0)","v":0},{"$f":"IF(AND(D71>=F14,D71<=G14),T14,0)","v":0},{"$f":"IF(AND(D71>=F15,D71<=G15),T15,0)","v":0},{"$f":"IF(AND(D71>=F16,D71<=G16),T16,0)","v":0},9,1,0,0]
[null,null,null,"2022-06-15",{"$f":"IF(D72<=G7,T7,0)","v":9.8181818181818183},{"$f":"IF(AND(D72>=F8,D72<=G8),T8,0)","v":0},{"$f":"IF(AND(D72>=F9,D72<=G9),T9,0)","v":0},{"$f":"IF(AND(D72>=F10,D72<=G10),T10,0)","v":0},{"$f":"IF(AND(D72>=F11,D72<=G11),T11,0)","v":0},{"$f":"IF(AND(D72>=F12,D72<=G12),T12,0)","v":0},{"$f":"IF(AND(D72>=F13,D72<=G13),T13,0)","v":0},{"$f":"IF(AND(D72>=F14,D72<=G14),T14,0)","v":0},{"$f":"IF(AND(D72>=F15,D72<=G15),T15,0)","v":0},{"$f":"IF(AND(D72>=F16,D72<=G16),T16,0)","v":0},9,1,0,0]
[null,null,null,"2022-06-16",{"$f":"IF(D73<=G7,T7,0)","v":9.8181818181818183},{"$f":"IF(AND(D73>=F8,D73<=G8),T8,0)","v":0},{"$f":"IF(AND(D73>=F9,D73<=G9),T9,0)","v":0},{"$f":"IF(AND(D73>=F10,D73<=G10),T10,0)","v":0},{"$f":"IF(AND(D73>=F11,D73<=G11),T11,0)","v":0},{"$f":"IF(AND(D73>=F12,D73<=G12),T12,0)","v":0},{"$f":"IF(AND(D73>=F13,D73<=G13),T13,0)","v":0},{"$f":"IF(AND(D73>=F14,D73<=G14),T14,0)","v":0},{"$f":"IF(AND(D73>=F15,D73<=G15),T15,0)","v":0},{"$f":"IF(AND(D73>=F16,D73<=G16),T16,0)","v":0},9,1,0,0]
[null,null,null,"2022-06-17",{"$f":"IF(D74<=G7,T7,0)","v":9.8181818181818183},{"$f":"IF(AND(D74>=F8,D74<=G8),T8,0)","v":0},{"$f":"IF(AND(D74>=F9,D74<=G9),T9,0)","v":0},{"$f":"IF(AND(D74>=F10,D74<=G10),T10,0)","v":0},{"$f":"IF(AND(D74>=F11,D74<=G11),T11,0)","v":0},{"$f":"IF(AND(D74>=F12,D74<=G12),T12,0)","v":0},{"$f":"IF(AND(D74>=F13,D74<=G13),T13,0)","v":0},{"$f":"IF(AND(D74>=F14,D74<=G14),T14,0)","v":0},{"$f":"IF(AND(D74>=F15,D74<=G15),T15,0)","v":0},{"$f":"IF(AND(D74>=F16,D74<=G16),T16,0)","v":0},9,1,0,0]
[null,null,null,"2022-06-18",{"$f":"IF(D75<=G7,T7,0)","v":9.8181818181818183},{"$f":"IF(AND(D75>=F8,D75<=G8),T8,0)","v":0},{"$f":"IF(AND(D75>=F9,D75<=G9),T9,0)","v":0},{"$f":"IF(AND(D75>=F10,D75<=G10),T10,0)","v":0},{"$f":"IF(AND(D75>=F11,D75<=G11),T11,0)","v":0},{"$f":"IF(AND(D75>=F12,D75<=G12),T12,0)","v":0},{"$f":"IF(AND(D75>=F13,D75<=G13),T13,0)","v":0},{"$f":"IF(AND(D75>=F14,D75<=G14),T14,0)","v":0},{"$f":"IF(AND(D75>=F15,D75<=G15),T15,0)","v":0},{"$f":"IF(AND(D75>=F16,D75<=G16),T16,0)","v":0},9,1,0,0]
[null,null,null,"2022-06-19",{"$f":"IF(D76<=G7,T7,0)","v":9.8181818181818183},{"$f":"IF(AND(D76>=F8,D76<=G8),T8,0)","v":0},{"$f":"IF(AND(D76>=F9,D76<=G9),T9,0)","v":0},{"$f":"IF(AND(D76>=F10,D76<=G10),T10,0)","v":0},{"$f":"IF(AND(D76>=F11,D76<=G11),T11,0)","v":0},{"$f":"IF(AND(D76>=F12,D76<=G12),T12,0)","v":0},{"$f":"IF(AND(D76>=F13,D76<=G13),T13,0)","v":0},{"$f":"IF(AND(D76>=F14,D76<=G14),T14,0)","v":0},{"$f":"IF(AND(D76>=F15,D76<=G15),T15,0)","v":0},{"$f":"IF(AND(D76>=F16,D76<=G16),T16,0)","v":0},9,1,0,0]
[null,null,null,"2022-06-20",{"$f":"IF(D77<=G7,T7,0)","v":9.8181818181818183},{"$f":"IF(AND(D77>=F8,D77<=G8),T8,0)","v":0},{"$f":"IF(AND(D77>=F9,D77<=G9),T9,0)","v":0},{"$f":"IF(AND(D77>=F10,D77<=G10),T10,0)","v":0},{"$f":"IF(AND(D77>=F11,D77<=G11),T11,0)","v":0},{"$f":"IF(AND(D77>=F12,D77<=G12),T12,0)","v":0},{"$f":"IF(AND(D77>=F13,D77<=G13),T13,0)","v":0},{"$f":"IF(AND(D77>=F14,D77<=G14),T14,0)","v":0},{"$f":"IF(AND(D77>=F15,D77<=G15),T15,0)","v":0},{"$f":"IF(AND(D77>=F16,D77<=G16),T16,0)","v":0},9,1,0,0]
[null,null,null,"2022-06-21",{"$f":"IF(D78<=G7,T7,0)","v":9.8181818181818183},{"$f":"IF(AND(D78>=F8,D78<=G8),T8,0)","v":0},{"$f":"IF(AND(D78>=F9,D78<=G9),T9,0)","v":0},{"$f":"IF(AND(D78>=F10,D78<=G10),T10,0)","v":0},{"$f":"IF(AND(D78>=F11,D78<=G11),T11,0)","v":0},{"$f":"IF(AND(D78>=F12,D78<=G12),T12,0)","v":0},{"$f":"IF(AND(D78>=F13,D78<=G13),T13,0)","v":0},{"$f":"IF(AND(D78>=F14,D78<=G14),T14,0)","v":0},{"$f":"IF(AND(D78>=F15,D78<=G15),T15,0)","v":0},{"$f":"IF(AND(D78>=F16,D78<=G16),T16,0)","v":0},9,1,0,0]
[null,null,null,"2022-06-22",{"$f":"IF(D79<=G7,T7,0)","v":9.8181818181818183},{"$f":"IF(AND(D79>=F8,D79<=G8),T8,0)","v":0},{"$f":"IF(AND(D79>=F9,D79<=G9),T9,0)","v":0},{"$f":"IF(AND(D79>=F10,D79<=G10),T10,0)","v":0},{"$f":"IF(AND(D79>=F11,D79<=G11),T11,0)","v":0},{"$f":"IF(AND(D79>=F12,D79<=G12),T12,0)","v":0},{"$f":"IF(AND(D79>=F13,D79<=G13),T13,0)","v":0},{"$f":"IF(AND(D79>=F14,D79<=G14),T14,0)","v":0},{"$f":"IF(AND(D79>=F15,D79<=G15),T15,0)","v":0},{"$f":"IF(AND(D79>=F16,D79<=G16),T16,0)","v":0},9,1,0,0]
[null,null,null,"2022-06-23",{"$f":"IF(D80<=G7,T7,0)","v":9.8181818181818183},{"$f":"IF(AND(D80>=F8,D80<=G8),T8,0)","v":0},{"$f":"IF(AND(D80>=F9,D80<=G9),T9,0)","v":0},{"$f":"IF(AND(D80>=F10,D80<=G10),T10,0)","v":0},{"$f":"IF(AND(D80>=F11,D80<=G11),T11,0)","v":0},{"$f":"IF(AND(D80>=F12,D80<=G12),T12,0)","v":0},{"$f":"IF(AND(D80>=F13,D80<=G13),T13,0)","v":0},{"$f":"IF(AND(D80>=F14,D80<=G14),T14,0)","v":0},{"$f":"IF(AND(D80>=F15,D80<=G15),T15,0)","v":0},{"$f":"IF(AND(D80>=F16,D80<=G16),T16,0)","v":0},9,1,0,0]
[null,null,null,"2022-06-24",{"$f":"IF(D81<=G7,T7,0)","v":9.8181818181818183},{"$f":"IF(AND(D81>=F8,D81<=G8),T8,0)","v":0},{"$f":"IF(AND(D81>=F9,D81<=G9),T9,0)","v":0},{"$f":"IF(AND(D81>=F10,D81<=G10),T10,0)","v":0},{"$f":"IF(AND(D81>=F11,D81<=G11),T11,0)","v":0},{"$f":"IF(AND(D81>=F12,D81<=G12),T12,0)","v":0},{"$f":"IF(AND(D81>=F13,D81<=G13),T13,0)","v":0},{"$f":"IF(AND(D81>=F14,D81<=G14),T14,0)","v":0},{"$f":"IF(AND(D81>=F15,D81<=G15),T15,0)","v":0},{"$f":"IF(AND(D81>=F16,D81<=G16),T16,0)","v":0},9,1,0,0]
[null,null,null,"2022-06-25",{"$f":"IF(D82<=G7,T7,0)","v":9.8181818181818183},{"$f":"IF(AND(D82>=F8,D82<=G8),T8,0)","v":0},{"$f":"IF(AND(D82>=F9,D82<=G9),T9,0)","v":0},{"$f":"IF(AND(D82>=F10,D82<=G10),T10,0)","v":0},{"$f":"IF(AND(D82>=F11,D82<=G11),T11,0)","v":0},{"$f":"IF(AND(D82>=F12,D82<=G12),T12,0)","v":0},{"$f":"IF(AND(D82>=F13,D82<=G13),T13,0)","v":0},{"$f":"IF(AND(D82>=F14,D82<=G14),T14,0)","v":0},{"$f":"IF(AND(D82>=F15,D82<=G15),T15,0)","v":0},{"$f":"IF(AND(D82>=F16,D82<=G16),T16,0)","v":0},9,1,0,0]
[null,null,null,"2022-06-26",{"$f":"IF(D83<=G7,T7,0)","v":9.8181818181818183},{"$f":"IF(AND(D83>=F8,D83<=G8),T8,0)","v":0},{"$f":"IF(AND(D83>=F9,D83<=G9),T9,0)","v":0},{"$f":"IF(AND(D83>=F10,D83<=G10),T10,0)","v":0},{"$f":"IF(AND(D83>=F11,D83<=G11),T11,0)","v":0},{"$f":"IF(AND(D83>=F12,D83<=G12),T12,0)","v":0},{"$f":"IF(AND(D83>=F13,D83<=G13),T13,0)","v":0},{"$f":"IF(AND(D83>=F14,D83<=G14),T14,0)","v":0},{"$f":"IF(AND(D83>=F15,D83<=G15),T15,0)","v":0},{"$f":"IF(AND(D83>=F16,D83<=G16),T16,0)","v":0},9,1,0,0]
[null,null,null,"2022-06-27",{"$f":"IF(D84<=G7,T7,0)","v":9.8181818181818183},{"$f":"IF(AND(D84>=F8,D84<=G8),T8,0)","v":0},{"$f":"IF(AND(D84>=F9,D84<=G9),T9,0)","v":0},{"$f":"IF(AND(D84>=F10,D84<=G10),T10,0)","v":0},{"$f":"IF(AND(D84>=F11,D84<=G11),T11,0)","v":0},{"$f":"IF(AND(D84>=F12,D84<=G12),T12,0)","v":0},{"$f":"IF(AND(D84>=F13,D84<=G13),T13,0)","v":0},{"$f":"IF(AND(D84>=F14,D84<=G14),T14,0)","v":0},{"$f":"IF(AND(D84>=F15,D84<=G15),T15,0)","v":0},{"$f":"IF(AND(D84>=F16,D84<=G16),T16,0)","v":0},9,1,0,0]
[null,null,null,"2022-06-28",{"$f":"IF(D85<=G7,T7,0)","v":9.8181818181818183},{"$f":"IF(AND(D85>=F8,D85<=G8),T8,0)","v":0},{"$f":"IF(AND(D85>=F9,D85<=G9),T9,0)","v":0},{"$f":"IF(AND(D85>=F10,D85<=G10),T10,0)","v":0},{"$f":"IF(AND(D85>=F11,D85<=G11),T11,0)","v":0},{"$f":"IF(AND(D85>=F12,D85<=G12),T12,0)","v":0},{"$f":"IF(AND(D85>=F13,D85<=G13),T13,0)","v":0},{"$f":"IF(AND(D85>=F14,D85<=G14),T14,0)","v":0},{"$f":"IF(AND(D85>=F15,D85<=G15),T15,0)","v":0},{"$f":"IF(AND(D85>=F16,D85<=G16),T16,0)","v":0},9,1,0,0]
[null,null,null,"2022-06-29",{"$f":"IF(D86<=G7,T7,0)","v":9.8181818181818183},{"$f":"IF(AND(D86>=F8,D86<=G8),T8,0)","v":0},{"$f":"IF(AND(D86>=F9,D86<=G9),T9,0)","v":0},{"$f":"IF(AND(D86>=F10,D86<=G10),T10,0)","v":0},{"$f":"IF(AND(D86>=F11,D86<=G11),T11,0)","v":0},{"$f":"IF(AND(D86>=F12,D86<=G12),T12,0)","v":0},{"$f":"IF(AND(D86>=F13,D86<=G13),T13,0)","v":0},{"$f":"IF(AND(D86>=F14,D86<=G14),T14,0)","v":0},{"$f":"IF(AND(D86>=F15,D86<=G15),T15,0)","v":0},{"$f":"IF(AND(D86>=F16,D86<=G16),T16,0)","v":0},9,1,0,0]
[null,null,null,"2022-06-30",{"$f":"IF(D87<=G7,T7,0)","v":9.8181818181818183},{"$f":"IF(AND(D87>=F8,D87<=G8),T8,0)","v":0},{"$f":"IF(AND(D87>=F9,D87<=G9),T9,0)","v":0},{"$f":"IF(AND(D87>=F10,D87<=G10),T10,0)","v":0},{"$f":"IF(AND(D87>=F11,D87<=G11),T11,0)","v":0},{"$f":"IF(AND(D87>=F12,D87<=G12),T12,0)","v":0},{"$f":"IF(AND(D87>=F13,D87<=G13),T13,0)","v":0},{"$f":"IF(AND(D87>=F14,D87<=G14),T14,0)","v":0},{"$f":"IF(AND(D87>=F15,D87<=G15),T15,0)","v":0},{"$f":"IF(AND(D87>=F16,D87<=G16),T16,0)","v":0},9,1,0,0]
[null,null,null,"2022-07-02",{"$f":"IF(D88<=G7,T7,0)","v":9.8181818181818183},{"$f":"IF(AND(D88>=F8,D88<=G8),T8,0)","v":0},{"$f":"IF(AND(D88>=F9,D88<=G9),T9,0)","v":0},{"$f":"IF(AND(D88>=F10,D88<=G10),T10,0)","v":0},{"$f":"IF(AND(D88>=F11,D88<=G11),T11,0)","v":0},{"$f":"IF(AND(D88>=F12,D88<=G12),T12,0)","v":0},{"$f":"IF(AND(D88>=F13,D88<=G13),T13,0)","v":0},{"$f":"IF(AND(D88>=F14,D88<=G14),T14,0)","v":0},{"$f":"IF(AND(D88>=F15,D88<=G15),T15,0)","v":0},{"$f":"IF(AND(D88>=F16,D88<=G16),T16,0)","v":0},9,1,0,0]
[null,null,null,"2022-07-03",{"$f":"IF(D89<=G7,T7,0)","v":9.8181818181818183},{"$f":"IF(AND(D89>=F8,D89<=G8),T8,0)","v":0},{"$f":"IF(AND(D89>=F9,D89<=G9),T9,0)","v":0},{"$f":"IF(AND(D89>=F10,D89<=G10),T10,0)","v":0},{"$f":"IF(AND(D89>=F11,D89<=G11),T11,0)","v":0},{"$f":"IF(AND(D89>=F12,D89<=G12),T12,0)","v":0},{"$f":"IF(AND(D89>=F13,D89<=G13),T13,0)","v":0},{"$f":"IF(AND(D89>=F14,D89<=G14),T14,0)","v":0},{"$f":"IF(AND(D89>=F15,D89<=G15),T15,0)","v":0},{"$f":"IF(AND(D89>=F16,D89<=G16),T16,0)","v":0},9,1,0,0]
[null,null,null,"2022-07-04",{"$f":"IF(D90<=G7,T7,0)","v":9.8181818181818183},{"$f":"IF(AND(D90>=F8,D90<=G8),T8,0)","v":0},{"$f":"IF(AND(D90>=F9,D90<=G9),T9,0)","v":0},{"$f":"IF(AND(D90>=F10,D90<=G10),T10,0)","v":0},{"$f":"IF(AND(D90>=F11,D90<=G11),T11,0)","v":0},{"$f":"IF(AND(D90>=F12,D90<=G12),T12,0)","v":0},{"$f":"IF(AND(D90>=F13,D90<=G13),T13,0)","v":0},{"$f":"IF(AND(D90>=F14,D90<=G14),T14,0)","v":0},{"$f":"IF(AND(D90>=F15,D90<=G15),T15,0)","v":0},{"$f":"IF(AND(D90>=F16,D90<=G16),T16,0)","v":0},9,1,0,0]
[null,null,null,"2022-07-05",{"$f":"IF(D91<=G7,T7,0)","v":9.8181818181818183},{"$f":"IF(AND(D91>=F8,D91<=G8),T8,0)","v":0},{"$f":"IF(AND(D91>=F9,D91<=G9),T9,0)","v":0},{"$f":"IF(AND(D91>=F10,D91<=G10),T10,0)","v":0},{"$f":"IF(AND(D91>=F11,D91<=G11),T11,0)","v":0},{"$f":"IF(AND(D91>=F12,D91<=G12),T12,0)","v":0},{"$f":"IF(AND(D91>=F13,D91<=G13),T13,0)","v":0},{"$f":"IF(AND(D91>=F14,D91<=G14),T14,0)","v":0},{"$f":"IF(AND(D91>=F15,D91<=G15),T15,0)","v":0},{"$f":"IF(AND(D91>=F16,D91<=G16),T16,0)","v":0},9,1,0,0]
[null,null,null,"2022-07-06",{"$f":"IF(D92<=G7,T7,0)","v":9.8181818181818183},{"$f":"IF(AND(D92>=F8,D92<=G8),T8,0)","v":0},{"$f":"IF(AND(D92>=F9,D92<=G9),T9,0)","v":0},{"$f":"IF(AND(D92>=F10,D92<=G10),T10,0)","v":0},{"$f":"IF(AND(D92>=F11,D92<=G11),T11,0)","v":0},{"$f":"IF(AND(D92>=F12,D92<=G12),T12,0)","v":0},{"$f":"IF(AND(D92>=F13,D92<=G13),T13,0)","v":0},{"$f":"IF(AND(D92>=F14,D92<=G14),T14,0)","v":0},{"$f":"IF(AND(D92>=F15,D92<=G15),T15,0)","v":0},{"$f":"IF(AND(D92>=F16,D92<=G16),T16,0)","v":0},9,1,0,0]
[null,null,null,"2022-07-07",{"$f":"IF(D93<=G7,T7,0)","v":9.8181818181818183},{"$f":"IF(AND(D93>=F8,D93<=G8),T8,0)","v":0},{"$f":"IF(AND(D93>=F9,D93<=G9),T9,0)","v":0},{"$f":"IF(AND(D93>=F10,D93<=G10),T10,0)","v":0},{"$f":"IF(AND(D93>=F11,D93<=G11),T11,0)","v":0},{"$f":"IF(AND(D93>=F12,D93<=G12),T12,0)","v":0},{"$f":"IF(AND(D93>=F13,D93<=G13),T13,0)","v":0},{"$f":"IF(AND(D93>=F14,D93<=G14),T14,0)","v":0},{"$f":"IF(AND(D93>=F15,D93<=G15),T15,0)","v":0},{"$f":"IF(AND(D93>=F16,D93<=G16),T16,0)","v":0},9,1,0,0]
[null,null,null,"2022-07-08",{"$f":"IF(D94<=G7,T7,0)","v":9.8181818181818183},{"$f":"IF(AND(D94>=F8,D94<=G8),T8,0)","v":0},{"$f":"IF(AND(D94>=F9,D94<=G9),T9,0)","v":0},{"$f":"IF(AND(D94>=F10,D94<=G10),T10,0)","v":0},{"$f":"IF(AND(D94>=F11,D94<=G11),T11,0)","v":0},{"$f":"IF(AND(D94>=F12,D94<=G12),T12,0)","v":0},{"$f":"IF(AND(D94>=F13,D94<=G13),T13,0)","v":0},{"$f":"IF(AND(D94>=F14,D94<=G14),T14,0)","v":0},{"$f":"IF(AND(D94>=F15,D94<=G15),T15,0)","v":0},{"$f":"IF(AND(D94>=F16,D94<=G16),T16,0)","v":0},9,1,0,0]
[null,null,null,"2022-07-09",{"$f":"IF(D95<=G7,T7,0)","v":9.8181818181818183},{"$f":"IF(AND(D95>=F8,D95<=G8),T8,0)","v":0},{"$f":"IF(AND(D95>=F9,D95<=G9),T9,0)","v":0},{"$f":"IF(AND(D95>=F10,D95<=G10),T10,0)","v":0},{"$f":"IF(AND(D95>=F11,D95<=G11),T11,0)","v":0},{"$f":"IF(AND(D95>=F12,D95<=G12),T12,0)","v":0},{"$f":"IF(AND(D95>=F13,D95<=G13),T13,0)","v":0},{"$f":"IF(AND(D95>=F14,D95<=G14),T14,0)","v":0},{"$f":"IF(AND(D95>=F15,D95<=G15),T15,0)","v":0},{"$f":"IF(AND(D95>=F16,D95<=G16),T16,0)","v":0},9,1,0,0]
[null,null,null,"2022-07-10",{"$f":"IF(D96<=G7,T7,0)","v":9.8181818181818183},{"$f":"IF(AND(D96>=F8,D96<=G8),T8,0)","v":0},{"$f":"IF(AND(D96>=F9,D96<=G9),T9,0)","v":0},{"$f":"IF(AND(D96>=F10,D96<=G10),T10,0)","v":0},{"$f":"IF(AND(D96>=F11,D96<=G11),T11,0)","v":0},{"$f":"IF(AND(D96>=F12,D96<=G12),T12,0)","v":0},{"$f":"IF(AND(D96>=F13,D96<=G13),T13,0)","v":0},{"$f":"IF(AND(D96>=F14,D96<=G14),T14,0)","v":0},{"$f":"IF(AND(D96>=F15,D96<=G15),T15,0)","v":0},{"$f":"IF(AND(D96>=F16,D96<=G16),T16,0)","v":0},9,1,0,0]
[null,null,null,"2022-07-11",{"$f":"IF(D97<=G7,T7,0)","v":9.8181818181818183},{"$f":"IF(AND(D97>=F8,D97<=G8),T8,0)","v":0},{"$f":"IF(AND(D97>=F9,D97<=G9),T9,0)","v":0},{"$f":"IF(AND(D97>=F10,D97<=G10),T10,0)","v":0},{"$f":"IF(AND(D97>=F11,D97<=G11),T11,0)","v":0},{"$f":"IF(AND(D97>=F12,D97<=G12),T12,0)","v":0},{"$f":"IF(AND(D97>=F13,D97<=G13),T13,0)","v":0},{"$f":"IF(AND(D97>=F14,D97<=G14),T14,0)","v":0},{"$f":"IF(AND(D97>=F15,D97<=G15),T15,0)","v":0},{"$f":"IF(AND(D97>=F16,D97<=G16),T16,0)","v":0},9,1,0,0]
[null,null,null,"2022-07-12",{"$f":"IF(D98<=G7,T7,0)","v":9.8181818181818183},{"$f":"IF(AND(D98>=F8,D98<=G8),T8,0)","v":0},{"$f":"IF(AND(D98>=F9,D98<=G9),T9,0)","v":0},{"$f":"IF(AND(D98>=F10,D98<=G10),T10,0)","v":0},{"$f":"IF(AND(D98>=F11,D98<=G11),T11,0)","v":0},{"$f":"IF(AND(D98>=F12,D98<=G12),T12,0)","v":0},{"$f":"IF(AND(D98>=F13,D98<=G13),T13,0)","v":0},{"$f":"IF(AND(D98>=F14,D98<=G14),T14,0)","v":0},{"$f":"IF(AND(D98>=F15,D98<=G15),T15,0)","v":0},{"$f":"IF(AND(D98>=F16,D98<=G16),T16,0)","v":0},9,1,0,0]
[null,null,null,"2022-07-13",{"$f":"IF(D99<=G7,T7,0)","v":9.8181818181818183},{"$f":"IF(AND(D99>=F8,D99<=G8),T8,0)","v":0},{"$f":"IF(AND(D99>=F9,D99<=G9),T9,0)","v":0},{"$f":"IF(AND(D99>=F10,D99<=G10),T10,0)","v":0},{"$f":"IF(AND(D99>=F11,D99<=G11),T11,0)","v":0},{"$f":"IF(AND(D99>=F12,D99<=G12),T12,0)","v":0},{"$f":"IF(AND(D99>=F13,D99<=G13),T13,0)","v":0},{"$f":"IF(AND(D99>=F14,D99<=G14),T14,0)","v":0},{"$f":"IF(AND(D99>=F15,D99<=G15),T15,0)","v":0},{"$f":"IF(AND(D99>=F16,D99<=G16),T16,0)","v":0},9,1,0,0]
[null,null,null,"2022-07-14",{"$f":"IF(D100<=G7,T7,0)","v":9.8181818181818183},{"$f":"IF(AND(D100>=F8,D100<=G8),T8,0)","v":0},{"$f":"IF(AND(D100>=F9,D100<=G9),T9,0)","v":0},{"$f":"IF(AND(D100>=F10,D100<=G10),T10,0)","v":0},{"$f":"IF(AND(D100>=F11,D100<=G11),T11,0)","v":0},{"$f":"IF(AND(D100>=F12,D100<=G12),T12,0)","v":0},{"$f":"IF(AND(D100>=F13,D100<=G13),T13,0)","v":0},{"$f":"IF(AND(D100>=F14,D100<=G14),T14,0)","v":0},{"$f":"IF(AND(D100>=F15,D100<=G15),T15,0)","v":0},{"$f":"IF(AND(D100>=F16,D100<=G16),T16,0)","v":0},9,1,0,0]
[null,null,null,"2022-07-15",{"$f":"IF(D101<=G7,T7,0)","v":9.8181818181818183},{"$f":"IF(AND(D101>=F8,D101<=G8),T8,0)","v":0},{"$f":"IF(AND(D101>=F9,D101<=G9),T9,0)","v":0},{"$f":"IF(AND(D101>=F10,D101<=G10),T10,0)","v":0},{"$f":"IF(AND(D101>=F11,D101<=G11),T11,0)","v":0},{"$f":"IF(AND(D101>=F12,D101<=G12),T12,0)","v":0},{"$f":"IF(AND(D101>=F13,D101<=G13),T13,0)","v":0},{"$f":"IF(AND(D101>=F14,D101<=G14),T14,0)","v":0},{"$f":"IF(AND(D101>=F15,D101<=G15),T15,0)","v":0},{"$f":"IF(AND(D101>=F16,D101<=G16),T16,0)","v":0},9,1,0,0]
[null,null,null,"2022-07-16",{"$f":"IF(D102<=G7,T7,0)","v":9.8181818181818183},{"$f":"IF(AND(D102>=F8,D102<=G8),T8,0)","v":0},{"$f":"IF(AND(D102>=F9,D102<=G9),T9,0)","v":0},{"$f":"IF(AND(D102>=F10,D102<=G10),T10,0)","v":0},{"$f":"IF(AND(D102>=F11,D102<=G11),T11,0)","v":0},{"$f":"IF(AND(D102>=F12,D102<=G12),T12,0)","v":0},{"$f":"IF(AND(D102>=F13,D102<=G13),T13,0)","v":0},{"$f":"IF(AND(D102>=F14,D102<=G14),T14,0)","v":0},{"$f":"IF(AND(D102>=F15,D102<=G15),T15,0)","v":0},{"$f":"IF(AND(D102>=F16,D102<=G16),T16,0)","v":0},9,1,0,0]
[null,null,null,"2022-07-17",{"$f":"IF(D103<=G7,T7,0)","v":9.8181818181818183},{"$f":"IF(AND(D103>=F8,D103<=G8),T8,0)","v":0},{"$f":"IF(AND(D103>=F9,D103<=G9),T9,0)","v":0},{"$f":"IF(AND(D103>=F10,D103<=G10),T10,0)","v":0},{"$f":"IF(AND(D103>=F11,D103<=G11),T11,0)","v":0},{"$f":"IF(AND(D103>=F12,D103<=G12),T12,0)","v":0},{"$f":"IF(AND(D103>=F13,D103<=G13),T13,0)","v":0},{"$f":"IF(AND(D103>=F14,D103<=G14),T14,0)","v":0},{"$f":"IF(AND(D103>=F15,D103<=G15),T15,0)","v":0},{"$f":"IF(AND(D103>=F16,D103<=G16),T16,0)","v":0},9,1,0,0]
[null,null,null,"2022-07-18",{"$f":"IF(D104<=G7,T7,0)","v":9.8181818181818183},{"$f":"IF(AND(D104>=F8,D104<=G8),T8,0)","v":0},{"$f":"IF(AND(D104>=F9,D104<=G9),T9,0)","v":0},{"$f":"IF(AND(D104>=F10,D104<=G10),T10,0)","v":0},{"$f":"IF(AND(D104>=F11,D104<=G11),T11,0)","v":0},{"$f":"IF(AND(D104>=F12,D104<=G12),T12,0)","v":0},{"$f":"IF(AND(D104>=F13,D104<=G13),T13,0)","v":0},{"$f":"IF(AND(D104>=F14,D104<=G14),T14,0)","v":0},{"$f":"IF(AND(D104>=F15,D104<=G15),T15,0)","v":0},{"$f":"IF(AND(D104>=F16,D104<=G16),T16,0)","v":0},9,1,0,0]
[null,null,null,"2022-07-19",{"$f":"IF(D105<=G7,T7,0)","v":9.8181818181818183},{"$f":"IF(AND(D105>=F8,D105<=G8),T8,0)","v":0},{"$f":"IF(AND(D105>=F9,D105<=G9),T9,0)","v":0},{"$f":"IF(AND(D105>=F10,D105<=G10),T10,0)","v":0},{"$f":"IF(AND(D105>=F11,D105<=G11),T11,0)","v":0},{"$f":"IF(AND(D105>=F12,D105<=G12),T12,0)","v":0},{"$f":"IF(AND(D105>=F13,D105<=G13),T13,0)","v":0},{"$f":"IF(AND(D105>=F14,D105<=G14),T14,0)","v":0},{"$f":"IF(AND(D105>=F15,D105<=G15),T15,0)","v":0},{"$f":"IF(AND(D105>=F16,D105<=G16),T16,0)","v":0},9,1,0,0]
[null,null,null,"2022-07-20",{"$f":"IF(D106<=G7,T7,0)","v":9.8181818181818183},{"$f":"IF(AND(D106>=F8,D106<=G8),T8,0)","v":0},{"$f":"IF(AND(D106>=F9,D106<=G9),T9,0)","v":0},{"$f":"IF(AND(D106>=F10,D106<=G10),T10,0)","v":0},{"$f":"IF(AND(D106>=F11,D106<=G11),T11,0)","v":0},{"$f":"IF(AND(D106>=F12,D106<=G12),T12,0)","v":0},{"$f":"IF(AND(D106>=F13,D106<=G13),T13,0)","v":0},{"$f":"IF(AND(D106>=F14,D106<=G14),T14,0)","v":0},{"$f":"IF(AND(D106>=F15,D106<=G15),T15,0)","v":0},{"$f":"IF(AND(D106>=F16,D106<=G16),T16,0)","v":0},9,1,0,0]
[null,null,null,"2022-07-21",{"$f":"IF(D107<=G7,T7,0)","v":9.8181818181818183},{"$f":"IF(AND(D107>=F8,D107<=G8),T8,0)","v":0},{"$f":"IF(AND(D107>=F9,D107<=G9),T9,0)","v":0},{"$f":"IF(AND(D107>=F10,D107<=G10),T10,0)","v":0},{"$f":"IF(AND(D107>=F11,D107<=G11),T11,0)","v":0},{"$f":"IF(AND(D107>=F12,D107<=G12),T12,0)","v":0},{"$f":"IF(AND(D107>=F13,D107<=G13),T13,0)","v":0},{"$f":"IF(AND(D107>=F14,D107<=G14),T14,0)","v":0},{"$f":"IF(AND(D107>=F15,D107<=G15),T15,0)","v":0},{"$f":"IF(AND(D107>=F16,D107<=G16),T16,0)","v":0},9,1,0,0]
[null,null,null,"2022-07-22",{"$f":"IF(D108<=G7,T7,0)","v":9.8181818181818183},{"$f":"IF(AND(D108>=F8,D108<=G8),T8,0)","v":0},{"$f":"IF(AND(D108>=F9,D108<=G9),T9,0)","v":0},{"$f":"IF(AND(D108>=F10,D108<=G10),T10,0)","v":0},{"$f":"IF(AND(D108>=F11,D108<=G11),T11,0)","v":0},{"$f":"IF(AND(D108>=F12,D108<=G12),T12,0)","v":0},{"$f":"IF(AND(D108>=F13,D108<=G13),T13,0)","v":0},{"$f":"IF(AND(D108>=F14,D108<=G14),T14,0)","v":0},{"$f":"IF(AND(D108>=F15,D108<=G15),T15,0)","v":0},{"$f":"IF(AND(D108>=F16,D108<=G16),T16,0)","v":0},9,1,0,0]
[null,null,null,"2022-07-23",{"$f":"IF(D109<=G7,T7,0)","v":9.8181818181818183},{"$f":"IF(AND(D109>=F8,D109<=G8),T8,0)","v":0},{"$f":"IF(AND(D109>=F9,D109<=G9),T9,0)","v":0},{"$f":"IF(AND(D109>=F10,D109<=G10),T10,0)","v":0},{"$f":"IF(AND(D109>=F11,D109<=G11),T11,0)","v":0},{"$f":"IF(AND(D109>=F12,D109<=G12),T12,0)","v":0},{"$f":"IF(AND(D109>=F13,D109<=G13),T13,0)","v":0},{"$f":"IF(AND(D109>=F14,D109<=G14),T14,0)","v":0},{"$f":"IF(AND(D109>=F15,D109<=G15),T15,0)","v":0},{"$f":"IF(AND(D109>=F16,D109<=G16),T16,0)","v":0},9,1,0,0]
[null,null,null,"2022-07-24",{"$f":"IF(D110<=G7,T7,0)","v":9.8181818181818183},{"$f":"IF(AND(D110>=F8,D110<=G8),T8,0)","v":0},{"$f":"IF(AND(D110>=F9,D110<=G9),T9,0)","v":0},{"$f":"IF(AND(D110>=F10,D110<=G10),T10,0)","v":0},{"$f":"IF(AND(D110>=F11,D110<=G11),T11,0)","v":0},{"$f":"IF(AND(D110>=F12,D110<=G12),T12,0)","v":0},{"$f":"IF(AND(D110>=F13,D110<=G13),T13,0)","v":0},{"$f":"IF(AND(D110>=F14,D110<=G14),T14,0)","v":0},{"$f":"IF(AND(D110>=F15,D110<=G15),T15,0)","v":0},{"$f":"IF(AND(D110>=F16,D110<=G16),T16,0)","v":0},9,1,0,0]
[null,null,null,"2022-07-25",{"$f":"IF(D111<=G7,T7,0)","v":9.8181818181818183},{"$f":"IF(AND(D111>=F8,D111<=G8),T8,0)","v":0},{"$f":"IF(AND(D111>=F9,D111<=G9),T9,0)","v":0},{"$f":"IF(AND(D111>=F10,D111<=G10),T10,0)","v":0},{"$f":"IF(AND(D111>=F11,D111<=G11),T11,0)","v":0},{"$f":"IF(AND(D111>=F12,D111<=G12),T12,0)","v":0},{"$f":"IF(AND(D111>=F13,D111<=G13),T13,0)","v":0},{"$f":"IF(AND(D111>=F14,D111<=G14),T14,0)","v":0},{"$f":"IF(AND(D111>=F15,D111<=G15),T15,0)","v":0},{"$f":"IF(AND(D111>=F16,D111<=G16),T16,0)","v":0},9,1,0,0]
[null,null,null,"2022-07-26",{"$f":"IF(D112<=G7,T7,0)","v":9.8181818181818183},{"$f":"IF(AND(D112>=F8,D112<=G8),T8,0)","v":0},{"$f":"IF(AND(D112>=F9,D112<=G9),T9,0)","v":0},{"$f":"IF(AND(D112>=F10,D112<=G10),T10,0)","v":0},{"$f":"IF(AND(D112>=F11,D112<=G11),T11,0)","v":0},{"$f":"IF(AND(D112>=F12,D112<=G12),T12,0)","v":0},{"$f":"IF(AND(D112>=F13,D112<=G13),T13,0)","v":0},{"$f":"IF(AND(D112>=F14,D112<=G14),T14,0)","v":0},{"$f":"IF(AND(D112>=F15,D112<=G15),T15,0)","v":0},{"$f":"IF(AND(D112>=F16,D112<=G16),T16,0)","v":0},9,1,0,0]
[null,null,null,"2022-07-27",{"$f":"IF(D113<=G7,T7,0)","v":9.8181818181818183},{"$f":"IF(AND(D113>=F8,D113<=G8),T8,0)","v":0},{"$f":"IF(AND(D113>=F9,D113<=G9),T9,0)","v":0},{"$f":"IF(AND(D113>=F10,D113<=G10),T10,0)","v":0},{"$f":"IF(AND(D113>=F11,D113<=G11),T11,0)","v":0},{"$f":"IF(AND(D113>=F12,D113<=G12),T12,0)","v":0},{"$f":"IF(AND(D113>=F13,D113<=G13),T13,0)","v":0},{"$f":"IF(AND(D113>=F14,D113<=G14),T14,0)","v":0},{"$f":"IF(AND(D113>=F15,D113<=G15),T15,0)","v":0},{"$f":"IF(AND(D113>=F16,D113<=G16),T16,0)","v":0},9,1,0,0]
[null,null,null,"2022-07-28",{"$f":"IF(D114<=G7,T7,0)","v":9.8181818181818183},{"$f":"IF(AND(D114>=F8,D114<=G8),T8,0)","v":0},{"$f":"IF(AND(D114>=F9,D114<=G9),T9,0)","v":0},{"$f":"IF(AND(D114>=F10,D114<=G10),T10,0)","v":0},{"$f":"IF(AND(D114>=F11,D114<=G11),T11,0)","v":0},{"$f":"IF(AND(D114>=F12,D114<=G12),T12,0)","v":0},{"$f":"IF(AND(D114>=F13,D114<=G13),T13,0)","v":0},{"$f":"IF(AND(D114>=F14,D114<=G14),T14,0)","v":0},{"$f":"IF(AND(D114>=F15,D114<=G15),T15,0)","v":0},{"$f":"IF(AND(D114>=F16,D114<=G16),T16,0)","v":0},9,{"$f":"IF(O114>=1,1,O114)","v":1},0,0]
[null,null,null,{"$f":"IF(DAY(D114)+1=31, D114+2, D114+1)","v":"2022-07-29"},{"$f":"IF(D115<=G7,T7,0)","v":9.8181818181818183},{"$f":"IF(AND(D115>=F8,D115<=G8),T8,0)","v":0},{"$f":"IF(AND(D115>=F9,D115<=G9),T9,0)","v":0},{"$f":"IF(AND(D115>=F10,D115<=G10),T10,0)","v":0},{"$f":"IF(AND(D115>=F11,D115<=G11),T11,0)","v":0},{"$f":"IF(AND(D115>=F12,D115<=G12),T12,0)","v":0},{"$f":"IF(AND(D115>=F13,D115<=G13),T13,0)","v":0},{"$f":"IF(AND(D115>=F14,D115<=G14),T14,0)","v":0},{"$f":"IF(AND(D115>=F15,D115<=G15),T15,0)","v":0},{"$f":"IF(AND(D115>=F16,D115<=G16),T16,0)","v":0},9,1,0,{"$f":"SUM(Q114,R114)","v":0}]
[null,null,null,"2022-07-30",{"$f":"IF(D116<=G7,T7,0)","v":9.8181818181818183},{"$f":"IF(AND(D116>=F8,D116<=G8),T8,0)","v":0},{"$f":"IF(AND(D116>=F9,D116<=G9),T9,0)","v":0},{"$f":"IF(AND(D116>=F10,D116<=G10),T10,0)","v":0},{"$f":"IF(AND(D116>=F11,D116<=G11),T11,0)","v":0},{"$f":"IF(AND(D116>=F12,D116<=G12),T12,0)","v":0},{"$f":"IF(AND(D116>=F13,D116<=G13),T13,0)","v":0},{"$f":"IF(AND(D116>=F14,D116<=G14),T14,0)","v":0},{"$f":"IF(AND(D116>=F15,D116<=G15),T15,0)","v":0},{"$f":"IF(AND(D116>=F16,D116<=G16),T16,0)","v":0},{"$f":"IF(AND(SUM(E116:N116)>0,SUM(E116:N116)<1),1,TRUNC(SUM(E116:N116),0))","v":9},1,0,0]
[null,null,null,"2022-08-01",{"$f":"IF(D117<=G7,T7,0)","v":9.8181818181818183},{"$f":"IF(AND(D117>=F8,D117<=G8),T8,0)","v":0},{"$f":"IF(AND(D117>=F9,D117<=G9),T9,0)","v":0},{"$f":"IF(AND(D117>=F10,D117<=G10),T10,0)","v":0},{"$f":"IF(AND(D117>=F11,D117<=G11),T11,0)","v":0},{"$f":"IF(AND(D117>=F12,D117<=G12),T12,0)","v":0},{"$f":"IF(AND(D117>=F13,D117<=G13),T13,0)","v":0},{"$f":"IF(AND(D117>=F14,D117<=G14),T14,0)","v":0},{"$f":"IF(AND(D117>=F15,D117<=G15),T15,0)","v":0},{"$f":"IF(AND(D117>=F16,D117<=G16),T16,0)","v":0},9,1,{"$f":"IF(O116=O117,0,1)","v":0},0]
[null,null,null,"2022-08-02",{"$f":"IF(D118<=G7,T7,0)","v":9.8181818181818183},{"$f":"IF(AND(D118>=F8,D118<=G8),T8,0)","v":0},{"$f":"IF(AND(D118>=F9,D118<=G9),T9,0)","v":0},{"$f":"IF(AND(D118>=F10,D118<=G10),T10,0)","v":0},{"$f":"IF(AND(D118>=F11,D118<=G11),T11,0)","v":0},{"$f":"IF(AND(D118>=F12,D118<=G12),T12,0)","v":0},{"$f":"IF(AND(D118>=F13,D118<=G13),T13,0)","v":0},{"$f":"IF(AND(D118>=F14,D118<=G14),T14,0)","v":0},{"$f":"IF(AND(D118>=F15,D118<=G15),T15,0)","v":0},{"$f":"IF(AND(D118>=F16,D118<=G16),T16,0)","v":0},9,1,0,0]
[null,null,null,"2022-08-03",{"$f":"IF(D119<=G7,T7,0)","v":9.8181818181818183},{"$f":"IF(AND(D119>=F8,D119<=G8),T8,0)","v":0},{"$f":"IF(AND(D119>=F9,D119<=G9),T9,0)","v":0},{"$f":"IF(AND(D119>=F10,D119<=G10),T10,0)","v":0},{"$f":"IF(AND(D119>=F11,D119<=G11),T11,0)","v":0},{"$f":"IF(AND(D119>=F12,D119<=G12),T12,0)","v":0},{"$f":"IF(AND(D119>=F13,D119<=G13),T13,0)","v":0},{"$f":"IF(AND(D119>=F14,D119<=G14),T14,0)","v":0},{"$f":"IF(AND(D119>=F15,D119<=G15),T15,0)","v":0},{"$f":"IF(AND(D119>=F16,D119<=G16),T16,0)","v":0},9,1,0,0]
[null,null,null,"2022-08-04",{"$f":"IF(D120<=G7,T7,0)","v":9.8181818181818183},{"$f":"IF(AND(D120>=F8,D120<=G8),T8,0)","v":0},{"$f":"IF(AND(D120>=F9,D120<=G9),T9,0)","v":0},{"$f":"IF(AND(D120>=F10,D120<=G10),T10,0)","v":0},{"$f":"IF(AND(D120>=F11,D120<=G11),T11,0)","v":0},{"$f":"IF(AND(D120>=F12,D120<=G12),T12,0)","v":0},{"$f":"IF(AND(D120>=F13,D120<=G13),T13,0)","v":0},{"$f":"IF(AND(D120>=F14,D120<=G14),T14,0)","v":0},{"$f":"IF(AND(D120>=F15,D120<=G15),T15,0)","v":0},{"$f":"IF(AND(D120>=F16,D120<=G16),T16,0)","v":0},9,1,0,0]
[null,null,null,"2022-08-05",{"$f":"IF(D121<=G7,T7,0)","v":9.8181818181818183},{"$f":"IF(AND(D121>=F8,D121<=G8),T8,0)","v":0},{"$f":"IF(AND(D121>=F9,D121<=G9),T9,0)","v":0},{"$f":"IF(AND(D121>=F10,D121<=G10),T10,0)","v":0},{"$f":"IF(AND(D121>=F11,D121<=G11),T11,0)","v":0},{"$f":"IF(AND(D121>=F12,D121<=G12),T12,0)","v":0},{"$f":"IF(AND(D121>=F13,D121<=G13),T13,0)","v":0},{"$f":"IF(AND(D121>=F14,D121<=G14),T14,0)","v":0},{"$f":"IF(AND(D121>=F15,D121<=G15),T15,0)","v":0},{"$f":"IF(AND(D121>=F16,D121<=G16),T16,0)","v":0},9,1,0,0]
[null,null,null,"2022-08-06",{"$f":"IF(D122<=G7,T7,0)","v":9.8181818181818183},{"$f":"IF(AND(D122>=F8,D122<=G8),T8,0)","v":0},{"$f":"IF(AND(D122>=F9,D122<=G9),T9,0)","v":0},{"$f":"IF(AND(D122>=F10,D122<=G10),T10,0)","v":0},{"$f":"IF(AND(D122>=F11,D122<=G11),T11,0)","v":0},{"$f":"IF(AND(D122>=F12,D122<=G12),T12,0)","v":0},{"$f":"IF(AND(D122>=F13,D122<=G13),T13,0)","v":0},{"$f":"IF(AND(D122>=F14,D122<=G14),T14,0)","v":0},{"$f":"IF(AND(D122>=F15,D122<=G15),T15,0)","v":0},{"$f":"IF(AND(D122>=F16,D122<=G16),T16,0)","v":0},9,1,0,0]
[null,null,null,"2022-08-07",{"$f":"IF(D123<=G7,T7,0)","v":9.8181818181818183},{"$f":"IF(AND(D123>=F8,D123<=G8),T8,0)","v":0},{"$f":"IF(AND(D123>=F9,D123<=G9),T9,0)","v":0},{"$f":"IF(AND(D123>=F10,D123<=G10),T10,0)","v":0},{"$f":"IF(AND(D123>=F11,D123<=G11),T11,0)","v":0},{"$f":"IF(AND(D123>=F12,D123<=G12),T12,0)","v":0},{"$f":"IF(AND(D123>=F13,D123<=G13),T13,0)","v":0},{"$f":"IF(AND(D123>=F14,D123<=G14),T14,0)","v":0},{"$f":"IF(AND(D123>=F15,D123<=G15),T15,0)","v":0},{"$f":"IF(AND(D123>=F16,D123<=G16),T16,0)","v":0},9,1,0,0]
[null,null,null,"2022-08-08",{"$f":"IF(D124<=G7,T7,0)","v":9.8181818181818183},{"$f":"IF(AND(D124>=F8,D124<=G8),T8,0)","v":0},{"$f":"IF(AND(D124>=F9,D124<=G9),T9,0)","v":0},{"$f":"IF(AND(D124>=F10,D124<=G10),T10,0)","v":0},{"$f":"IF(AND(D124>=F11,D124<=G11),T11,0)","v":0},{"$f":"IF(AND(D124>=F12,D124<=G12),T12,0)","v":0},{"$f":"IF(AND(D124>=F13,D124<=G13),T13,0)","v":0},{"$f":"IF(AND(D124>=F14,D124<=G14),T14,0)","v":0},{"$f":"IF(AND(D124>=F15,D124<=G15),T15,0)","v":0},{"$f":"IF(AND(D124>=F16,D124<=G16),T16,0)","v":0},9,1,0,0]
[null,null,null,"2022-08-09",{"$f":"IF(D125<=G7,T7,0)","v":0},{"$f":"IF(AND(D125>=F8,D125<=G8),T8,0)","v":0},{"$f":"IF(AND(D125>=F9,D125<=G9),T9,0)","v":0},{"$f":"IF(AND(D125>=F10,D125<=G10),T10,0)","v":0},{"$f":"IF(AND(D125>=F11,D125<=G11),T11,0)","v":0},{"$f":"IF(AND(D125>=F12,D125<=G12),T12,0)","v":0},{"$f":"IF(AND(D125>=F13,D125<=G13),T13,0)","v":0},{"$f":"IF(AND(D125>=F14,D125<=G14),T14,0)","v":0},{"$f":"IF(AND(D125>=F15,D125<=G15),T15,0)","v":0},{"$f":"IF(AND(D125>=F16,D125<=G16),T16,0)","v":0},0,0,1,0]
[null,null,null,"2022-08-10",{"$f":"IF(D126<=G7,T7,0)","v":0},{"$f":"IF(AND(D126>=F8,D126<=G8),T8,0)","v":0},{"$f":"IF(AND(D126>=F9,D126<=G9),T9,0)","v":0},{"$f":"IF(AND(D126>=F10,D126<=G10),T10,0)","v":0},{"$f":"IF(AND(D126>=F11,D126<=G11),T11,0)","v":0},{"$f":"IF(AND(D126>=F12,D126<=G12),T12,0)","v":0},{"$f":"IF(AND(D126>=F13,D126<=G13),T13,0)","v":0},{"$f":"IF(AND(D126>=F14,D126<=G14),T14,0)","v":0},{"$f":"IF(AND(D126>=F15,D126<=G15),T15,0)","v":0},{"$f":"IF(AND(D126>=F16,D126<=G16),T16,0)","v":0},0,0,0,1]
[null,null,null,"2022-08-11",{"$f":"IF(D127<=G7,T7,0)","v":0},{"$f":"IF(AND(D127>=F8,D127<=G8),T8,0)","v":0},{"$f":"IF(AND(D127>=F9,D127<=G9),T9,0)","v":0},{"$f":"IF(AND(D127>=F10,D127<=G10),T10,0)","v":0},{"$f":"IF(AND(D127>=F11,D127<=G11),T11,0)","v":0},{"$f":"IF(AND(D127>=F12,D127<=G12),T12,0)","v":0},{"$f":"IF(AND(D127>=F13,D127<=G13),T13,0)","v":0},{"$f":"IF(AND(D127>=F14,D127<=G14),T14,0)","v":0},{"$f":"IF(AND(D127>=F15,D127<=G15),T15,0)","v":0},{"$f":"IF(AND(D127>=F16,D127<=G16),T16,0)","v":0},0,0,0,1]
[null,null,null,"2022-08-12",{"$f":"IF(D128<=G7,T7,0)","v":0},{"$f":"IF(AND(D128>=F8,D128<=G8),T8,0)","v":0},{"$f":"IF(AND(D128>=F9,D128<=G9),T9,0)","v":0},{"$f":"IF(AND(D128>=F10,D128<=G10),T10,0)","v":0},{"$f":"IF(AND(D128>=F11,D128<=G11),T11,0)","v":0},{"$f":"IF(AND(D128>=F12,D128<=G12),T12,0)","v":0},{"$f":"IF(AND(D128>=F13,D128<=G13),T13,0)","v":0},{"$f":"IF(AND(D128>=F14,D128<=G14),T14,0)","v":0},{"$f":"IF(AND(D128>=F15,D128<=G15),T15,0)","v":0},{"$f":"IF(AND(D128>=F16,D128<=G16),T16,0)","v":0},0,0,0,1]
[null,null,null,"2022-08-13",{"$f":"IF(D129<=G7,T7,0)","v":0},{"$f":"IF(AND(D129>=F8,D129<=G8),T8,0)","v":0},{"$f":"IF(AND(D129>=F9,D129<=G9),T9,0)","v":0},{"$f":"IF(AND(D129>=F10,D129<=G10),T10,0)","v":0},{"$f":"IF(AND(D129>=F11,D129<=G11),T11,0)","v":0},{"$f":"IF(AND(D129>=F12,D129<=G12),T12,0)","v":0},{"$f":"IF(AND(D129>=F13,D129<=G13),T13,0)","v":0},{"$f":"IF(AND(D129>=F14,D129<=G14),T14,0)","v":0},{"$f":"IF(AND(D129>=F15,D129<=G15),T15,0)","v":0},{"$f":"IF(AND(D129>=F16,D129<=G16),T16,0)","v":0},0,0,0,1]
[null,null,null,"2022-08-14",{"$f":"IF(D130<=G7,T7,0)","v":0},{"$f":"IF(AND(D130>=F8,D130<=G8),T8,0)","v":0},{"$f":"IF(AND(D130>=F9,D130<=G9),T9,0)","v":0},{"$f":"IF(AND(D130>=F10,D130<=G10),T10,0)","v":0},{"$f":"IF(AND(D130>=F11,D130<=G11),T11,0)","v":0},{"$f":"IF(AND(D130>=F12,D130<=G12),T12,0)","v":0},{"$f":"IF(AND(D130>=F13,D130<=G13),T13,0)","v":0},{"$f":"IF(AND(D130>=F14,D130<=G14),T14,0)","v":0},{"$f":"IF(AND(D130>=F15,D130<=G15),T15,0)","v":0},{"$f":"IF(AND(D130>=F16,D130<=G16),T16,0)","v":0},0,0,0,1]
[null,null,null,"2022-08-15",{"$f":"IF(D131<=G7,T7,0)","v":0},{"$f":"IF(AND(D131>=F8,D131<=G8),T8,0)","v":0},{"$f":"IF(AND(D131>=F9,D131<=G9),T9,0)","v":0},{"$f":"IF(AND(D131>=F10,D131<=G10),T10,0)","v":0},{"$f":"IF(AND(D131>=F11,D131<=G11),T11,0)","v":0},{"$f":"IF(AND(D131>=F12,D131<=G12),T12,0)","v":0},{"$f":"IF(AND(D131>=F13,D131<=G13),T13,0)","v":0},{"$f":"IF(AND(D131>=F14,D131<=G14),T14,0)","v":0},{"$f":"IF(AND(D131>=F15,D131<=G15),T15,0)","v":0},{"$f":"IF(AND(D131>=F16,D131<=G16),T16,0)","v":0},0,0,0,1]
[null,null,null,"2022-08-16",{"$f":"IF(D132<=G7,T7,0)","v":0},{"$f":"IF(AND(D132>=F8,D132<=G8),T8,0)","v":0},{"$f":"IF(AND(D132>=F9,D132<=G9),T9,0)","v":0},{"$f":"IF(AND(D132>=F10,D132<=G10),T10,0)","v":0},{"$f":"IF(AND(D132>=F11,D132<=G11),T11,0)","v":0},{"$f":"IF(AND(D132>=F12,D132<=G12),T12,0)","v":0},{"$f":"IF(AND(D132>=F13,D132<=G13),T13,0)","v":0},{"$f":"IF(AND(D132>=F14,D132<=G14),T14,0)","v":0},{"$f":"IF(AND(D132>=F15,D132<=G15),T15,0)","v":0},{"$f":"IF(AND(D132>=F16,D132<=G16),T16,0)","v":0},0,0,0,1]
[null,null,null,"2022-08-17",{"$f":"IF(D133<=G7,T7,0)","v":0},{"$f":"IF(AND(D133>=F8,D133<=G8),T8,0)","v":0},{"$f":"IF(AND(D133>=F9,D133<=G9),T9,0)","v":0},{"$f":"IF(AND(D133>=F10,D133<=G10),T10,0)","v":0},{"$f":"IF(AND(D133>=F11,D133<=G11),T11,0)","v":0},{"$f":"IF(AND(D133>=F12,D133<=G12),T12,0)","v":0},{"$f":"IF(AND(D133>=F13,D133<=G13),T13,0)","v":0},{"$f":"IF(AND(D133>=F14,D133<=G14),T14,0)","v":0},{"$f":"IF(AND(D133>=F15,D133<=G15),T15,0)","v":0},{"$f":"IF(AND(D133>=F16,D133<=G16),T16,0)","v":0},0,0,0,1]
[null,null,null,"2022-08-18",{"$f":"IF(D134<=G7,T7,0)","v":0},{"$f":"IF(AND(D134>=F8,D134<=G8),T8,0)","v":0},{"$f":"IF(AND(D134>=F9,D134<=G9),T9,0)","v":0},{"$f":"IF(AND(D134>=F10,D134<=G10),T10,0)","v":0},{"$f":"IF(AND(D134>=F11,D134<=G11),T11,0)","v":0},{"$f":"IF(AND(D134>=F12,D134<=G12),T12,0)","v":0},{"$f":"IF(AND(D134>=F13,D134<=G13),T13,0)","v":0},{"$f":"IF(AND(D134>=F14,D134<=G14),T14,0)","v":0},{"$f":"IF(AND(D134>=F15,D134<=G15),T15,0)","v":0},{"$f":"IF(AND(D134>=F16,D134<=G16),T16,0)","v":0},0,0,0,1]
[null,null,null,"2022-08-19",{"$f":"IF(D135<=G7,T7,0)","v":0},{"$f":"IF(AND(D135>=F8,D135<=G8),T8,0)","v":0},{"$f":"IF(AND(D135>=F9,D135<=G9),T9,0)","v":0},{"$f":"IF(AND(D135>=F10,D135<=G10),T10,0)","v":0},{"$f":"IF(AND(D135>=F11,D135<=G11),T11,0)","v":0},{"$f":"IF(AND(D135>=F12,D135<=G12),T12,0)","v":0},{"$f":"IF(AND(D135>=F13,D135<=G13),T13,0)","v":0},{"$f":"IF(AND(D135>=F14,D135<=G14),T14,0)","v":0},{"$f":"IF(AND(D135>=F15,D135<=G15),T15,0)","v":0},{"$f":"IF(AND(D135>=F16,D135<=G16),T16,0)","v":0},0,0,0,1]
[null,null,null,"2022-08-20",{"$f":"IF(D136<=G7,T7,0)","v":0},{"$f":"IF(AND(D136>=F8,D136<=G8),T8,0)","v":0},{"$f":"IF(AND(D136>=F9,D136<=G9),T9,0)","v":0},{"$f":"IF(AND(D136>=F10,D136<=G10),T10,0)","v":0},{"$f":"IF(AND(D136>=F11,D136<=G11),T11,0)","v":0},{"$f":"IF(AND(D136>=F12,D136<=G12),T12,0)","v":0},{"$f":"IF(AND(D136>=F13,D136<=G13),T13,0)","v":0},{"$f":"IF(AND(D136>=F14,D136<=G14),T14,0)","v":0},{"$f":"IF(AND(D136>=F15,D136<=G15),T15,0)","v":0},{"$f":"IF(AND(D136>=F16,D136<=G16),T16,0)","v":0},0,0,0,1]
[null,null,null,"2022-08-21",{"$f":"IF(D137<=G7,T7,0)","v":0},{"$f":"IF(AND(D137>=F8,D137<=G8),T8,0)","v":0},{"$f":"IF(AND(D137>=F9,D137<=G9),T9,0)","v":0},{"$f":"IF(AND(D137>=F10,D137<=G10),T10,0)","v":0},{"$f":"IF(AND(D137>=F11,D137<=G11),T11,0)","v":0},{"$f":"IF(AND(D137>=F12,D137<=G12),T12,0)","v":0},{"$f":"IF(AND(D137>=F13,D137<=G13),T13,0)","v":0},{"$f":"IF(AND(D137>=F14,D137<=G14),T14,0)","v":0},{"$f":"IF(AND(D137>=F15,D137<=G15),T15,0)","v":0},{"$f":"IF(AND(D137>=F16,D137<=G16),T16,0)","v":0},0,0,0,1]
[null,null,null,"2022-08-22",{"$f":"IF(D138<=G7,T7,0)","v":0},{"$f":"IF(AND(D138>=F8,D138<=G8),T8,0)","v":0},{"$f":"IF(AND(D138>=F9,D138<=G9),T9,0)","v":0},{"$f":"IF(AND(D138>=F10,D138<=G10),T10,0)","v":0},{"$f":"IF(AND(D138>=F11,D138<=G11),T11,0)","v":0},{"$f":"IF(AND(D138>=F12,D138<=G12),T12,0)","v":0},{"$f":"IF(AND(D138>=F13,D138<=G13),T13,0)","v":0},{"$f":"IF(AND(D138>=F14,D138<=G14),T14,0)","v":0},{"$f":"IF(AND(D138>=F15,D138<=G15),T15,0)","v":0},{"$f":"IF(AND(D138>=F16,D138<=G16),T16,0)","v":0},0,0,0,1]
[null,null,null,"2022-08-23",{"$f":"IF(D139<=G7,T7,0)","v":0},{"$f":"IF(AND(D139>=F8,D139<=G8),T8,0)","v":0},{"$f":"IF(AND(D139>=F9,D139<=G9),T9,0)","v":0},{"$f":"IF(AND(D139>=F10,D139<=G10),T10,0)","v":0},{"$f":"IF(AND(D139>=F11,D139<=G11),T11,0)","v":0},{"$f":"IF(AND(D139>=F12,D139<=G12),T12,0)","v":0},{"$f":"IF(AND(D139>=F13,D139<=G13),T13,0)","v":0},{"$f":"IF(AND(D139>=F14,D139<=G14),T14,0)","v":0},{"$f":"IF(AND(D139>=F15,D139<=G15),T15,0)","v":0},{"$f":"IF(AND(D139>=F16,D139<=G16),T16,0)","v":0},0,0,0,1]
[null,null,null,"2022-08-24",{"$f":"IF(D140<=G7,T7,0)","v":0},{"$f":"IF(AND(D140>=F8,D140<=G8),T8,0)","v":0},{"$f":"IF(AND(D140>=F9,D140<=G9),T9,0)","v":0},{"$f":"IF(AND(D140>=F10,D140<=G10),T10,0)","v":0},{"$f":"IF(AND(D140>=F11,D140<=G11),T11,0)","v":0},{"$f":"IF(AND(D140>=F12,D140<=G12),T12,0)","v":0},{"$f":"IF(AND(D140>=F13,D140<=G13),T13,0)","v":0},{"$f":"IF(AND(D140>=F14,D140<=G14),T14,0)","v":0},{"$f":"IF(AND(D140>=F15,D140<=G15),T15,0)","v":0},{"$f":"IF(AND(D140>=F16,D140<=G16),T16,0)","v":0},0,0,0,1]
[null,null,null,"2022-08-25",{"$f":"IF(D141<=G7,T7,0)","v":0},{"$f":"IF(AND(D141>=F8,D141<=G8),T8,0)","v":0},{"$f":"IF(AND(D141>=F9,D141<=G9),T9,0)","v":0},{"$f":"IF(AND(D141>=F10,D141<=G10),T10,0)","v":0},{"$f":"IF(AND(D141>=F11,D141<=G11),T11,0)","v":0},{"$f":"IF(AND(D141>=F12,D141<=G12),T12,0)","v":0},{"$f":"IF(AND(D141>=F13,D141<=G13),T13,0)","v":0},{"$f":"IF(AND(D141>=F14,D141<=G14),T14,0)","v":0},{"$f":"IF(AND(D141>=F15,D141<=G15),T15,0)","v":0},{"$f":"IF(AND(D141>=F16,D141<=G16),T16,0)","v":0},0,0,0,1]
[null,null,null,"2022-08-26",{"$f":"IF(D142<=G7,T7,0)","v":0},{"$f":"IF(AND(D142>=F8,D142<=G8),T8,0)","v":0},{"$f":"IF(AND(D142>=F9,D142<=G9),T9,0)","v":0},{"$f":"IF(AND(D142>=F10,D142<=G10),T10,0)","v":0},{"$f":"IF(AND(D142>=F11,D142<=G11),T11,0)","v":0},{"$f":"IF(AND(D142>=F12,D142<=G12),T12,0)","v":0},{"$f":"IF(AND(D142>=F13,D142<=G13),T13,0)","v":0},{"$f":"IF(AND(D142>=F14,D142<=G14),T14,0)","v":0},{"$f":"IF(AND(D142>=F15,D142<=G15),T15,0)","v":0},{"$f":"IF(AND(D142>=F16,D142<=G16),T16,0)","v":0},0,0,0,1]
[null,null,null,"2022-08-27",{"$f":"IF(D143<=G7,T7,0)","v":0},{"$f":"IF(AND(D143>=F8,D143<=G8),T8,0)","v":0},{"$f":"IF(AND(D143>=F9,D143<=G9),T9,0)","v":0},{"$f":"IF(AND(D143>=F10,D143<=G10),T10,0)","v":0},{"$f":"IF(AND(D143>=F11,D143<=G11),T11,0)","v":0},{"$f":"IF(AND(D143>=F12,D143<=G12),T12,0)","v":0},{"$f":"IF(AND(D143>=F13,D143<=G13),T13,0)","v":0},{"$f":"IF(AND(D143>=F14,D143<=G14),T14,0)","v":0},{"$f":"IF(AND(D143>=F15,D143<=G15),T15,0)","v":0},{"$f":"IF(AND(D143>=F16,D143<=G16),T16,0)","v":0},0,0,0,1]
[null,null,null,"2022-08-28",{"$f":"IF(D144<=G7,T7,0)","v":0},{"$f":"IF(AND(D144>=F8,D144<=G8),T8,0)","v":0},{"$f":"IF(AND(D144>=F9,D144<=G9),T9,0)","v":0},{"$f":"IF(AND(D144>=F10,D144<=G10),T10,0)","v":0},{"$f":"IF(AND(D144>=F11,D144<=G11),T11,0)","v":0},{"$f":"IF(AND(D144>=F12,D144<=G12),T12,0)","v":0},{"$f":"IF(AND(D144>=F13,D144<=G13),T13,0)","v":0},{"$f":"IF(AND(D144>=F14,D144<=G14),T14,0)","v":0},{"$f":"IF(AND(D144>=F15,D144<=G15),T15,0)","v":0},{"$f":"IF(AND(D144>=F16,D144<=G16),T16,0)","v":0},0,0,0,1]
[null,null,null,"2022-08-29",{"$f":"IF(D145<=G7,T7,0)","v":0},{"$f":"IF(AND(D145>=F8,D145<=G8),T8,0)","v":0},{"$f":"IF(AND(D145>=F9,D145<=G9),T9,0)","v":0},{"$f":"IF(AND(D145>=F10,D145<=G10),T10,0)","v":0},{"$f":"IF(AND(D145>=F11,D145<=G11),T11,0)","v":0},{"$f":"IF(AND(D145>=F12,D145<=G12),T12,0)","v":0},{"$f":"IF(AND(D145>=F13,D145<=G13),T13,0)","v":0},{"$f":"IF(AND(D145>=F14,D145<=G14),T14,0)","v":0},{"$f":"IF(AND(D145>=F15,D145<=G15),T15,0)","v":0},{"$f":"IF(AND(D145>=F16,D145<=G16),T16,0)","v":0},0,0,0,1]
[null,null,null,"2022-08-30",{"$f":"IF(D146<=G7,T7,0)","v":0},{"$f":"IF(AND(D146>=F8,D146<=G8),T8,0)","v":0},{"$f":"IF(AND(D146>=F9,D146<=G9),T9,0)","v":0},{"$f":"IF(AND(D146>=F10,D146<=G10),T10,0)","v":0},{"$f":"IF(AND(D146>=F11,D146<=G11),T11,0)","v":0},{"$f":"IF(AND(D146>=F12,D146<=G12),T12,0)","v":0},{"$f":"IF(AND(D146>=F13,D146<=G13),T13,0)","v":0},{"$f":"IF(AND(D146>=F14,D146<=G14),T14,0)","v":0},{"$f":"IF(AND(D146>=F15,D146<=G15),T15,0)","v":0},{"$f":"IF(AND(D146>=F16,D146<=G16),T16,0)","v":0},0,0,0,1]
[null,null,null,"2022-09-01",{"$f":"IF(D147<=G7,T7,0)","v":0},{"$f":"IF(AND(D147>=F8,D147<=G8),T8,0)","v":0},{"$f":"IF(AND(D147>=F9,D147<=G9),T9,0)","v":0},{"$f":"IF(AND(D147>=F10,D147<=G10),T10,0)","v":0},{"$f":"IF(AND(D147>=F11,D147<=G11),T11,0)","v":0},{"$f":"IF(AND(D147>=F12,D147<=G12),T12,0)","v":0},{"$f":"IF(AND(D147>=F13,D147<=G13),T13,0)","v":0},{"$f":"IF(AND(D147>=F14,D147<=G14),T14,0)","v":0},{"$f":"IF(AND(D147>=F15,D147<=G15),T15,0)","v":0},{"$f":"IF(AND(D147>=F16,D147<=G16),T16,0)","v":0},0,0,0,1]
[null,null,null,"2022-09-02",{"$f":"IF(D148<=G7,T7,0)","v":0},{"$f":"IF(AND(D148>=F8,D148<=G8),T8,0)","v":0},{"$f":"IF(AND(D148>=F9,D148<=G9),T9,0)","v":0},{"$f":"IF(AND(D148>=F10,D148<=G10),T10,0)","v":0},{"$f":"IF(AND(D148>=F11,D148<=G11),T11,0)","v":0},{"$f":"IF(AND(D148>=F12,D148<=G12),T12,0)","v":0},{"$f":"IF(AND(D148>=F13,D148<=G13),T13,0)","v":0},{"$f":"IF(AND(D148>=F14,D148<=G14),T14,0)","v":0},{"$f":"IF(AND(D148>=F15,D148<=G15),T15,0)","v":0},{"$f":"IF(AND(D148>=F16,D148<=G16),T16,0)","v":0},0,0,0,1]
[null,null,null,"2022-09-03",{"$f":"IF(D149<=G7,T7,0)","v":0},{"$f":"IF(AND(D149>=F8,D149<=G8),T8,0)","v":0},{"$f":"IF(AND(D149>=F9,D149<=G9),T9,0)","v":0},{"$f":"IF(AND(D149>=F10,D149<=G10),T10,0)","v":0},{"$f":"IF(AND(D149>=F11,D149<=G11),T11,0)","v":0},{"$f":"IF(AND(D149>=F12,D149<=G12),T12,0)","v":0},{"$f":"IF(AND(D149>=F13,D149<=G13),T13,0)","v":0},{"$f":"IF(AND(D149>=F14,D149<=G14),T14,0)","v":0},{"$f":"IF(AND(D149>=F15,D149<=G15),T15,0)","v":0},{"$f":"IF(AND(D149>=F16,D149<=G16),T16,0)","v":0},0,0,0,1]
[null,null,null,"2022-09-04",{"$f":"IF(D150<=G7,T7,0)","v":0},{"$f":"IF(AND(D150>=F8,D150<=G8),T8,0)","v":0},{"$f":"IF(AND(D150>=F9,D150<=G9),T9,0)","v":0},{"$f":"IF(AND(D150>=F10,D150<=G10),T10,0)","v":0},{"$f":"IF(AND(D150>=F11,D150<=G11),T11,0)","v":0},{"$f":"IF(AND(D150>=F12,D150<=G12),T12,0)","v":0},{"$f":"IF(AND(D150>=F13,D150<=G13),T13,0)","v":0},{"$f":"IF(AND(D150>=F14,D150<=G14),T14,0)","v":0},{"$f":"IF(AND(D150>=F15,D150<=G15),T15,0)","v":0},{"$f":"IF(AND(D150>=F16,D150<=G16),T16,0)","v":0},0,0,0,1]
[null,null,null,"2022-09-05",{"$f":"IF(D151<=G7,T7,0)","v":0},{"$f":"IF(AND(D151>=F8,D151<=G8),T8,0)","v":0},{"$f":"IF(AND(D151>=F9,D151<=G9),T9,0)","v":0},{"$f":"IF(AND(D151>=F10,D151<=G10),T10,0)","v":0},{"$f":"IF(AND(D151>=F11,D151<=G11),T11,0)","v":0},{"$f":"IF(AND(D151>=F12,D151<=G12),T12,0)","v":0},{"$f":"IF(AND(D151>=F13,D151<=G13),T13,0)","v":0},{"$f":"IF(AND(D151>=F14,D151<=G14),T14,0)","v":0},{"$f":"IF(AND(D151>=F15,D151<=G15),T15,0)","v":0},{"$f":"IF(AND(D151>=F16,D151<=G16),T16,0)","v":0},0,0,0,1]
[null,null,null,"2022-09-06",{"$f":"IF(D152<=G7,T7,0)","v":0},{"$f":"IF(AND(D152>=F8,D152<=G8),T8,0)","v":0},{"$f":"IF(AND(D152>=F9,D152<=G9),T9,0)","v":0},{"$f":"IF(AND(D152>=F10,D152<=G10),T10,0)","v":0},{"$f":"IF(AND(D152>=F11,D152<=G11),T11,0)","v":0},{"$f":"IF(AND(D152>=F12,D152<=G12),T12,0)","v":0},{"$f":"IF(AND(D152>=F13,D152<=G13),T13,0)","v":0},{"$f":"IF(AND(D152>=F14,D152<=G14),T14,0)","v":0},{"$f":"IF(AND(D152>=F15,D152<=G15),T15,0)","v":0},{"$f":"IF(AND(D152>=F16,D152<=G16),T16,0)","v":0},0,0,0,1]
[null,null,null,"2022-09-07",{"$f":"IF(D153<=G7,T7,0)","v":0},{"$f":"IF(AND(D153>=F8,D153<=G8),T8,0)","v":0},{"$f":"IF(AND(D153>=F9,D153<=G9),T9,0)","v":0},{"$f":"IF(AND(D153>=F10,D153<=G10),T10,0)","v":0},{"$f":"IF(AND(D153>=F11,D153<=G11),T11,0)","v":0},{"$f":"IF(AND(D153>=F12,D153<=G12),T12,0)","v":0},{"$f":"IF(AND(D153>=F13,D153<=G13),T13,0)","v":0},{"$f":"IF(AND(D153>=F14,D153<=G14),T14,0)","v":0},{"$f":"IF(AND(D153>=F15,D153<=G15),T15,0)","v":0},{"$f":"IF(AND(D153>=F16,D153<=G16),T16,0)","v":0},0,0,0,1]
[null,null,null,"2022-09-08",{"$f":"IF(D154<=G7,T7,0)","v":0},{"$f":"IF(AND(D154>=F8,D154<=G8),T8,0)","v":0},{"$f":"IF(AND(D154>=F9,D154<=G9),T9,0)","v":0},{"$f":"IF(AND(D154>=F10,D154<=G10),T10,0)","v":0},{"$f":"IF(AND(D154>=F11,D154<=G11),T11,0)","v":0},{"$f":"IF(AND(D154>=F12,D154<=G12),T12,0)","v":0},{"$f":"IF(AND(D154>=F13,D154<=G13),T13,0)","v":0},{"$f":"IF(AND(D154>=F14,D154<=G14),T14,0)","v":0},{"$f":"IF(AND(D154>=F15,D154<=G15),T15,0)","v":0},{"$f":"IF(AND(D154>=F16,D154<=G16),T16,0)","v":0},0,0,0,1]
[null,null,null,"2022-09-09",{"$f":"IF(D155<=G7,T7,0)","v":0},{"$f":"IF(AND(D155>=F8,D155<=G8),T8,0)","v":0},{"$f":"IF(AND(D155>=F9,D155<=G9),T9,0)","v":0},{"$f":"IF(AND(D155>=F10,D155<=G10),T10,0)","v":0},{"$f":"IF(AND(D155>=F11,D155<=G11),T11,0)","v":0},{"$f":"IF(AND(D155>=F12,D155<=G12),T12,0)","v":0},{"$f":"IF(AND(D155>=F13,D155<=G13),T13,0)","v":0},{"$f":"IF(AND(D155>=F14,D155<=G14),T14,0)","v":0},{"$f":"IF(AND(D155>=F15,D155<=G15),T15,0)","v":0},{"$f":"IF(AND(D155>=F16,D155<=G16),T16,0)","v":0},0,0,0,1]
[null,null,null,"2022-09-10",{"$f":"IF(D156<=G7,T7,0)","v":0},{"$f":"IF(AND(D156>=F8,D156<=G8),T8,0)","v":0},{"$f":"IF(AND(D156>=F9,D156<=G9),T9,0)","v":0},{"$f":"IF(AND(D156>=F10,D156<=G10),T10,0)","v":0},{"$f":"IF(AND(D156>=F11,D156<=G11),T11,0)","v":0},{"$f":"IF(AND(D156>=F12,D156<=G12),T12,0)","v":0},{"$f":"IF(AND(D156>=F13,D156<=G13),T13,0)","v":0},{"$f":"IF(AND(D156>=F14,D156<=G14),T14,0)","v":0},{"$f":"IF(AND(D156>=F15,D156<=G15),T15,0)","v":0},{"$f":"IF(AND(D156>=F16,D156<=G16),T16,0)","v":0},0,0,0,1]
[null,null,null,"2022-09-11",{"$f":"IF(D157<=G7,T7,0)","v":0},{"$f":"IF(AND(D157>=F8,D157<=G8),T8,0)","v":0},{"$f":"IF(AND(D157>=F9,D157<=G9),T9,0)","v":0},{"$f":"IF(AND(D157>=F10,D157<=G10),T10,0)","v":0},{"$f":"IF(AND(D157>=F11,D157<=G11),T11,0)","v":0},{"$f":"IF(AND(D157>=F12,D157<=G12),T12,0)","v":0},{"$f":"IF(AND(D157>=F13,D157<=G13),T13,0)","v":0},{"$f":"IF(AND(D157>=F14,D157<=G14),T14,0)","v":0},{"$f":"IF(AND(D157>=F15,D157<=G15),T15,0)","v":0},{"$f":"IF(AND(D157>=F16,D157<=G16),T16,0)","v":0},0,0,0,1]
[null,null,null,"2022-09-12",{"$f":"IF(D158<=G7,T7,0)","v":0},{"$f":"IF(AND(D158>=F8,D158<=G8),T8,0)","v":0},{"$f":"IF(AND(D158>=F9,D158<=G9),T9,0)","v":0},{"$f":"IF(AND(D158>=F10,D158<=G10),T10,0)","v":0},{"$f":"IF(AND(D158>=F11,D158<=G11),T11,0)","v":0},{"$f":"IF(AND(D158>=F12,D158<=G12),T12,0)","v":0},{"$f":"IF(AND(D158>=F13,D158<=G13),T13,0)","v":0},{"$f":"IF(AND(D158>=F14,D158<=G14),T14,0)","v":0},{"$f":"IF(AND(D158>=F15,D158<=G15),T15,0)","v":0},{"$f":"IF(AND(D158>=F16,D158<=G16),T16,0)","v":0},0,0,0,1]
[null,null,null,"2022-09-13",{"$f":"IF(D159<=G7,T7,0)","v":0},{"$f":"IF(AND(D159>=F8,D159<=G8),T8,0)","v":0},{"$f":"IF(AND(D159>=F9,D159<=G9),T9,0)","v":0},{"$f":"IF(AND(D159>=F10,D159<=G10),T10,0)","v":0},{"$f":"IF(AND(D159>=F11,D159<=G11),T11,0)","v":0},{"$f":"IF(AND(D159>=F12,D159<=G12),T12,0)","v":0},{"$f":"IF(AND(D159>=F13,D159<=G13),T13,0)","v":0},{"$f":"IF(AND(D159>=F14,D159<=G14),T14,0)","v":0},{"$f":"IF(AND(D159>=F15,D159<=G15),T15,0)","v":0},{"$f":"IF(AND(D159>=F16,D159<=G16),T16,0)","v":0},0,0,0,1]
[null,null,null,"2022-09-14",{"$f":"IF(D160<=G7,T7,0)","v":0},{"$f":"IF(AND(D160>=F8,D160<=G8),T8,0)","v":0},{"$f":"IF(AND(D160>=F9,D160<=G9),T9,0)","v":0},{"$f":"IF(AND(D160>=F10,D160<=G10),T10,0)","v":0},{"$f":"IF(AND(D160>=F11,D160<=G11),T11,0)","v":0},{"$f":"IF(AND(D160>=F12,D160<=G12),T12,0)","v":0},{"$f":"IF(AND(D160>=F13,D160<=G13),T13,0)","v":0},{"$f":"IF(AND(D160>=F14,D160<=G14),T14,0)","v":0},{"$f":"IF(AND(D160>=F15,D160<=G15),T15,0)","v":0},{"$f":"IF(AND(D160>=F16,D160<=G16),T16,0)","v":0},0,0,0,1]
[null,null,null,"2022-09-15",{"$f":"IF(D161<=G7,T7,0)","v":0},{"$f":"IF(AND(D161>=F8,D161<=G8),T8,0)","v":0},{"$f":"IF(AND(D161>=F9,D161<=G9),T9,0)","v":0},{"$f":"IF(AND(D161>=F10,D161<=G10),T10,0)","v":0},{"$f":"IF(AND(D161>=F11,D161<=G11),T11,0)","v":0},{"$f":"IF(AND(D161>=F12,D161<=G12),T12,0)","v":0},{"$f":"IF(AND(D161>=F13,D161<=G13),T13,0)","v":0},{"$f":"IF(AND(D161>=F14,D161<=G14),T14,0)","v":0},{"$f":"IF(AND(D161>=F15,D161<=G15),T15,0)","v":0},{"$f":"IF(AND(D161>=F16,D161<=G16),T16,0)","v":0},0,0,0,1]
[null,null,null,"2022-09-16",{"$f":"IF(D162<=G7,T7,0)","v":0},{"$f":"IF(AND(D162>=F8,D162<=G8),T8,0)","v":0},{"$f":"IF(AND(D162>=F9,D162<=G9),T9,0)","v":0},{"$f":"IF(AND(D162>=F10,D162<=G10),T10,0)","v":0},{"$f":"IF(AND(D162>=F11,D162<=G11),T11,0)","v":0},{"$f":"IF(AND(D162>=F12,D162<=G12),T12,0)","v":0},{"$f":"IF(AND(D162>=F13,D162<=G13),T13,0)","v":0},{"$f":"IF(AND(D162>=F14,D162<=G14),T14,0)","v":0},{"$f":"IF(AND(D162>=F15,D162<=G15),T15,0)","v":0},{"$f":"IF(AND(D162>=F16,D162<=G16),T16,0)","v":0},0,0,0,1]
[null,null,null,"2022-09-17",{"$f":"IF(D163<=G7,T7,0)","v":0},{"$f":"IF(AND(D163>=F8,D163<=G8),T8,0)","v":0},{"$f":"IF(AND(D163>=F9,D163<=G9),T9,0)","v":0},{"$f":"IF(AND(D163>=F10,D163<=G10),T10,0)","v":0},{"$f":"IF(AND(D163>=F11,D163<=G11),T11,0)","v":0},{"$f":"IF(AND(D163>=F12,D163<=G12),T12,0)","v":0},{"$f":"IF(AND(D163>=F13,D163<=G13),T13,0)","v":0},{"$f":"IF(AND(D163>=F14,D163<=G14),T14,0)","v":0},{"$f":"IF(AND(D163>=F15,D163<=G15),T15,0)","v":0},{"$f":"IF(AND(D163>=F16,D163<=G16),T16,0)","v":0},0,0,0,1]
[null,null,null,"2022-09-18",{"$f":"IF(D164<=G7,T7,0)","v":0},{"$f":"IF(AND(D164>=F8,D164<=G8),T8,0)","v":0},{"$f":"IF(AND(D164>=F9,D164<=G9),T9,0)","v":0},{"$f":"IF(AND(D164>=F10,D164<=G10),T10,0)","v":0},{"$f":"IF(AND(D164>=F11,D164<=G11),T11,0)","v":0},{"$f":"IF(AND(D164>=F12,D164<=G12),T12,0)","v":0},{"$f":"IF(AND(D164>=F13,D164<=G13),T13,0)","v":0},{"$f":"IF(AND(D164>=F14,D164<=G14),T14,0)","v":0},{"$f":"IF(AND(D164>=F15,D164<=G15),T15,0)","v":0},{"$f":"IF(AND(D164>=F16,D164<=G16),T16,0)","v":0},0,0,0,1]
[null,null,null,"2022-09-19",{"$f":"IF(D165<=G7,T7,0)","v":0},{"$f":"IF(AND(D165>=F8,D165<=G8),T8,0)","v":0},{"$f":"IF(AND(D165>=F9,D165<=G9),T9,0)","v":0},{"$f":"IF(AND(D165>=F10,D165<=G10),T10,0)","v":0},{"$f":"IF(AND(D165>=F11,D165<=G11),T11,0)","v":0},{"$f":"IF(AND(D165>=F12,D165<=G12),T12,0)","v":0},{"$f":"IF(AND(D165>=F13,D165<=G13),T13,0)","v":0},{"$f":"IF(AND(D165>=F14,D165<=G14),T14,0)","v":0},{"$f":"IF(AND(D165>=F15,D165<=G15),T15,0)","v":0},{"$f":"IF(AND(D165>=F16,D165<=G16),T16,0)","v":0},0,0,0,1]
[null,null,null,"2022-09-20",{"$f":"IF(D166<=G7,T7,0)","v":0},{"$f":"IF(AND(D166>=F8,D166<=G8),T8,0)","v":0},{"$f":"IF(AND(D166>=F9,D166<=G9),T9,0)","v":0},{"$f":"IF(AND(D166>=F10,D166<=G10),T10,0)","v":0},{"$f":"IF(AND(D166>=F11,D166<=G11),T11,0)","v":0},{"$f":"IF(AND(D166>=F12,D166<=G12),T12,0)","v":0},{"$f":"IF(AND(D166>=F13,D166<=G13),T13,0)","v":0},{"$f":"IF(AND(D166>=F14,D166<=G14),T14,0)","v":0},{"$f":"IF(AND(D166>=F15,D166<=G15),T15,0)","v":0},{"$f":"IF(AND(D166>=F16,D166<=G16),T16,0)","v":0},0,0,0,1]
[null,null,null,"2022-09-21",{"$f":"IF(D167<=G7,T7,0)","v":0},{"$f":"IF(AND(D167>=F8,D167<=G8),T8,0)","v":0},{"$f":"IF(AND(D167>=F9,D167<=G9),T9,0)","v":0},{"$f":"IF(AND(D167>=F10,D167<=G10),T10,0)","v":0},{"$f":"IF(AND(D167>=F11,D167<=G11),T11,0)","v":0},{"$f":"IF(AND(D167>=F12,D167<=G12),T12,0)","v":0},{"$f":"IF(AND(D167>=F13,D167<=G13),T13,0)","v":0},{"$f":"IF(AND(D167>=F14,D167<=G14),T14,0)","v":0},{"$f":"IF(AND(D167>=F15,D167<=G15),T15,0)","v":0},{"$f":"IF(AND(D167>=F16,D167<=G16),T16,0)","v":0},0,0,0,1]
[null,null,null,"2022-09-22",{"$f":"IF(D168<=G7,T7,0)","v":0},{"$f":"IF(AND(D168>=F8,D168<=G8),T8,0)","v":0},{"$f":"IF(AND(D168>=F9,D168<=G9),T9,0)","v":0},{"$f":"IF(AND(D168>=F10,D168<=G10),T10,0)","v":0},{"$f":"IF(AND(D168>=F11,D168<=G11),T11,0)","v":0},{"$f":"IF(AND(D168>=F12,D168<=G12),T12,0)","v":0},{"$f":"IF(AND(D168>=F13,D168<=G13),T13,0)","v":0},{"$f":"IF(AND(D168>=F14,D168<=G14),T14,0)","v":0},{"$f":"IF(AND(D168>=F15,D168<=G15),T15,0)","v":0},{"$f":"IF(AND(D168>=F16,D168<=G16),T16,0)","v":0},0,0,0,1]
[null,null,null,"2022-09-23",{"$f":"IF(D169<=G7,T7,0)","v":0},{"$f":"IF(AND(D169>=F8,D169<=G8),T8,0)","v":0},{"$f":"IF(AND(D169>=F9,D169<=G9),T9,0)","v":0},{"$f":"IF(AND(D169>=F10,D169<=G10),T10,0)","v":0},{"$f":"IF(AND(D169>=F11,D169<=G11),T11,0)","v":0},{"$f":"IF(AND(D169>=F12,D169<=G12),T12,0)","v":0},{"$f":"IF(AND(D169>=F13,D169<=G13),T13,0)","v":0},{"$f":"IF(AND(D169>=F14,D169<=G14),T14,0)","v":0},{"$f":"IF(AND(D169>=F15,D169<=G15),T15,0)","v":0},{"$f":"IF(AND(D169>=F16,D169<=G16),T16,0)","v":0},0,0,0,1]
[null,null,null,"2022-09-24",{"$f":"IF(D170<=G7,T7,0)","v":0},{"$f":"IF(AND(D170>=F8,D170<=G8),T8,0)","v":0},{"$f":"IF(AND(D170>=F9,D170<=G9),T9,0)","v":0},{"$f":"IF(AND(D170>=F10,D170<=G10),T10,0)","v":0},{"$f":"IF(AND(D170>=F11,D170<=G11),T11,0)","v":0},{"$f":"IF(AND(D170>=F12,D170<=G12),T12,0)","v":0},{"$f":"IF(AND(D170>=F13,D170<=G13),T13,0)","v":0},{"$f":"IF(AND(D170>=F14,D170<=G14),T14,0)","v":0},{"$f":"IF(AND(D170>=F15,D170<=G15),T15,0)","v":0},{"$f":"IF(AND(D170>=F16,D170<=G16),T16,0)","v":0},0,0,0,1]
[null,null,null,"2022-09-25",{"$f":"IF(D171<=G7,T7,0)","v":0},{"$f":"IF(AND(D171>=F8,D171<=G8),T8,0)","v":0},{"$f":"IF(AND(D171>=F9,D171<=G9),T9,0)","v":0},{"$f":"IF(AND(D171>=F10,D171<=G10),T10,0)","v":0},{"$f":"IF(AND(D171>=F11,D171<=G11),T11,0)","v":0},{"$f":"IF(AND(D171>=F12,D171<=G12),T12,0)","v":0},{"$f":"IF(AND(D171>=F13,D171<=G13),T13,0)","v":0},{"$f":"IF(AND(D171>=F14,D171<=G14),T14,0)","v":0},{"$f":"IF(AND(D171>=F15,D171<=G15),T15,0)","v":0},{"$f":"IF(AND(D171>=F16,D171<=G16),T16,0)","v":0},0,0,0,1]
[null,null,null,"2022-09-26",{"$f":"IF(D172<=G7,T7,0)","v":0},{"$f":"IF(AND(D172>=F8,D172<=G8),T8,0)","v":0},{"$f":"IF(AND(D172>=F9,D172<=G9),T9,0)","v":0},{"$f":"IF(AND(D172>=F10,D172<=G10),T10,0)","v":0},{"$f":"IF(AND(D172>=F11,D172<=G11),T11,0)","v":0},{"$f":"IF(AND(D172>=F12,D172<=G12),T12,0)","v":0},{"$f":"IF(AND(D172>=F13,D172<=G13),T13,0)","v":0},{"$f":"IF(AND(D172>=F14,D172<=G14),T14,0)","v":0},{"$f":"IF(AND(D172>=F15,D172<=G15),T15,0)","v":0},{"$f":"IF(AND(D172>=F16,D172<=G16),T16,0)","v":0},0,0,0,1]
[null,null,null,"2022-09-27",{"$f":"IF(D173<=G7,T7,0)","v":0},{"$f":"IF(AND(D173>=F8,D173<=G8),T8,0)","v":0},{"$f":"IF(AND(D173>=F9,D173<=G9),T9,0)","v":0},{"$f":"IF(AND(D173>=F10,D173<=G10),T10,0)","v":0},{"$f":"IF(AND(D173>=F11,D173<=G11),T11,0)","v":0},{"$f":"IF(AND(D173>=F12,D173<=G12),T12,0)","v":0},{"$f":"IF(AND(D173>=F13,D173<=G13),T13,0)","v":0},{"$f":"IF(AND(D173>=F14,D173<=G14),T14,0)","v":0},{"$f":"IF(AND(D173>=F15,D173<=G15),T15,0)","v":0},{"$f":"IF(AND(D173>=F16,D173<=G16),T16,0)","v":0},0,0,0,1]
[null,null,null,"2022-09-28",{"$f":"IF(D174<=G7,T7,0)","v":0},{"$f":"IF(AND(D174>=F8,D174<=G8),T8,0)","v":0},{"$f":"IF(AND(D174>=F9,D174<=G9),T9,0)","v":0},{"$f":"IF(AND(D174>=F10,D174<=G10),T10,0)","v":0},{"$f":"IF(AND(D174>=F11,D174<=G11),T11,0)","v":0},{"$f":"IF(AND(D174>=F12,D174<=G12),T12,0)","v":0},{"$f":"IF(AND(D174>=F13,D174<=G13),T13,0)","v":0},{"$f":"IF(AND(D174>=F14,D174<=G14),T14,0)","v":0},{"$f":"IF(AND(D174>=F15,D174<=G15),T15,0)","v":0},{"$f":"IF(AND(D174>=F16,D174<=G16),T16,0)","v":0},0,0,0,1]
[null,null,null,"2022-09-29",{"$f":"IF(D175<=G7,T7,0)","v":0},{"$f":"IF(AND(D175>=F8,D175<=G8),T8,0)","v":0},{"$f":"IF(AND(D175>=F9,D175<=G9),T9,0)","v":0},{"$f":"IF(AND(D175>=F10,D175<=G10),T10,0)","v":0},{"$f":"IF(AND(D175>=F11,D175<=G11),T11,0)","v":0},{"$f":"IF(AND(D175>=F12,D175<=G12),T12,0)","v":0},{"$f":"IF(AND(D175>=F13,D175<=G13),T13,0)","v":0},{"$f":"IF(AND(D175>=F14,D175<=G14),T14,0)","v":0},{"$f":"IF(AND(D175>=F15,D175<=G15),T15,0)","v":0},{"$f":"IF(AND(D175>=F16,D175<=G16),T16,0)","v":0},0,0,0,1]
[null,null,null,"2022-09-30",{"$f":"IF(D176<=G7,T7,0)","v":0},{"$f":"IF(AND(D176>=F8,D176<=G8),T8,0)","v":0},{"$f":"IF(AND(D176>=F9,D176<=G9),T9,0)","v":0},{"$f":"IF(AND(D176>=F10,D176<=G10),T10,0)","v":0},{"$f":"IF(AND(D176>=F11,D176<=G11),T11,0)","v":0},{"$f":"IF(AND(D176>=F12,D176<=G12),T12,0)","v":0},{"$f":"IF(AND(D176>=F13,D176<=G13),T13,0)","v":0},{"$f":"IF(AND(D176>=F14,D176<=G14),T14,0)","v":0},{"$f":"IF(AND(D176>=F15,D176<=G15),T15,0)","v":0},{"$f":"IF(AND(D176>=F16,D176<=G16),T16,0)","v":0},0,0,0,1]
[null,null,null,"2022-10-02",{"$f":"IF(D177<=G7,T7,0)","v":0},{"$f":"IF(AND(D177>=F8,D177<=G8),T8,0)","v":0},{"$f":"IF(AND(D177>=F9,D177<=G9),T9,0)","v":0},{"$f":"IF(AND(D177>=F10,D177<=G10),T10,0)","v":0},{"$f":"IF(AND(D177>=F11,D177<=G11),T11,0)","v":0},{"$f":"IF(AND(D177>=F12,D177<=G12),T12,0)","v":0},{"$f":"IF(AND(D177>=F13,D177<=G13),T13,0)","v":0},{"$f":"IF(AND(D177>=F14,D177<=G14),T14,0)","v":0},{"$f":"IF(AND(D177>=F15,D177<=G15),T15,0)","v":0},{"$f":"IF(AND(D177>=F16,D177<=G16),T16,0)","v":0},0,0,0,1]
[null,null,null,"2022-10-03",{"$f":"IF(D178<=G7,T7,0)","v":0},{"$f":"IF(AND(D178>=F8,D178<=G8),T8,0)","v":0},{"$f":"IF(AND(D178>=F9,D178<=G9),T9,0)","v":0},{"$f":"IF(AND(D178>=F10,D178<=G10),T10,0)","v":0},{"$f":"IF(AND(D178>=F11,D178<=G11),T11,0)","v":0},{"$f":"IF(AND(D178>=F12,D178<=G12),T12,0)","v":0},{"$f":"IF(AND(D178>=F13,D178<=G13),T13,0)","v":0},{"$f":"IF(AND(D178>=F14,D178<=G14),T14,0)","v":0},{"$f":"IF(AND(D178>=F15,D178<=G15),T15,0)","v":0},{"$f":"IF(AND(D178>=F16,D178<=G16),T16,0)","v":0},0,{"$f":"IF(O178>=1,1,O178)","v":0},0,1]
[null,null,null,{"$f":"IF(DAY(D178)+1=31, D178+2, D178+1)","v":"2022-10-04"},{"$f":"IF(D179<=G7,T7,0)","v":0},{"$f":"IF(AND(D179>=F8,D179<=G8),T8,0)","v":0},{"$f":"IF(AND(D179>=F9,D179<=G9),T9,0)","v":0},{"$f":"IF(AND(D179>=F10,D179<=G10),T10,0)","v":0},{"$f":"IF(AND(D179>=F11,D179<=G11),T11,0)","v":0},{"$f":"IF(AND(D179>=F12,D179<=G12),T12,0)","v":0},{"$f":"IF(AND(D179>=F13,D179<=G13),T13,0)","v":0},{"$f":"IF(AND(D179>=F14,D179<=G14),T14,0)","v":0},{"$f":"IF(AND(D179>=F15,D179<=G15),T15,0)","v":0},{"$f":"IF(AND(D179>=F16,D179<=G16),T16,0)","v":0},0,0,0,{"$f":"SUM(Q178,R178)","v":1}]
[null,null,null,"2022-10-05",{"$f":"IF(D180<=G7,T7,0)","v":0},{"$f":"IF(AND(D180>=F8,D180<=G8),T8,0)","v":0},{"$f":"IF(AND(D180>=F9,D180<=G9),T9,0)","v":0},{"$f":"IF(AND(D180>=F10,D180<=G10),T10,0)","v":0},{"$f":"IF(AND(D180>=F11,D180<=G11),T11,0)","v":0},{"$f":"IF(AND(D180>=F12,D180<=G12),T12,0)","v":0},{"$f":"IF(AND(D180>=F13,D180<=G13),T13,0)","v":0},{"$f":"IF(AND(D180>=F14,D180<=G14),T14,0)","v":0},{"$f":"IF(AND(D180>=F15,D180<=G15),T15,0)","v":0},{"$f":"IF(AND(D180>=F16,D180<=G16),T16,0)","v":0},{"$f":"IF(AND(SUM(E180:N180)>0,SUM(E180:N180)<1),1,TRUNC(SUM(E180:N180),0))","v":0},0,0,1]
[null,null,null,"2022-10-06",{"$f":"IF(D181<=G7,T7,0)","v":0},{"$f":"IF(AND(D181>=F8,D181<=G8),T8,0)","v":0},{"$f":"IF(AND(D181>=F9,D181<=G9),T9,0)","v":0},{"$f":"IF(AND(D181>=F10,D181<=G10),T10,0)","v":0},{"$f":"IF(AND(D181>=F11,D181<=G11),T11,0)","v":0},{"$f":"IF(AND(D181>=F12,D181<=G12),T12,0)","v":0},{"$f":"IF(AND(D181>=F13,D181<=G13),T13,0)","v":0},{"$f":"IF(AND(D181>=F14,D181<=G14),T14,0)","v":0},{"$f":"IF(AND(D181>=F15,D181<=G15),T15,0)","v":0},{"$f":"IF(AND(D181>=F16,D181<=G16),T16,0)","v":0},0,0,{"$f":"IF(O180=O181,0,1)","v":0},1]
[null,null,null,"2022-10-07",{"$f":"IF(D182<=G7,T7,0)","v":0},{"$f":"IF(AND(D182>=F8,D182<=G8),T8,0)","v":0},{"$f":"IF(AND(D182>=F9,D182<=G9),T9,0)","v":0},{"$f":"IF(AND(D182>=F10,D182<=G10),T10,0)","v":0},{"$f":"IF(AND(D182>=F11,D182<=G11),T11,0)","v":0},{"$f":"IF(AND(D182>=F12,D182<=G12),T12,0)","v":0},{"$f":"IF(AND(D182>=F13,D182<=G13),T13,0)","v":0},{"$f":"IF(AND(D182>=F14,D182<=G14),T14,0)","v":0},{"$f":"IF(AND(D182>=F15,D182<=G15),T15,0)","v":0},{"$f":"IF(AND(D182>=F16,D182<=G16),T16,0)","v":0},0,0,0,1]
[null,null,null,"2022-10-08",{"$f":"IF(D183<=G7,T7,0)","v":0},{"$f":"IF(AND(D183>=F8,D183<=G8),T8,0)","v":0},{"$f":"IF(AND(D183>=F9,D183<=G9),T9,0)","v":0},{"$f":"IF(AND(D183>=F10,D183<=G10),T10,0)","v":0},{"$f":"IF(AND(D183>=F11,D183<=G11),T11,0)","v":0},{"$f":"IF(AND(D183>=F12,D183<=G12),T12,0)","v":0},{"$f":"IF(AND(D183>=F13,D183<=G13),T13,0)","v":0},{"$f":"IF(AND(D183>=F14,D183<=G14),T14,0)","v":0},{"$f":"IF(AND(D183>=F15,D183<=G15),T15,0)","v":0},{"$f":"IF(AND(D183>=F16,D183<=G16),T16,0)","v":0},0,0,0,1]
[null,null,null,"2022-10-09",{"$f":"IF(D184<=G7,T7,0)","v":0},{"$f":"IF(AND(D184>=F8,D184<=G8),T8,0)","v":0},{"$f":"IF(AND(D184>=F9,D184<=G9),T9,0)","v":0},{"$f":"IF(AND(D184>=F10,D184<=G10),T10,0)","v":0},{"$f":"IF(AND(D184>=F11,D184<=G11),T11,0)","v":0},{"$f":"IF(AND(D184>=F12,D184<=G12),T12,0)","v":0},{"$f":"IF(AND(D184>=F13,D184<=G13),T13,0)","v":0},{"$f":"IF(AND(D184>=F14,D184<=G14),T14,0)","v":0},{"$f":"IF(AND(D184>=F15,D184<=G15),T15,0)","v":0},{"$f":"IF(AND(D184>=F16,D184<=G16),T16,0)","v":0},0,0,0,1]
[null,null,null,"2022-10-10",{"$f":"IF(D185<=G7,T7,0)","v":0},{"$f":"IF(AND(D185>=F8,D185<=G8),T8,0)","v":0},{"$f":"IF(AND(D185>=F9,D185<=G9),T9,0)","v":0},{"$f":"IF(AND(D185>=F10,D185<=G10),T10,0)","v":0},{"$f":"IF(AND(D185>=F11,D185<=G11),T11,0)","v":0},{"$f":"IF(AND(D185>=F12,D185<=G12),T12,0)","v":0},{"$f":"IF(AND(D185>=F13,D185<=G13),T13,0)","v":0},{"$f":"IF(AND(D185>=F14,D185<=G14),T14,0)","v":0},{"$f":"IF(AND(D185>=F15,D185<=G15),T15,0)","v":0},{"$f":"IF(AND(D185>=F16,D185<=G16),T16,0)","v":0},0,0,0,1]
[null,null,null,"2022-10-11",{"$f":"IF(D186<=G7,T7,0)","v":0},{"$f":"IF(AND(D186>=F8,D186<=G8),T8,0)","v":0},{"$f":"IF(AND(D186>=F9,D186<=G9),T9,0)","v":0},{"$f":"IF(AND(D186>=F10,D186<=G10),T10,0)","v":0},{"$f":"IF(AND(D186>=F11,D186<=G11),T11,0)","v":0},{"$f":"IF(AND(D186>=F12,D186<=G12),T12,0)","v":0},{"$f":"IF(AND(D186>=F13,D186<=G13),T13,0)","v":0},{"$f":"IF(AND(D186>=F14,D186<=G14),T14,0)","v":0},{"$f":"IF(AND(D186>=F15,D186<=G15),T15,0)","v":0},{"$f":"IF(AND(D186>=F16,D186<=G16),T16,0)","v":0},0,0,0,1]
[null,null,null,"2022-10-12",{"$f":"IF(D187<=G7,T7,0)","v":0},{"$f":"IF(AND(D187>=F8,D187<=G8),T8,0)","v":0},{"$f":"IF(AND(D187>=F9,D187<=G9),T9,0)","v":0},{"$f":"IF(AND(D187>=F10,D187<=G10),T10,0)","v":0},{"$f":"IF(AND(D187>=F11,D187<=G11),T11,0)","v":0},{"$f":"IF(AND(D187>=F12,D187<=G12),T12,0)","v":0},{"$f":"IF(AND(D187>=F13,D187<=G13),T13,0)","v":0},{"$f":"IF(AND(D187>=F14,D187<=G14),T14,0)","v":0},{"$f":"IF(AND(D187>=F15,D187<=G15),T15,0)","v":0},{"$f":"IF(AND(D187>=F16,D187<=G16),T16,0)","v":0},0,0,0,1]
[null,null,null,"2022-10-13",{"$f":"IF(D188<=G7,T7,0)","v":0},{"$f":"IF(AND(D188>=F8,D188<=G8),T8,0)","v":0},{"$f":"IF(AND(D188>=F9,D188<=G9),T9,0)","v":0},{"$f":"IF(AND(D188>=F10,D188<=G10),T10,0)","v":0},{"$f":"IF(AND(D188>=F11,D188<=G11),T11,0)","v":0},{"$f":"IF(AND(D188>=F12,D188<=G12),T12,0)","v":0},{"$f":"IF(AND(D188>=F13,D188<=G13),T13,0)","v":0},{"$f":"IF(AND(D188>=F14,D188<=G14),T14,0)","v":0},{"$f":"IF(AND(D188>=F15,D188<=G15),T15,0)","v":0},{"$f":"IF(AND(D188>=F16,D188<=G16),T16,0)","v":0},0,0,0,1]
[null,null,null,"2022-10-14",{"$f":"IF(D189<=G7,T7,0)","v":0},{"$f":"IF(AND(D189>=F8,D189<=G8),T8,0)","v":0},{"$f":"IF(AND(D189>=F9,D189<=G9),T9,0)","v":0},{"$f":"IF(AND(D189>=F10,D189<=G10),T10,0)","v":0},{"$f":"IF(AND(D189>=F11,D189<=G11),T11,0)","v":0},{"$f":"IF(AND(D189>=F12,D189<=G12),T12,0)","v":0},{"$f":"IF(AND(D189>=F13,D189<=G13),T13,0)","v":0},{"$f":"IF(AND(D189>=F14,D189<=G14),T14,0)","v":0},{"$f":"IF(AND(D189>=F15,D189<=G15),T15,0)","v":0},{"$f":"IF(AND(D189>=F16,D189<=G16),T16,0)","v":0},0,0,0,1]
[null,null,null,"2022-10-15",{"$f":"IF(D190<=G7,T7,0)","v":0},{"$f":"IF(AND(D190>=F8,D190<=G8),T8,0)","v":0},{"$f":"IF(AND(D190>=F9,D190<=G9),T9,0)","v":0},{"$f":"IF(AND(D190>=F10,D190<=G10),T10,0)","v":0},{"$f":"IF(AND(D190>=F11,D190<=G11),T11,0)","v":0},{"$f":"IF(AND(D190>=F12,D190<=G12),T12,0)","v":0},{"$f":"IF(AND(D190>=F13,D190<=G13),T13,0)","v":0},{"$f":"IF(AND(D190>=F14,D190<=G14),T14,0)","v":0},{"$f":"IF(AND(D190>=F15,D190<=G15),T15,0)","v":0},{"$f":"IF(AND(D190>=F16,D190<=G16),T16,0)","v":0},0,0,0,1]
[null,null,null,"2022-10-16",{"$f":"IF(D191<=G7,T7,0)","v":0},{"$f":"IF(AND(D191>=F8,D191<=G8),T8,0)","v":0},{"$f":"IF(AND(D191>=F9,D191<=G9),T9,0)","v":0},{"$f":"IF(AND(D191>=F10,D191<=G10),T10,0)","v":0},{"$f":"IF(AND(D191>=F11,D191<=G11),T11,0)","v":0},{"$f":"IF(AND(D191>=F12,D191<=G12),T12,0)","v":0},{"$f":"IF(AND(D191>=F13,D191<=G13),T13,0)","v":0},{"$f":"IF(AND(D191>=F14,D191<=G14),T14,0)","v":0},{"$f":"IF(AND(D191>=F15,D191<=G15),T15,0)","v":0},{"$f":"IF(AND(D191>=F16,D191<=G16),T16,0)","v":0},0,0,0,1]
[null,null,null,"2022-10-17",{"$f":"IF(D192<=G7,T7,0)","v":0},{"$f":"IF(AND(D192>=F8,D192<=G8),T8,0)","v":0},{"$f":"IF(AND(D192>=F9,D192<=G9),T9,0)","v":0},{"$f":"IF(AND(D192>=F10,D192<=G10),T10,0)","v":0},{"$f":"IF(AND(D192>=F11,D192<=G11),T11,0)","v":0},{"$f":"IF(AND(D192>=F12,D192<=G12),T12,0)","v":0},{"$f":"IF(AND(D192>=F13,D192<=G13),T13,0)","v":0},{"$f":"IF(AND(D192>=F14,D192<=G14),T14,0)","v":0},{"$f":"IF(AND(D192>=F15,D192<=G15),T15,0)","v":0},{"$f":"IF(AND(D192>=F16,D192<=G16),T16,0)","v":0},0,0,0,1]
[null,null,null,"2022-10-18",{"$f":"IF(D193<=G7,T7,0)","v":0},{"$f":"IF(AND(D193>=F8,D193<=G8),T8,0)","v":0},{"$f":"IF(AND(D193>=F9,D193<=G9),T9,0)","v":0},{"$f":"IF(AND(D193>=F10,D193<=G10),T10,0)","v":0},{"$f":"IF(AND(D193>=F11,D193<=G11),T11,0)","v":0},{"$f":"IF(AND(D193>=F12,D193<=G12),T12,0)","v":0},{"$f":"IF(AND(D193>=F13,D193<=G13),T13,0)","v":0},{"$f":"IF(AND(D193>=F14,D193<=G14),T14,0)","v":0},{"$f":"IF(AND(D193>=F15,D193<=G15),T15,0)","v":0},{"$f":"IF(AND(D193>=F16,D193<=G16),T16,0)","v":0},0,0,0,1]
[null,null,null,"2022-10-19",{"$f":"IF(D194<=G7,T7,0)","v":0},{"$f":"IF(AND(D194>=F8,D194<=G8),T8,0)","v":0},{"$f":"IF(AND(D194>=F9,D194<=G9),T9,0)","v":0},{"$f":"IF(AND(D194>=F10,D194<=G10),T10,0)","v":0},{"$f":"IF(AND(D194>=F11,D194<=G11),T11,0)","v":0},{"$f":"IF(AND(D194>=F12,D194<=G12),T12,0)","v":0},{"$f":"IF(AND(D194>=F13,D194<=G13),T13,0)","v":0},{"$f":"IF(AND(D194>=F14,D194<=G14),T14,0)","v":0},{"$f":"IF(AND(D194>=F15,D194<=G15),T15,0)","v":0},{"$f":"IF(AND(D194>=F16,D194<=G16),T16,0)","v":0},0,0,0,1]
[null,null,null,"2022-10-20",{"$f":"IF(D195<=G7,T7,0)","v":0},{"$f":"IF(AND(D195>=F8,D195<=G8),T8,0)","v":0},{"$f":"IF(AND(D195>=F9,D195<=G9),T9,0)","v":0},{"$f":"IF(AND(D195>=F10,D195<=G10),T10,0)","v":0},{"$f":"IF(AND(D195>=F11,D195<=G11),T11,0)","v":0},{"$f":"IF(AND(D195>=F12,D195<=G12),T12,0)","v":0},{"$f":"IF(AND(D195>=F13,D195<=G13),T13,0)","v":0},{"$f":"IF(AND(D195>=F14,D195<=G14),T14,0)","v":0},{"$f":"IF(AND(D195>=F15,D195<=G15),T15,0)","v":0},{"$f":"IF(AND(D195>=F16,D195<=G16),T16,0)","v":0},0,0,0,1]
[null,null,null,"2022-10-21",{"$f":"IF(D196<=G7,T7,0)","v":0},{"$f":"IF(AND(D196>=F8,D196<=G8),T8,0)","v":0},{"$f":"IF(AND(D196>=F9,D196<=G9),T9,0)","v":0},{"$f":"IF(AND(D196>=F10,D196<=G10),T10,0)","v":0},{"$f":"IF(AND(D196>=F11,D196<=G11),T11,0)","v":0},{"$f":"IF(AND(D196>=F12,D196<=G12),T12,0)","v":0},{"$f":"IF(AND(D196>=F13,D196<=G13),T13,0)","v":0},{"$f":"IF(AND(D196>=F14,D196<=G14),T14,0)","v":0},{"$f":"IF(AND(D196>=F15,D196<=G15),T15,0)","v":0},{"$f":"IF(AND(D196>=F16,D196<=G16),T16,0)","v":0},0,0,0,1]
[null,null,null,"2022-10-22",{"$f":"IF(D197<=G7,T7,0)","v":0},{"$f":"IF(AND(D197>=F8,D197<=G8),T8,0)","v":0},{"$f":"IF(AND(D197>=F9,D197<=G9),T9,0)","v":0},{"$f":"IF(AND(D197>=F10,D197<=G10),T10,0)","v":0},{"$f":"IF(AND(D197>=F11,D197<=G11),T11,0)","v":0},{"$f":"IF(AND(D197>=F12,D197<=G12),T12,0)","v":0},{"$f":"IF(AND(D197>=F13,D197<=G13),T13,0)","v":0},{"$f":"IF(AND(D197>=F14,D197<=G14),T14,0)","v":0},{"$f":"IF(AND(D197>=F15,D197<=G15),T15,0)","v":0},{"$f":"IF(AND(D197>=F16,D197<=G16),T16,0)","v":0},0,0,0,1]
[null,null,null,"2022-10-23",{"$f":"IF(D198<=G7,T7,0)","v":0},{"$f":"IF(AND(D198>=F8,D198<=G8),T8,0)","v":0},{"$f":"IF(AND(D198>=F9,D198<=G9),T9,0)","v":0},{"$f":"IF(AND(D198>=F10,D198<=G10),T10,0)","v":0},{"$f":"IF(AND(D198>=F11,D198<=G11),T11,0)","v":0},{"$f":"IF(AND(D198>=F12,D198<=G12),T12,0)","v":0},{"$f":"IF(AND(D198>=F13,D198<=G13),T13,0)","v":0},{"$f":"IF(AND(D198>=F14,D198<=G14),T14,0)","v":0},{"$f":"IF(AND(D198>=F15,D198<=G15),T15,0)","v":0},{"$f":"IF(AND(D198>=F16,D198<=G16),T16,0)","v":0},0,0,0,1]
[null,null,null,"2022-10-24",{"$f":"IF(D199<=G7,T7,0)","v":0},{"$f":"IF(AND(D199>=F8,D199<=G8),T8,0)","v":0},{"$f":"IF(AND(D199>=F9,D199<=G9),T9,0)","v":0},{"$f":"IF(AND(D199>=F10,D199<=G10),T10,0)","v":0},{"$f":"IF(AND(D199>=F11,D199<=G11),T11,0)","v":0},{"$f":"IF(AND(D199>=F12,D199<=G12),T12,0)","v":0},{"$f":"IF(AND(D199>=F13,D199<=G13),T13,0)","v":0},{"$f":"IF(AND(D199>=F14,D199<=G14),T14,0)","v":0},{"$f":"IF(AND(D199>=F15,D199<=G15),T15,0)","v":0},{"$f":"IF(AND(D199>=F16,D199<=G16),T16,0)","v":0},0,0,0,1]
[null,null,null,"2022-10-25",{"$f":"IF(D200<=G7,T7,0)","v":0},{"$f":"IF(AND(D200>=F8,D200<=G8),T8,0)","v":0},{"$f":"IF(AND(D200>=F9,D200<=G9),T9,0)","v":0},{"$f":"IF(AND(D200>=F10,D200<=G10),T10,0)","v":0},{"$f":"IF(AND(D200>=F11,D200<=G11),T11,0)","v":0},{"$f":"IF(AND(D200>=F12,D200<=G12),T12,0)","v":0},{"$f":"IF(AND(D200>=F13,D200<=G13),T13,0)","v":0},{"$f":"IF(AND(D200>=F14,D200<=G14),T14,0)","v":0},{"$f":"IF(AND(D200>=F15,D200<=G15),T15,0)","v":0},{"$f":"IF(AND(D200>=F16,D200<=G16),T16,0)","v":0},0,0,0,1]
[null,null,null,"2022-10-26",{"$f":"IF(D201<=G7,T7,0)","v":0},{"$f":"IF(AND(D201>=F8,D201<=G8),T8,0)","v":0},{"$f":"IF(AND(D201>=F9,D201<=G9),T9,0)","v":0},{"$f":"IF(AND(D201>=F10,D201<=G10),T10,0)","v":0},{"$f":"IF(AND(D201>=F11,D201<=G11),T11,0)","v":0},{"$f":"IF(AND(D201>=F12,D201<=G12),T12,0)","v":0},{"$f":"IF(AND(D201>=F13,D201<=G13),T13,0)","v":0},{"$f":"IF(AND(D201>=F14,D201<=G14),T14,0)","v":0},{"$f":"IF(AND(D201>=F15,D201<=G15),T15,0)","v":0},{"$f":"IF(AND(D201>=F16,D201<=G16),T16,0)","v":0},0,0,0,1]
[null,null,null,"2022-10-27",{"$f":"IF(D202<=G7,T7,0)","v":0},{"$f":"IF(AND(D202>=F8,D202<=G8),T8,0)","v":0},{"$f":"IF(AND(D202>=F9,D202<=G9),T9,0)","v":0},{"$f":"IF(AND(D202>=F10,D202<=G10),T10,0)","v":0},{"$f":"IF(AND(D202>=F11,D202<=G11),T11,0)","v":0},{"$f":"IF(AND(D202>=F12,D202<=G12),T12,0)","v":0},{"$f":"IF(AND(D202>=F13,D202<=G13),T13,0)","v":0},{"$f":"IF(AND(D202>=F14,D202<=G14),T14,0)","v":0},{"$f":"IF(AND(D202>=F15,D202<=G15),T15,0)","v":0},{"$f":"IF(AND(D202>=F16,D202<=G16),T16,0)","v":0},0,0,0,1]
[null,null,null,"2022-10-28",{"$f":"IF(D203<=G7,T7,0)","v":0},{"$f":"IF(AND(D203>=F8,D203<=G8),T8,0)","v":0},{"$f":"IF(AND(D203>=F9,D203<=G9),T9,0)","v":0},{"$f":"IF(AND(D203>=F10,D203<=G10),T10,0)","v":0},{"$f":"IF(AND(D203>=F11,D203<=G11),T11,0)","v":0},{"$f":"IF(AND(D203>=F12,D203<=G12),T12,0)","v":0},{"$f":"IF(AND(D203>=F13,D203<=G13),T13,0)","v":0},{"$f":"IF(AND(D203>=F14,D203<=G14),T14,0)","v":0},{"$f":"IF(AND(D203>=F15,D203<=G15),T15,0)","v":0},{"$f":"IF(AND(D203>=F16,D203<=G16),T16,0)","v":0},0,0,0,1]
[null,null,null,"2022-10-29",{"$f":"IF(D204<=G7,T7,0)","v":0},{"$f":"IF(AND(D204>=F8,D204<=G8),T8,0)","v":0},{"$f":"IF(AND(D204>=F9,D204<=G9),T9,0)","v":0},{"$f":"IF(AND(D204>=F10,D204<=G10),T10,0)","v":0},{"$f":"IF(AND(D204>=F11,D204<=G11),T11,0)","v":0},{"$f":"IF(AND(D204>=F12,D204<=G12),T12,0)","v":0},{"$f":"IF(AND(D204>=F13,D204<=G13),T13,0)","v":0},{"$f":"IF(AND(D204>=F14,D204<=G14),T14,0)","v":0},{"$f":"IF(AND(D204>=F15,D204<=G15),T15,0)","v":0},{"$f":"IF(AND(D204>=F16,D204<=G16),T16,0)","v":0},0,0,0,1]
[null,null,null,"2022-10-30",{"$f":"IF(D205<=G7,T7,0)","v":0},{"$f":"IF(AND(D205>=F8,D205<=G8),T8,0)","v":0},{"$f":"IF(AND(D205>=F9,D205<=G9),T9,0)","v":0},{"$f":"IF(AND(D205>=F10,D205<=G10),T10,0)","v":0},{"$f":"IF(AND(D205>=F11,D205<=G11),T11,0)","v":0},{"$f":"IF(AND(D205>=F12,D205<=G12),T12,0)","v":0},{"$f":"IF(AND(D205>=F13,D205<=G13),T13,0)","v":0},{"$f":"IF(AND(D205>=F14,D205<=G14),T14,0)","v":0},{"$f":"IF(AND(D205>=F15,D205<=G15),T15,0)","v":0},{"$f":"IF(AND(D205>=F16,D205<=G16),T16,0)","v":0},0,0,0,1]
[null,null,null,"2022-11-01",{"$f":"IF(D206<=G7,T7,0)","v":0},{"$f":"IF(AND(D206>=F8,D206<=G8),T8,0)","v":0},{"$f":"IF(AND(D206>=F9,D206<=G9),T9,0)","v":0},{"$f":"IF(AND(D206>=F10,D206<=G10),T10,0)","v":0},{"$f":"IF(AND(D206>=F11,D206<=G11),T11,0)","v":0},{"$f":"IF(AND(D206>=F12,D206<=G12),T12,0)","v":0},{"$f":"IF(AND(D206>=F13,D206<=G13),T13,0)","v":0},{"$f":"IF(AND(D206>=F14,D206<=G14),T14,0)","v":0},{"$f":"IF(AND(D206>=F15,D206<=G15),T15,0)","v":0},{"$f":"IF(AND(D206>=F16,D206<=G16),T16,0)","v":0},0,0,0,1]
[null,null,null,"2022-11-02",{"$f":"IF(D207<=G7,T7,0)","v":0},{"$f":"IF(AND(D207>=F8,D207<=G8),T8,0)","v":0},{"$f":"IF(AND(D207>=F9,D207<=G9),T9,0)","v":0},{"$f":"IF(AND(D207>=F10,D207<=G10),T10,0)","v":0},{"$f":"IF(AND(D207>=F11,D207<=G11),T11,0)","v":0},{"$f":"IF(AND(D207>=F12,D207<=G12),T12,0)","v":0},{"$f":"IF(AND(D207>=F13,D207<=G13),T13,0)","v":0},{"$f":"IF(AND(D207>=F14,D207<=G14),T14,0)","v":0},{"$f":"IF(AND(D207>=F15,D207<=G15),T15,0)","v":0},{"$f":"IF(AND(D207>=F16,D207<=G16),T16,0)","v":0},0,0,0,1]
[null,null,null,"2022-11-03",{"$f":"IF(D208<=G7,T7,0)","v":0},{"$f":"IF(AND(D208>=F8,D208<=G8),T8,0)","v":0},{"$f":"IF(AND(D208>=F9,D208<=G9),T9,0)","v":0},{"$f":"IF(AND(D208>=F10,D208<=G10),T10,0)","v":0},{"$f":"IF(AND(D208>=F11,D208<=G11),T11,0)","v":0},{"$f":"IF(AND(D208>=F12,D208<=G12),T12,0)","v":0},{"$f":"IF(AND(D208>=F13,D208<=G13),T13,0)","v":0},{"$f":"IF(AND(D208>=F14,D208<=G14),T14,0)","v":0},{"$f":"IF(AND(D208>=F15,D208<=G15),T15,0)","v":0},{"$f":"IF(AND(D208>=F16,D208<=G16),T16,0)","v":0},0,0,0,1]
[null,null,null,"2022-11-04",{"$f":"IF(D209<=G7,T7,0)","v":0},{"$f":"IF(AND(D209>=F8,D209<=G8),T8,0)","v":0},{"$f":"IF(AND(D209>=F9,D209<=G9),T9,0)","v":0},{"$f":"IF(AND(D209>=F10,D209<=G10),T10,0)","v":0},{"$f":"IF(AND(D209>=F11,D209<=G11),T11,0)","v":0},{"$f":"IF(AND(D209>=F12,D209<=G12),T12,0)","v":0},{"$f":"IF(AND(D209>=F13,D209<=G13),T13,0)","v":0},{"$f":"IF(AND(D209>=F14,D209<=G14),T14,0)","v":0},{"$f":"IF(AND(D209>=F15,D209<=G15),T15,0)","v":0},{"$f":"IF(AND(D209>=F16,D209<=G16),T16,0)","v":0},0,0,0,1]
[null,null,null,"2022-11-05",{"$f":"IF(D210<=G7,T7,0)","v":0},{"$f":"IF(AND(D210>=F8,D210<=G8),T8,0)","v":0},{"$f":"IF(AND(D210>=F9,D210<=G9),T9,0)","v":0},{"$f":"IF(AND(D210>=F10,D210<=G10),T10,0)","v":0},{"$f":"IF(AND(D210>=F11,D210<=G11),T11,0)","v":0},{"$f":"IF(AND(D210>=F12,D210<=G12),T12,0)","v":0},{"$f":"IF(AND(D210>=F13,D210<=G13),T13,0)","v":0},{"$f":"IF(AND(D210>=F14,D210<=G14),T14,0)","v":0},{"$f":"IF(AND(D210>=F15,D210<=G15),T15,0)","v":0},{"$f":"IF(AND(D210>=F16,D210<=G16),T16,0)","v":0},0,0,0,1]
[null,null,null,"2022-11-06",{"$f":"IF(D211<=G7,T7,0)","v":0},{"$f":"IF(AND(D211>=F8,D211<=G8),T8,0)","v":0},{"$f":"IF(AND(D211>=F9,D211<=G9),T9,0)","v":0},{"$f":"IF(AND(D211>=F10,D211<=G10),T10,0)","v":0},{"$f":"IF(AND(D211>=F11,D211<=G11),T11,0)","v":0},{"$f":"IF(AND(D211>=F12,D211<=G12),T12,0)","v":0},{"$f":"IF(AND(D211>=F13,D211<=G13),T13,0)","v":0},{"$f":"IF(AND(D211>=F14,D211<=G14),T14,0)","v":0},{"$f":"IF(AND(D211>=F15,D211<=G15),T15,0)","v":0},{"$f":"IF(AND(D211>=F16,D211<=G16),T16,0)","v":0},0,0,0,1]
[null,null,null,"2022-11-07",{"$f":"IF(D212<=G7,T7,0)","v":0},{"$f":"IF(AND(D212>=F8,D212<=G8),T8,0)","v":0},{"$f":"IF(AND(D212>=F9,D212<=G9),T9,0)","v":0},{"$f":"IF(AND(D212>=F10,D212<=G10),T10,0)","v":0},{"$f":"IF(AND(D212>=F11,D212<=G11),T11,0)","v":0},{"$f":"IF(AND(D212>=F12,D212<=G12),T12,0)","v":0},{"$f":"IF(AND(D212>=F13,D212<=G13),T13,0)","v":0},{"$f":"IF(AND(D212>=F14,D212<=G14),T14,0)","v":0},{"$f":"IF(AND(D212>=F15,D212<=G15),T15,0)","v":0},{"$f":"IF(AND(D212>=F16,D212<=G16),T16,0)","v":0},0,0,0,1]
[null,null,null,"2022-11-08",{"$f":"IF(D213<=G7,T7,0)","v":0},{"$f":"IF(AND(D213>=F8,D213<=G8),T8,0)","v":0},{"$f":"IF(AND(D213>=F9,D213<=G9),T9,0)","v":0},{"$f":"IF(AND(D213>=F10,D213<=G10),T10,0)","v":0},{"$f":"IF(AND(D213>=F11,D213<=G11),T11,0)","v":0},{"$f":"IF(AND(D213>=F12,D213<=G12),T12,0)","v":0},{"$f":"IF(AND(D213>=F13,D213<=G13),T13,0)","v":0},{"$f":"IF(AND(D213>=F14,D213<=G14),T14,0)","v":0},{"$f":"IF(AND(D213>=F15,D213<=G15),T15,0)","v":0},{"$f":"IF(AND(D213>=F16,D213<=G16),T16,0)","v":0},0,0,0,1]
[null,null,null,"2022-11-09",{"$f":"IF(D214<=G7,T7,0)","v":0},{"$f":"IF(AND(D214>=F8,D214<=G8),T8,0)","v":0},{"$f":"IF(AND(D214>=F9,D214<=G9),T9,0)","v":0},{"$f":"IF(AND(D214>=F10,D214<=G10),T10,0)","v":0},{"$f":"IF(AND(D214>=F11,D214<=G11),T11,0)","v":0},{"$f":"IF(AND(D214>=F12,D214<=G12),T12,0)","v":0},{"$f":"IF(AND(D214>=F13,D214<=G13),T13,0)","v":0},{"$f":"IF(AND(D214>=F14,D214<=G14),T14,0)","v":0},{"$f":"IF(AND(D214>=F15,D214<=G15),T15,0)","v":0},{"$f":"IF(AND(D214>=F16,D214<=G16),T16,0)","v":0},0,0,0,1]
[null,null,null,"2022-11-10",{"$f":"IF(D215<=G7,T7,0)","v":0},{"$f":"IF(AND(D215>=F8,D215<=G8),T8,0)","v":0},{"$f":"IF(AND(D215>=F9,D215<=G9),T9,0)","v":0},{"$f":"IF(AND(D215>=F10,D215<=G10),T10,0)","v":0},{"$f":"IF(AND(D215>=F11,D215<=G11),T11,0)","v":0},{"$f":"IF(AND(D215>=F12,D215<=G12),T12,0)","v":0},{"$f":"IF(AND(D215>=F13,D215<=G13),T13,0)","v":0},{"$f":"IF(AND(D215>=F14,D215<=G14),T14,0)","v":0},{"$f":"IF(AND(D215>=F15,D215<=G15),T15,0)","v":0},{"$f":"IF(AND(D215>=F16,D215<=G16),T16,0)","v":0},0,0,0,1]
[null,null,null,"2022-11-11",{"$f":"IF(D216<=G7,T7,0)","v":0},{"$f":"IF(AND(D216>=F8,D216<=G8),T8,0)","v":0},{"$f":"IF(AND(D216>=F9,D216<=G9),T9,0)","v":0},{"$f":"IF(AND(D216>=F10,D216<=G10),T10,0)","v":0},{"$f":"IF(AND(D216>=F11,D216<=G11),T11,0)","v":0},{"$f":"IF(AND(D216>=F12,D216<=G12),T12,0)","v":0},{"$f":"IF(AND(D216>=F13,D216<=G13),T13,0)","v":0},{"$f":"IF(AND(D216>=F14,D216<=G14),T14,0)","v":0},{"$f":"IF(AND(D216>=F15,D216<=G15),T15,0)","v":0},{"$f":"IF(AND(D216>=F16,D216<=G16),T16,0)","v":0},0,0,0,1]
[null,null,null,"2022-11-12",{"$f":"IF(D217<=G7,T7,0)","v":0},{"$f":"IF(AND(D217>=F8,D217<=G8),T8,0)","v":0},{"$f":"IF(AND(D217>=F9,D217<=G9),T9,0)","v":0},{"$f":"IF(AND(D217>=F10,D217<=G10),T10,0)","v":0},{"$f":"IF(AND(D217>=F11,D217<=G11),T11,0)","v":0},{"$f":"IF(AND(D217>=F12,D217<=G12),T12,0)","v":0},{"$f":"IF(AND(D217>=F13,D217<=G13),T13,0)","v":0},{"$f":"IF(AND(D217>=F14,D217<=G14),T14,0)","v":0},{"$f":"IF(AND(D217>=F15,D217<=G15),T15,0)","v":0},{"$f":"IF(AND(D217>=F16,D217<=G16),T16,0)","v":0},0,0,0,1]
[null,null,null,"2022-11-13",{"$f":"IF(D218<=G7,T7,0)","v":0},{"$f":"IF(AND(D218>=F8,D218<=G8),T8,0)","v":0},{"$f":"IF(AND(D218>=F9,D218<=G9),T9,0)","v":0},{"$f":"IF(AND(D218>=F10,D218<=G10),T10,0)","v":0},{"$f":"IF(AND(D218>=F11,D218<=G11),T11,0)","v":0},{"$f":"IF(AND(D218>=F12,D218<=G12),T12,0)","v":0},{"$f":"IF(AND(D218>=F13,D218<=G13),T13,0)","v":0},{"$f":"IF(AND(D218>=F14,D218<=G14),T14,0)","v":0},{"$f":"IF(AND(D218>=F15,D218<=G15),T15,0)","v":0},{"$f":"IF(AND(D218>=F16,D218<=G16),T16,0)","v":0},0,0,0,1]
[null,null,null,"2022-11-14",{"$f":"IF(D219<=G7,T7,0)","v":0},{"$f":"IF(AND(D219>=F8,D219<=G8),T8,0)","v":0},{"$f":"IF(AND(D219>=F9,D219<=G9),T9,0)","v":0},{"$f":"IF(AND(D219>=F10,D219<=G10),T10,0)","v":0},{"$f":"IF(AND(D219>=F11,D219<=G11),T11,0)","v":0},{"$f":"IF(AND(D219>=F12,D219<=G12),T12,0)","v":0},{"$f":"IF(AND(D219>=F13,D219<=G13),T13,0)","v":0},{"$f":"IF(AND(D219>=F14,D219<=G14),T14,0)","v":0},{"$f":"IF(AND(D219>=F15,D219<=G15),T15,0)","v":0},{"$f":"IF(AND(D219>=F16,D219<=G16),T16,0)","v":0},0,0,0,1]
[null,null,null,"2022-11-15",{"$f":"IF(D220<=G7,T7,0)","v":0},{"$f":"IF(AND(D220>=F8,D220<=G8),T8,0)","v":0},{"$f":"IF(AND(D220>=F9,D220<=G9),T9,0)","v":0},{"$f":"IF(AND(D220>=F10,D220<=G10),T10,0)","v":0},{"$f":"IF(AND(D220>=F11,D220<=G11),T11,0)","v":0},{"$f":"IF(AND(D220>=F12,D220<=G12),T12,0)","v":0},{"$f":"IF(AND(D220>=F13,D220<=G13),T13,0)","v":0},{"$f":"IF(AND(D220>=F14,D220<=G14),T14,0)","v":0},{"$f":"IF(AND(D220>=F15,D220<=G15),T15,0)","v":0},{"$f":"IF(AND(D220>=F16,D220<=G16),T16,0)","v":0},0,0,0,1]
[null,null,null,"2022-11-16",{"$f":"IF(D221<=G7,T7,0)","v":0},{"$f":"IF(AND(D221>=F8,D221<=G8),T8,0)","v":0},{"$f":"IF(AND(D221>=F9,D221<=G9),T9,0)","v":0},{"$f":"IF(AND(D221>=F10,D221<=G10),T10,0)","v":0},{"$f":"IF(AND(D221>=F11,D221<=G11),T11,0)","v":0},{"$f":"IF(AND(D221>=F12,D221<=G12),T12,0)","v":0},{"$f":"IF(AND(D221>=F13,D221<=G13),T13,0)","v":0},{"$f":"IF(AND(D221>=F14,D221<=G14),T14,0)","v":0},{"$f":"IF(AND(D221>=F15,D221<=G15),T15,0)","v":0},{"$f":"IF(AND(D221>=F16,D221<=G16),T16,0)","v":0},0,0,0,1]
[null,null,null,"2022-11-17",{"$f":"IF(D222<=G7,T7,0)","v":0},{"$f":"IF(AND(D222>=F8,D222<=G8),T8,0)","v":0},{"$f":"IF(AND(D222>=F9,D222<=G9),T9,0)","v":0},{"$f":"IF(AND(D222>=F10,D222<=G10),T10,0)","v":0},{"$f":"IF(AND(D222>=F11,D222<=G11),T11,0)","v":0},{"$f":"IF(AND(D222>=F12,D222<=G12),T12,0)","v":0},{"$f":"IF(AND(D222>=F13,D222<=G13),T13,0)","v":0},{"$f":"IF(AND(D222>=F14,D222<=G14),T14,0)","v":0},{"$f":"IF(AND(D222>=F15,D222<=G15),T15,0)","v":0},{"$f":"IF(AND(D222>=F16,D222<=G16),T16,0)","v":0},0,0,0,1]
[null,null,null,"2022-11-18",{"$f":"IF(D223<=G7,T7,0)","v":0},{"$f":"IF(AND(D223>=F8,D223<=G8),T8,0)","v":0},{"$f":"IF(AND(D223>=F9,D223<=G9),T9,0)","v":0},{"$f":"IF(AND(D223>=F10,D223<=G10),T10,0)","v":0},{"$f":"IF(AND(D223>=F11,D223<=G11),T11,0)","v":0},{"$f":"IF(AND(D223>=F12,D223<=G12),T12,0)","v":0},{"$f":"IF(AND(D223>=F13,D223<=G13),T13,0)","v":0},{"$f":"IF(AND(D223>=F14,D223<=G14),T14,0)","v":0},{"$f":"IF(AND(D223>=F15,D223<=G15),T15,0)","v":0},{"$f":"IF(AND(D223>=F16,D223<=G16),T16,0)","v":0},0,0,0,1]
[null,null,null,"2022-11-19",{"$f":"IF(D224<=G7,T7,0)","v":0},{"$f":"IF(AND(D224>=F8,D224<=G8),T8,0)","v":0},{"$f":"IF(AND(D224>=F9,D224<=G9),T9,0)","v":0},{"$f":"IF(AND(D224>=F10,D224<=G10),T10,0)","v":0},{"$f":"IF(AND(D224>=F11,D224<=G11),T11,0)","v":0},{"$f":"IF(AND(D224>=F12,D224<=G12),T12,0)","v":0},{"$f":"IF(AND(D224>=F13,D224<=G13),T13,0)","v":0},{"$f":"IF(AND(D224>=F14,D224<=G14),T14,0)","v":0},{"$f":"IF(AND(D224>=F15,D224<=G15),T15,0)","v":0},{"$f":"IF(AND(D224>=F16,D224<=G16),T16,0)","v":0},0,0,0,1]
[null,null,null,"2022-11-20",{"$f":"IF(D225<=G7,T7,0)","v":0},{"$f":"IF(AND(D225>=F8,D225<=G8),T8,0)","v":0},{"$f":"IF(AND(D225>=F9,D225<=G9),T9,0)","v":0},{"$f":"IF(AND(D225>=F10,D225<=G10),T10,0)","v":0},{"$f":"IF(AND(D225>=F11,D225<=G11),T11,0)","v":0},{"$f":"IF(AND(D225>=F12,D225<=G12),T12,0)","v":0},{"$f":"IF(AND(D225>=F13,D225<=G13),T13,0)","v":0},{"$f":"IF(AND(D225>=F14,D225<=G14),T14,0)","v":0},{"$f":"IF(AND(D225>=F15,D225<=G15),T15,0)","v":0},{"$f":"IF(AND(D225>=F16,D225<=G16),T16,0)","v":0},0,0,0,1]
[null,null,null,"2022-11-21",{"$f":"IF(D226<=G7,T7,0)","v":0},{"$f":"IF(AND(D226>=F8,D226<=G8),T8,0)","v":0},{"$f":"IF(AND(D226>=F9,D226<=G9),T9,0)","v":0},{"$f":"IF(AND(D226>=F10,D226<=G10),T10,0)","v":0},{"$f":"IF(AND(D226>=F11,D226<=G11),T11,0)","v":0},{"$f":"IF(AND(D226>=F12,D226<=G12),T12,0)","v":0},{"$f":"IF(AND(D226>=F13,D226<=G13),T13,0)","v":0},{"$f":"IF(AND(D226>=F14,D226<=G14),T14,0)","v":0},{"$f":"IF(AND(D226>=F15,D226<=G15),T15,0)","v":0},{"$f":"IF(AND(D226>=F16,D226<=G16),T16,0)","v":0},0,0,0,1]
[null,null,null,"2022-11-22",{"$f":"IF(D227<=G7,T7,0)","v":0},{"$f":"IF(AND(D227>=F8,D227<=G8),T8,0)","v":0},{"$f":"IF(AND(D227>=F9,D227<=G9),T9,0)","v":0},{"$f":"IF(AND(D227>=F10,D227<=G10),T10,0)","v":0},{"$f":"IF(AND(D227>=F11,D227<=G11),T11,0)","v":0},{"$f":"IF(AND(D227>=F12,D227<=G12),T12,0)","v":0},{"$f":"IF(AND(D227>=F13,D227<=G13),T13,0)","v":0},{"$f":"IF(AND(D227>=F14,D227<=G14),T14,0)","v":0},{"$f":"IF(AND(D227>=F15,D227<=G15),T15,0)","v":0},{"$f":"IF(AND(D227>=F16,D227<=G16),T16,0)","v":0},0,0,0,1]
[null,null,null,"2022-11-23",{"$f":"IF(D228<=G7,T7,0)","v":0},{"$f":"IF(AND(D228>=F8,D228<=G8),T8,0)","v":0},{"$f":"IF(AND(D228>=F9,D228<=G9),T9,0)","v":0},{"$f":"IF(AND(D228>=F10,D228<=G10),T10,0)","v":0},{"$f":"IF(AND(D228>=F11,D228<=G11),T11,0)","v":0},{"$f":"IF(AND(D228>=F12,D228<=G12),T12,0)","v":0},{"$f":"IF(AND(D228>=F13,D228<=G13),T13,0)","v":0},{"$f":"IF(AND(D228>=F14,D228<=G14),T14,0)","v":0},{"$f":"IF(AND(D228>=F15,D228<=G15),T15,0)","v":0},{"$f":"IF(AND(D228>=F16,D228<=G16),T16,0)","v":0},0,0,0,1]
[null,null,null,"2022-11-24",{"$f":"IF(D229<=G7,T7,0)","v":0},{"$f":"IF(AND(D229>=F8,D229<=G8),T8,0)","v":0},{"$f":"IF(AND(D229>=F9,D229<=G9),T9,0)","v":0},{"$f":"IF(AND(D229>=F10,D229<=G10),T10,0)","v":0},{"$f":"IF(AND(D229>=F11,D229<=G11),T11,0)","v":0},{"$f":"IF(AND(D229>=F12,D229<=G12),T12,0)","v":0},{"$f":"IF(AND(D229>=F13,D229<=G13),T13,0)","v":0},{"$f":"IF(AND(D229>=F14,D229<=G14),T14,0)","v":0},{"$f":"IF(AND(D229>=F15,D229<=G15),T15,0)","v":0},{"$f":"IF(AND(D229>=F16,D229<=G16),T16,0)","v":0},0,0,0,1]
[null,null,null,"2022-11-25",{"$f":"IF(D230<=G7,T7,0)","v":0},{"$f":"IF(AND(D230>=F8,D230<=G8),T8,0)","v":0},{"$f":"IF(AND(D230>=F9,D230<=G9),T9,0)","v":0},{"$f":"IF(AND(D230>=F10,D230<=G10),T10,0)","v":0},{"$f":"IF(AND(D230>=F11,D230<=G11),T11,0)","v":0},{"$f":"IF(AND(D230>=F12,D230<=G12),T12,0)","v":0},{"$f":"IF(AND(D230>=F13,D230<=G13),T13,0)","v":0},{"$f":"IF(AND(D230>=F14,D230<=G14),T14,0)","v":0},{"$f":"IF(AND(D230>=F15,D230<=G15),T15,0)","v":0},{"$f":"IF(AND(D230>=F16,D230<=G16),T16,0)","v":0},0,0,0,1]
[null,null,null,"2022-11-26",{"$f":"IF(D231<=G7,T7,0)","v":0},{"$f":"IF(AND(D231>=F8,D231<=G8),T8,0)","v":0},{"$f":"IF(AND(D231>=F9,D231<=G9),T9,0)","v":0},{"$f":"IF(AND(D231>=F10,D231<=G10),T10,0)","v":0},{"$f":"IF(AND(D231>=F11,D231<=G11),T11,0)","v":0},{"$f":"IF(AND(D231>=F12,D231<=G12),T12,0)","v":0},{"$f":"IF(AND(D231>=F13,D231<=G13),T13,0)","v":0},{"$f":"IF(AND(D231>=F14,D231<=G14),T14,0)","v":0},{"$f":"IF(AND(D231>=F15,D231<=G15),T15,0)","v":0},{"$f":"IF(AND(D231>=F16,D231<=G16),T16,0)","v":0},0,0,0,1]
[null,null,null,"2022-11-27",{"$f":"IF(D232<=G7,T7,0)","v":0},{"$f":"IF(AND(D232>=F8,D232<=G8),T8,0)","v":0},{"$f":"IF(AND(D232>=F9,D232<=G9),T9,0)","v":0},{"$f":"IF(AND(D232>=F10,D232<=G10),T10,0)","v":0},{"$f":"IF(AND(D232>=F11,D232<=G11),T11,0)","v":0},{"$f":"IF(AND(D232>=F12,D232<=G12),T12,0)","v":0},{"$f":"IF(AND(D232>=F13,D232<=G13),T13,0)","v":0},{"$f":"IF(AND(D232>=F14,D232<=G14),T14,0)","v":0},{"$f":"IF(AND(D232>=F15,D232<=G15),T15,0)","v":0},{"$f":"IF(AND(D232>=F16,D232<=G16),T16,0)","v":0},0,0,0,1]
[null,null,null,"2022-11-28",{"$f":"IF(D233<=G7,T7,0)","v":0},{"$f":"IF(AND(D233>=F8,D233<=G8),T8,0)","v":0},{"$f":"IF(AND(D233>=F9,D233<=G9),T9,0)","v":0},{"$f":"IF(AND(D233>=F10,D233<=G10),T10,0)","v":0},{"$f":"IF(AND(D233>=F11,D233<=G11),T11,0)","v":0},{"$f":"IF(AND(D233>=F12,D233<=G12),T12,0)","v":0},{"$f":"IF(AND(D233>=F13,D233<=G13),T13,0)","v":0},{"$f":"IF(AND(D233>=F14,D233<=G14),T14,0)","v":0},{"$f":"IF(AND(D233>=F15,D233<=G15),T15,0)","v":0},{"$f":"IF(AND(D233>=F16,D233<=G16),T16,0)","v":0},0,0,0,1]
[null,null,null,"2022-11-29",{"$f":"IF(D234<=G7,T7,0)","v":0},{"$f":"IF(AND(D234>=F8,D234<=G8),T8,0)","v":0},{"$f":"IF(AND(D234>=F9,D234<=G9),T9,0)","v":0},{"$f":"IF(AND(D234>=F10,D234<=G10),T10,0)","v":0},{"$f":"IF(AND(D234>=F11,D234<=G11),T11,0)","v":0},{"$f":"IF(AND(D234>=F12,D234<=G12),T12,0)","v":0},{"$f":"IF(AND(D234>=F13,D234<=G13),T13,0)","v":0},{"$f":"IF(AND(D234>=F14,D234<=G14),T14,0)","v":0},{"$f":"IF(AND(D234>=F15,D234<=G15),T15,0)","v":0},{"$f":"IF(AND(D234>=F16,D234<=G16),T16,0)","v":0},0,0,0,1]
[null,null,null,"2022-11-30",{"$f":"IF(D235<=G7,T7,0)","v":0},{"$f":"IF(AND(D235>=F8,D235<=G8),T8,0)","v":0},{"$f":"IF(AND(D235>=F9,D235<=G9),T9,0)","v":0},{"$f":"IF(AND(D235>=F10,D235<=G10),T10,0)","v":0},{"$f":"IF(AND(D235>=F11,D235<=G11),T11,0)","v":0},{"$f":"IF(AND(D235>=F12,D235<=G12),T12,0)","v":0},{"$f":"IF(AND(D235>=F13,D235<=G13),T13,0)","v":0},{"$f":"IF(AND(D235>=F14,D235<=G14),T14,0)","v":0},{"$f":"IF(AND(D235>=F15,D235<=G15),T15,0)","v":0},{"$f":"IF(AND(D235>=F16,D235<=G16),T16,0)","v":0},0,0,0,1]
[null,null,null,"2022-12-02",{"$f":"IF(D236<=G7,T7,0)","v":0},{"$f":"IF(AND(D236>=F8,D236<=G8),T8,0)","v":0},{"$f":"IF(AND(D236>=F9,D236<=G9),T9,0)","v":0},{"$f":"IF(AND(D236>=F10,D236<=G10),T10,0)","v":0},{"$f":"IF(AND(D236>=F11,D236<=G11),T11,0)","v":0},{"$f":"IF(AND(D236>=F12,D236<=G12),T12,0)","v":0},{"$f":"IF(AND(D236>=F13,D236<=G13),T13,0)","v":0},{"$f":"IF(AND(D236>=F14,D236<=G14),T14,0)","v":0},{"$f":"IF(AND(D236>=F15,D236<=G15),T15,0)","v":0},{"$f":"IF(AND(D236>=F16,D236<=G16),T16,0)","v":0},0,0,0,1]
[null,null,null,"2022-12-03",{"$f":"IF(D237<=G7,T7,0)","v":0},{"$f":"IF(AND(D237>=F8,D237<=G8),T8,0)","v":0},{"$f":"IF(AND(D237>=F9,D237<=G9),T9,0)","v":0},{"$f":"IF(AND(D237>=F10,D237<=G10),T10,0)","v":0},{"$f":"IF(AND(D237>=F11,D237<=G11),T11,0)","v":0},{"$f":"IF(AND(D237>=F12,D237<=G12),T12,0)","v":0},{"$f":"IF(AND(D237>=F13,D237<=G13),T13,0)","v":0},{"$f":"IF(AND(D237>=F14,D237<=G14),T14,0)","v":0},{"$f":"IF(AND(D237>=F15,D237<=G15),T15,0)","v":0},{"$f":"IF(AND(D237>=F16,D237<=G16),T16,0)","v":0},0,0,0,1]
[null,null,null,"2022-12-04",{"$f":"IF(D238<=G7,T7,0)","v":0},{"$f":"IF(AND(D238>=F8,D238<=G8),T8,0)","v":0},{"$f":"IF(AND(D238>=F9,D238<=G9),T9,0)","v":0},{"$f":"IF(AND(D238>=F10,D238<=G10),T10,0)","v":0},{"$f":"IF(AND(D238>=F11,D238<=G11),T11,0)","v":0},{"$f":"IF(AND(D238>=F12,D238<=G12),T12,0)","v":0},{"$f":"IF(AND(D238>=F13,D238<=G13),T13,0)","v":0},{"$f":"IF(AND(D238>=F14,D238<=G14),T14,0)","v":0},{"$f":"IF(AND(D238>=F15,D238<=G15),T15,0)","v":0},{"$f":"IF(AND(D238>=F16,D238<=G16),T16,0)","v":0},0,0,0,1]
[null,null,null,"2022-12-05",{"$f":"IF(D239<=G7,T7,0)","v":0},{"$f":"IF(AND(D239>=F8,D239<=G8),T8,0)","v":0},{"$f":"IF(AND(D239>=F9,D239<=G9),T9,0)","v":0},{"$f":"IF(AND(D239>=F10,D239<=G10),T10,0)","v":0},{"$f":"IF(AND(D239>=F11,D239<=G11),T11,0)","v":0},{"$f":"IF(AND(D239>=F12,D239<=G12),T12,0)","v":0},{"$f":"IF(AND(D239>=F13,D239<=G13),T13,0)","v":0},{"$f":"IF(AND(D239>=F14,D239<=G14),T14,0)","v":0},{"$f":"IF(AND(D239>=F15,D239<=G15),T15,0)","v":0},{"$f":"IF(AND(D239>=F16,D239<=G16),T16,0)","v":0},0,0,0,1]
[null,null,null,"2022-12-06",{"$f":"IF(D240<=G7,T7,0)","v":0},{"$f":"IF(AND(D240>=F8,D240<=G8),T8,0)","v":0},{"$f":"IF(AND(D240>=F9,D240<=G9),T9,0)","v":0},{"$f":"IF(AND(D240>=F10,D240<=G10),T10,0)","v":0},{"$f":"IF(AND(D240>=F11,D240<=G11),T11,0)","v":0},{"$f":"IF(AND(D240>=F12,D240<=G12),T12,0)","v":0},{"$f":"IF(AND(D240>=F13,D240<=G13),T13,0)","v":0},{"$f":"IF(AND(D240>=F14,D240<=G14),T14,0)","v":0},{"$f":"IF(AND(D240>=F15,D240<=G15),T15,0)","v":0},{"$f":"IF(AND(D240>=F16,D240<=G16),T16,0)","v":0},0,0,0,1]
[null,null,null,"2022-12-07",{"$f":"IF(D241<=G7,T7,0)","v":0},{"$f":"IF(AND(D241>=F8,D241<=G8),T8,0)","v":0},{"$f":"IF(AND(D241>=F9,D241<=G9),T9,0)","v":0},{"$f":"IF(AND(D241>=F10,D241<=G10),T10,0)","v":0},{"$f":"IF(AND(D241>=F11,D241<=G11),T11,0)","v":0},{"$f":"IF(AND(D241>=F12,D241<=G12),T12,0)","v":0},{"$f":"IF(AND(D241>=F13,D241<=G13),T13,0)","v":0},{"$f":"IF(AND(D241>=F14,D241<=G14),T14,0)","v":0},{"$f":"IF(AND(D241>=F15,D241<=G15),T15,0)","v":0},{"$f":"IF(AND(D241>=F16,D241<=G16),T16,0)","v":0},0,0,0,1]
[null,null,null,"2022-12-08",{"$f":"IF(D242<=G7,T7,0)","v":0},{"$f":"IF(AND(D242>=F8,D242<=G8),T8,0)","v":0},{"$f":"IF(AND(D242>=F9,D242<=G9),T9,0)","v":0},{"$f":"IF(AND(D242>=F10,D242<=G10),T10,0)","v":0},{"$f":"IF(AND(D242>=F11,D242<=G11),T11,0)","v":0},{"$f":"IF(AND(D242>=F12,D242<=G12),T12,0)","v":0},{"$f":"IF(AND(D242>=F13,D242<=G13),T13,0)","v":0},{"$f":"IF(AND(D242>=F14,D242<=G14),T14,0)","v":0},{"$f":"IF(AND(D242>=F15,D242<=G15),T15,0)","v":0},{"$f":"IF(AND(D242>=F16,D242<=G16),T16,0)","v":0},0,{"$f":"IF(O242>=1,1,O242)","v":0},0,1]
[null,null,null,{"$f":"IF(DAY(D242)+1=31, D242+2, D242+1)","v":"2022-12-09"},{"$f":"IF(D243<=G7,T7,0)","v":0},{"$f":"IF(AND(D243>=F8,D243<=G8),T8,0)","v":0},{"$f":"IF(AND(D243>=F9,D243<=G9),T9,0)","v":0},{"$f":"IF(AND(D243>=F10,D243<=G10),T10,0)","v":0},{"$f":"IF(AND(D243>=F11,D243<=G11),T11,0)","v":0},{"$f":"IF(AND(D243>=F12,D243<=G12),T12,0)","v":0},{"$f":"IF(AND(D243>=F13,D243<=G13),T13,0)","v":0},{"$f":"IF(AND(D243>=F14,D243<=G14),T14,0)","v":0},{"$f":"IF(AND(D243>=F15,D243<=G15),T15,0)","v":0},{"$f":"IF(AND(D243>=F16,D243<=G16),T16,0)","v":0},0,0,0,{"$f":"SUM(Q242,R242)","v":1}]
[null,null,null,"2022-12-10",{"$f":"IF(D244<=G7,T7,0)","v":0},{"$f":"IF(AND(D244>=F8,D244<=G8),T8,0)","v":0},{"$f":"IF(AND(D244>=F9,D244<=G9),T9,0)","v":0},{"$f":"IF(AND(D244>=F10,D244<=G10),T10,0)","v":0},{"$f":"IF(AND(D244>=F11,D244<=G11),T11,0)","v":0},{"$f":"IF(AND(D244>=F12,D244<=G12),T12,0)","v":0},{"$f":"IF(AND(D244>=F13,D244<=G13),T13,0)","v":0},{"$f":"IF(AND(D244>=F14,D244<=G14),T14,0)","v":0},{"$f":"IF(AND(D244>=F15,D244<=G15),T15,0)","v":0},{"$f":"IF(AND(D244>=F16,D244<=G16),T16,0)","v":0},{"$f":"IF(AND(SUM(E244:N244)>0,SUM(E244:N244)<1),1,TRUNC(SUM(E244:N244),0))","v":0},0,0,1]
[null,null,null,"2022-12-11",{"$f":"IF(D245<=G7,T7,0)","v":0},{"$f":"IF(AND(D245>=F8,D245<=G8),T8,0)","v":0},{"$f":"IF(AND(D245>=F9,D245<=G9),T9,0)","v":0},{"$f":"IF(AND(D245>=F10,D245<=G10),T10,0)","v":0},{"$f":"IF(AND(D245>=F11,D245<=G11),T11,0)","v":0},{"$f":"IF(AND(D245>=F12,D245<=G12),T12,0)","v":0},{"$f":"IF(AND(D245>=F13,D245<=G13),T13,0)","v":0},{"$f":"IF(AND(D245>=F14,D245<=G14),T14,0)","v":0},{"$f":"IF(AND(D245>=F15,D245<=G15),T15,0)","v":0},{"$f":"IF(AND(D245>=F16,D245<=G16),T16,0)","v":0},0,0,{"$f":"IF(O244=O245,0,1)","v":0},1]
[null,null,null,"2022-12-12",{"$f":"IF(D246<=G7,T7,0)","v":0},{"$f":"IF(AND(D246>=F8,D246<=G8),T8,0)","v":0},{"$f":"IF(AND(D246>=F9,D246<=G9),T9,0)","v":0},{"$f":"IF(AND(D246>=F10,D246<=G10),T10,0)","v":0},{"$f":"IF(AND(D246>=F11,D246<=G11),T11,0)","v":0},{"$f":"IF(AND(D246>=F12,D246<=G12),T12,0)","v":0},{"$f":"IF(AND(D246>=F13,D246<=G13),T13,0)","v":0},{"$f":"IF(AND(D246>=F14,D246<=G14),T14,0)","v":0},{"$f":"IF(AND(D246>=F15,D246<=G15),T15,0)","v":0},{"$f":"IF(AND(D246>=F16,D246<=G16),T16,0)","v":0},0,0,0,1]
[null,null,null,"2022-12-13",{"$f":"IF(D247<=G7,T7,0)","v":0},{"$f":"IF(AND(D247>=F8,D247<=G8),T8,0)","v":0},{"$f":"IF(AND(D247>=F9,D247<=G9),T9,0)","v":0},{"$f":"IF(AND(D247>=F10,D247<=G10),T10,0)","v":0},{"$f":"IF(AND(D247>=F11,D247<=G11),T11,0)","v":0},{"$f":"IF(AND(D247>=F12,D247<=G12),T12,0)","v":0},{"$f":"IF(AND(D247>=F13,D247<=G13),T13,0)","v":0},{"$f":"IF(AND(D247>=F14,D247<=G14),T14,0)","v":0},{"$f":"IF(AND(D247>=F15,D247<=G15),T15,0)","v":0},{"$f":"IF(AND(D247>=F16,D247<=G16),T16,0)","v":0},0,0,0,1]
[null,null,null,"2022-12-14",{"$f":"IF(D248<=G7,T7,0)","v":0},{"$f":"IF(AND(D248>=F8,D248<=G8),T8,0)","v":0},{"$f":"IF(AND(D248>=F9,D248<=G9),T9,0)","v":0},{"$f":"IF(AND(D248>=F10,D248<=G10),T10,0)","v":0},{"$f":"IF(AND(D248>=F11,D248<=G11),T11,0)","v":0},{"$f":"IF(AND(D248>=F12,D248<=G12),T12,0)","v":0},{"$f":"IF(AND(D248>=F13,D248<=G13),T13,0)","v":0},{"$f":"IF(AND(D248>=F14,D248<=G14),T14,0)","v":0},{"$f":"IF(AND(D248>=F15,D248<=G15),T15,0)","v":0},{"$f":"IF(AND(D248>=F16,D248<=G16),T16,0)","v":0},0,0,0,1]
[null,null,null,"2022-12-15",{"$f":"IF(D249<=G7,T7,0)","v":0},{"$f":"IF(AND(D249>=F8,D249<=G8),T8,0)","v":0},{"$f":"IF(AND(D249>=F9,D249<=G9),T9,0)","v":0},{"$f":"IF(AND(D249>=F10,D249<=G10),T10,0)","v":0},{"$f":"IF(AND(D249>=F11,D249<=G11),T11,0)","v":0},{"$f":"IF(AND(D249>=F12,D249<=G12),T12,0)","v":0},{"$f":"IF(AND(D249>=F13,D249<=G13),T13,0)","v":0},{"$f":"IF(AND(D249>=F14,D249<=G14),T14,0)","v":0},{"$f":"IF(AND(D249>=F15,D249<=G15),T15,0)","v":0},{"$f":"IF(AND(D249>=F16,D249<=G16),T16,0)","v":0},0,0,0,1]
[null,null,null,"2022-12-16",{"$f":"IF(D250<=G7,T7,0)","v":0},{"$f":"IF(AND(D250>=F8,D250<=G8),T8,0)","v":0},{"$f":"IF(AND(D250>=F9,D250<=G9),T9,0)","v":0},{"$f":"IF(AND(D250>=F10,D250<=G10),T10,0)","v":0},{"$f":"IF(AND(D250>=F11,D250<=G11),T11,0)","v":0},{"$f":"IF(AND(D250>=F12,D250<=G12),T12,0)","v":0},{"$f":"IF(AND(D250>=F13,D250<=G13),T13,0)","v":0},{"$f":"IF(AND(D250>=F14,D250<=G14),T14,0)","v":0},{"$f":"IF(AND(D250>=F15,D250<=G15),T15,0)","v":0},{"$f":"IF(AND(D250>=F16,D250<=G16),T16,0)","v":0},0,0,0,1]
[null,null,null,"2022-12-17",{"$f":"IF(D251<=G7,T7,0)","v":0},{"$f":"IF(AND(D251>=F8,D251<=G8),T8,0)","v":0},{"$f":"IF(AND(D251>=F9,D251<=G9),T9,0)","v":0},{"$f":"IF(AND(D251>=F10,D251<=G10),T10,0)","v":0},{"$f":"IF(AND(D251>=F11,D251<=G11),T11,0)","v":0},{"$f":"IF(AND(D251>=F12,D251<=G12),T12,0)","v":0},{"$f":"IF(AND(D251>=F13,D251<=G13),T13,0)","v":0},{"$f":"IF(AND(D251>=F14,D251<=G14),T14,0)","v":0},{"$f":"IF(AND(D251>=F15,D251<=G15),T15,0)","v":0},{"$f":"IF(AND(D251>=F16,D251<=G16),T16,0)","v":0},0,0,0,1]
[null,null,null,"2022-12-18",{"$f":"IF(D252<=G7,T7,0)","v":0},{"$f":"IF(AND(D252>=F8,D252<=G8),T8,0)","v":0},{"$f":"IF(AND(D252>=F9,D252<=G9),T9,0)","v":0},{"$f":"IF(AND(D252>=F10,D252<=G10),T10,0)","v":0},{"$f":"IF(AND(D252>=F11,D252<=G11),T11,0)","v":0},{"$f":"IF(AND(D252>=F12,D252<=G12),T12,0)","v":0},{"$f":"IF(AND(D252>=F13,D252<=G13),T13,0)","v":0},{"$f":"IF(AND(D252>=F14,D252<=G14),T14,0)","v":0},{"$f":"IF(AND(D252>=F15,D252<=G15),T15,0)","v":0},{"$f":"IF(AND(D252>=F16,D252<=G16),T16,0)","v":0},0,0,0,1]
[null,null,null,"2022-12-19",{"$f":"IF(D253<=G7,T7,0)","v":0},{"$f":"IF(AND(D253>=F8,D253<=G8),T8,0)","v":0},{"$f":"IF(AND(D253>=F9,D253<=G9),T9,0)","v":0},{"$f":"IF(AND(D253>=F10,D253<=G10),T10,0)","v":0},{"$f":"IF(AND(D253>=F11,D253<=G11),T11,0)","v":0},{"$f":"IF(AND(D253>=F12,D253<=G12),T12,0)","v":0},{"$f":"IF(AND(D253>=F13,D253<=G13),T13,0)","v":0},{"$f":"IF(AND(D253>=F14,D253<=G14),T14,0)","v":0},{"$f":"IF(AND(D253>=F15,D253<=G15),T15,0)","v":0},{"$f":"IF(AND(D253>=F16,D253<=G16),T16,0)","v":0},0,0,0,1]
[null,null,null,"2022-12-20",{"$f":"IF(D254<=G7,T7,0)","v":0},{"$f":"IF(AND(D254>=F8,D254<=G8),T8,0)","v":0},{"$f":"IF(AND(D254>=F9,D254<=G9),T9,0)","v":0},{"$f":"IF(AND(D254>=F10,D254<=G10),T10,0)","v":0},{"$f":"IF(AND(D254>=F11,D254<=G11),T11,0)","v":0},{"$f":"IF(AND(D254>=F12,D254<=G12),T12,0)","v":0},{"$f":"IF(AND(D254>=F13,D254<=G13),T13,0)","v":0},{"$f":"IF(AND(D254>=F14,D254<=G14),T14,0)","v":0},{"$f":"IF(AND(D254>=F15,D254<=G15),T15,0)","v":0},{"$f":"IF(AND(D254>=F16,D254<=G16),T16,0)","v":0},0,0,0,1]
[null,null,null,"2022-12-21",{"$f":"IF(D255<=G7,T7,0)","v":0},{"$f":"IF(AND(D255>=F8,D255<=G8),T8,0)","v":0},{"$f":"IF(AND(D255>=F9,D255<=G9),T9,0)","v":0},{"$f":"IF(AND(D255>=F10,D255<=G10),T10,0)","v":0},{"$f":"IF(AND(D255>=F11,D255<=G11),T11,0)","v":0},{"$f":"IF(AND(D255>=F12,D255<=G12),T12,0)","v":0},{"$f":"IF(AND(D255>=F13,D255<=G13),T13,0)","v":0},{"$f":"IF(AND(D255>=F14,D255<=G14),T14,0)","v":0},{"$f":"IF(AND(D255>=F15,D255<=G15),T15,0)","v":0},{"$f":"IF(AND(D255>=F16,D255<=G16),T16,0)","v":0},0,0,0,1]
[null,null,null,"2022-12-22",{"$f":"IF(D256<=G7,T7,0)","v":0},{"$f":"IF(AND(D256>=F8,D256<=G8),T8,0)","v":0},{"$f":"IF(AND(D256>=F9,D256<=G9),T9,0)","v":0},{"$f":"IF(AND(D256>=F10,D256<=G10),T10,0)","v":0},{"$f":"IF(AND(D256>=F11,D256<=G11),T11,0)","v":0},{"$f":"IF(AND(D256>=F12,D256<=G12),T12,0)","v":0},{"$f":"IF(AND(D256>=F13,D256<=G13),T13,0)","v":0},{"$f":"IF(AND(D256>=F14,D256<=G14),T14,0)","v":0},{"$f":"IF(AND(D256>=F15,D256<=G15),T15,0)","v":0},{"$f":"IF(AND(D256>=F16,D256<=G16),T16,0)","v":0},0,0,0,1]
[null,null,null,"2022-12-23",{"$f":"IF(D257<=G7,T7,0)","v":0},{"$f":"IF(AND(D257>=F8,D257<=G8),T8,0)","v":0},{"$f":"IF(AND(D257>=F9,D257<=G9),T9,0)","v":0},{"$f":"IF(AND(D257>=F10,D257<=G10),T10,0)","v":0},{"$f":"IF(AND(D257>=F11,D257<=G11),T11,0)","v":0},{"$f":"IF(AND(D257>=F12,D257<=G12),T12,0)","v":0},{"$f":"IF(AND(D257>=F13,D257<=G13),T13,0)","v":0},{"$f":"IF(AND(D257>=F14,D257<=G14),T14,0)","v":0},{"$f":"IF(AND(D257>=F15,D257<=G15),T15,0)","v":0},{"$f":"IF(AND(D257>=F16,D257<=G16),T16,0)","v":0},0,0,0,1]
[null,null,null,"2022-12-24",{"$f":"IF(D258<=G7,T7,0)","v":0},{"$f":"IF(AND(D258>=F8,D258<=G8),T8,0)","v":0},{"$f":"IF(AND(D258>=F9,D258<=G9),T9,0)","v":0},{"$f":"IF(AND(D258>=F10,D258<=G10),T10,0)","v":0},{"$f":"IF(AND(D258>=F11,D258<=G11),T11,0)","v":0},{"$f":"IF(AND(D258>=F12,D258<=G12),T12,0)","v":0},{"$f":"IF(AND(D258>=F13,D258<=G13),T13,0)","v":0},{"$f":"IF(AND(D258>=F14,D258<=G14),T14,0)","v":0},{"$f":"IF(AND(D258>=F15,D258<=G15),T15,0)","v":0},{"$f":"IF(AND(D258>=F16,D258<=G16),T16,0)","v":0},0,0,0,1]
[null,null,null,"2022-12-25",{"$f":"IF(D259<=G7,T7,0)","v":0},{"$f":"IF(AND(D259>=F8,D259<=G8),T8,0)","v":0},{"$f":"IF(AND(D259>=F9,D259<=G9),T9,0)","v":0},{"$f":"IF(AND(D259>=F10,D259<=G10),T10,0)","v":0},{"$f":"IF(AND(D259>=F11,D259<=G11),T11,0)","v":0},{"$f":"IF(AND(D259>=F12,D259<=G12),T12,0)","v":0},{"$f":"IF(AND(D259>=F13,D259<=G13),T13,0)","v":0},{"$f":"IF(AND(D259>=F14,D259<=G14),T14,0)","v":0},{"$f":"IF(AND(D259>=F15,D259<=G15),T15,0)","v":0},{"$f":"IF(AND(D259>=F16,D259<=G16),T16,0)","v":0},0,0,0,1]
[null,null,null,"2022-12-26",{"$f":"IF(D260<=G7,T7,0)","v":0},{"$f":"IF(AND(D260>=F8,D260<=G8),T8,0)","v":0},{"$f":"IF(AND(D260>=F9,D260<=G9),T9,0)","v":0},{"$f":"IF(AND(D260>=F10,D260<=G10),T10,0)","v":0},{"$f":"IF(AND(D260>=F11,D260<=G11),T11,0)","v":0},{"$f":"IF(AND(D260>=F12,D260<=G12),T12,0)","v":0},{"$f":"IF(AND(D260>=F13,D260<=G13),T13,0)","v":0},{"$f":"IF(AND(D260>=F14,D260<=G14),T14,0)","v":0},{"$f":"IF(AND(D260>=F15,D260<=G15),T15,0)","v":0},{"$f":"IF(AND(D260>=F16,D260<=G16),T16,0)","v":0},0,0,0,1]
[null,null,null,"2022-12-27",{"$f":"IF(D261<=G7,T7,0)","v":0},{"$f":"IF(AND(D261>=F8,D261<=G8),T8,0)","v":0},{"$f":"IF(AND(D261>=F9,D261<=G9),T9,0)","v":0},{"$f":"IF(AND(D261>=F10,D261<=G10),T10,0)","v":0},{"$f":"IF(AND(D261>=F11,D261<=G11),T11,0)","v":0},{"$f":"IF(AND(D261>=F12,D261<=G12),T12,0)","v":0},{"$f":"IF(AND(D261>=F13,D261<=G13),T13,0)","v":0},{"$f":"IF(AND(D261>=F14,D261<=G14),T14,0)","v":0},{"$f":"IF(AND(D261>=F15,D261<=G15),T15,0)","v":0},{"$f":"IF(AND(D261>=F16,D261<=G16),T16,0)","v":0},0,0,0,1]
[null,null,null,"2022-12-28",{"$f":"IF(D262<=G7,T7,0)","v":0},{"$f":"IF(AND(D262>=F8,D262<=G8),T8,0)","v":0},{"$f":"IF(AND(D262>=F9,D262<=G9),T9,0)","v":0},{"$f":"IF(AND(D262>=F10,D262<=G10),T10,0)","v":0},{"$f":"IF(AND(D262>=F11,D262<=G11),T11,0)","v":0},{"$f":"IF(AND(D262>=F12,D262<=G12),T12,0)","v":0},{"$f":"IF(AND(D262>=F13,D262<=G13),T13,0)","v":0},{"$f":"IF(AND(D262>=F14,D262<=G14),T14,0)","v":0},{"$f":"IF(AND(D262>=F15,D262<=G15),T15,0)","v":0},{"$f":"IF(AND(D262>=F16,D262<=G16),T16,0)","v":0},0,0,0,1]
[null,null,null,"2022-12-29",{"$f":"IF(D263<=G7,T7,0)","v":0},{"$f":"IF(AND(D263>=F8,D263<=G8),T8,0)","v":0},{"$f":"IF(AND(D263>=F9,D263<=G9),T9,0)","v":0},{"$f":"IF(AND(D263>=F10,D263<=G10),T10,0)","v":0},{"$f":"IF(AND(D263>=F11,D263<=G11),T11,0)","v":0},{"$f":"IF(AND(D263>=F12,D263<=G12),T12,0)","v":0},{"$f":"IF(AND(D263>=F13,D263<=G13),T13,0)","v":0},{"$f":"IF(AND(D263>=F14,D263<=G14),T14,0)","v":0},{"$f":"IF(AND(D263>=F15,D263<=G15),T15,0)","v":0},{"$f":"IF(AND(D263>=F16,D263<=G16),T16,0)","v":0},0,0,0,1]
[null,null,null,"2022-12-30",{"$f":"IF(D264<=G7,T7,0)","v":0},{"$f":"IF(AND(D264>=F8,D264<=G8),T8,0)","v":0},{"$f":"IF(AND(D264>=F9,D264<=G9),T9,0)","v":0},{"$f":"IF(AND(D264>=F10,D264<=G10),T10,0)","v":0},{"$f":"IF(AND(D264>=F11,D264<=G11),T11,0)","v":0},{"$f":"IF(AND(D264>=F12,D264<=G12),T12,0)","v":0},{"$f":"IF(AND(D264>=F13,D264<=G13),T13,0)","v":0},{"$f":"IF(AND(D264>=F14,D264<=G14),T14,0)","v":0},{"$f":"IF(AND(D264>=F15,D264<=G15),T15,0)","v":0},{"$f":"IF(AND(D264>=F16,D264<=G16),T16,0)","v":0},0,0,0,1]
[null,null,null,"2023-01-01",{"$f":"IF(D265<=G7,T7,0)","v":0},{"$f":"IF(AND(D265>=F8,D265<=G8),T8,0)","v":0},{"$f":"IF(AND(D265>=F9,D265<=G9),T9,0)","v":0},{"$f":"IF(AND(D265>=F10,D265<=G10),T10,0)","v":0},{"$f":"IF(AND(D265>=F11,D265<=G11),T11,0)","v":0},{"$f":"IF(AND(D265>=F12,D265<=G12),T12,0)","v":0},{"$f":"IF(AND(D265>=F13,D265<=G13),T13,0)","v":0},{"$f":"IF(AND(D265>=F14,D265<=G14),T14,0)","v":0},{"$f":"IF(AND(D265>=F15,D265<=G15),T15,0)","v":0},{"$f":"IF(AND(D265>=F16,D265<=G16),T16,0)","v":0},0,0,0,1]
[null,null,null,"2023-01-02",{"$f":"IF(D266<=G7,T7,0)","v":0},{"$f":"IF(AND(D266>=F8,D266<=G8),T8,0)","v":0},{"$f":"IF(AND(D266>=F9,D266<=G9),T9,0)","v":0},{"$f":"IF(AND(D266>=F10,D266<=G10),T10,0)","v":0},{"$f":"IF(AND(D266>=F11,D266<=G11),T11,0)","v":0},{"$f":"IF(AND(D266>=F12,D266<=G12),T12,0)","v":0},{"$f":"IF(AND(D266>=F13,D266<=G13),T13,0)","v":0},{"$f":"IF(AND(D266>=F14,D266<=G14),T14,0)","v":0},{"$f":"IF(AND(D266>=F15,D266<=G15),T15,0)","v":0},{"$f":"IF(AND(D266>=F16,D266<=G16),T16,0)","v":0},0,0,0,1]
[null,null,null,"2023-01-03",{"$f":"IF(D267<=G7,T7,0)","v":0},{"$f":"IF(AND(D267>=F8,D267<=G8),T8,0)","v":0},{"$f":"IF(AND(D267>=F9,D267<=G9),T9,0)","v":0},{"$f":"IF(AND(D267>=F10,D267<=G10),T10,0)","v":0},{"$f":"IF(AND(D267>=F11,D267<=G11),T11,0)","v":0},{"$f":"IF(AND(D267>=F12,D267<=G12),T12,0)","v":0},{"$f":"IF(AND(D267>=F13,D267<=G13),T13,0)","v":0},{"$f":"IF(AND(D267>=F14,D267<=G14),T14,0)","v":0},{"$f":"IF(AND(D267>=F15,D267<=G15),T15,0)","v":0},{"$f":"IF(AND(D267>=F16,D267<=G16),T16,0)","v":0},0,0,0,1]
[null,null,null,"2023-01-04",{"$f":"IF(D268<=G7,T7,0)","v":0},{"$f":"IF(AND(D268>=F8,D268<=G8),T8,0)","v":0},{"$f":"IF(AND(D268>=F9,D268<=G9),T9,0)","v":0},{"$f":"IF(AND(D268>=F10,D268<=G10),T10,0)","v":0},{"$f":"IF(AND(D268>=F11,D268<=G11),T11,0)","v":0},{"$f":"IF(AND(D268>=F12,D268<=G12),T12,0)","v":0},{"$f":"IF(AND(D268>=F13,D268<=G13),T13,0)","v":0},{"$f":"IF(AND(D268>=F14,D268<=G14),T14,0)","v":0},{"$f":"IF(AND(D268>=F15,D268<=G15),T15,0)","v":0},{"$f":"IF(AND(D268>=F16,D268<=G16),T16,0)","v":0},0,0,0,1]
[null,null,null,"2023-01-05",{"$f":"IF(D269<=G7,T7,0)","v":0},{"$f":"IF(AND(D269>=F8,D269<=G8),T8,0)","v":0},{"$f":"IF(AND(D269>=F9,D269<=G9),T9,0)","v":0},{"$f":"IF(AND(D269>=F10,D269<=G10),T10,0)","v":0},{"$f":"IF(AND(D269>=F11,D269<=G11),T11,0)","v":0},{"$f":"IF(AND(D269>=F12,D269<=G12),T12,0)","v":0},{"$f":"IF(AND(D269>=F13,D269<=G13),T13,0)","v":0},{"$f":"IF(AND(D269>=F14,D269<=G14),T14,0)","v":0},{"$f":"IF(AND(D269>=F15,D269<=G15),T15,0)","v":0},{"$f":"IF(AND(D269>=F16,D269<=G16),T16,0)","v":0},0,0,0,1]
[null,null,null,"2023-01-06",{"$f":"IF(D270<=G7,T7,0)","v":0},{"$f":"IF(AND(D270>=F8,D270<=G8),T8,0)","v":0},{"$f":"IF(AND(D270>=F9,D270<=G9),T9,0)","v":0},{"$f":"IF(AND(D270>=F10,D270<=G10),T10,0)","v":0},{"$f":"IF(AND(D270>=F11,D270<=G11),T11,0)","v":0},{"$f":"IF(AND(D270>=F12,D270<=G12),T12,0)","v":0},{"$f":"IF(AND(D270>=F13,D270<=G13),T13,0)","v":0},{"$f":"IF(AND(D270>=F14,D270<=G14),T14,0)","v":0},{"$f":"IF(AND(D270>=F15,D270<=G15),T15,0)","v":0},{"$f":"IF(AND(D270>=F16,D270<=G16),T16,0)","v":0},0,0,0,1]
[null,null,null,"2023-01-07",{"$f":"IF(D271<=G7,T7,0)","v":0},{"$f":"IF(AND(D271>=F8,D271<=G8),T8,0)","v":0},{"$f":"IF(AND(D271>=F9,D271<=G9),T9,0)","v":0},{"$f":"IF(AND(D271>=F10,D271<=G10),T10,0)","v":0},{"$f":"IF(AND(D271>=F11,D271<=G11),T11,0)","v":0},{"$f":"IF(AND(D271>=F12,D271<=G12),T12,0)","v":0},{"$f":"IF(AND(D271>=F13,D271<=G13),T13,0)","v":0},{"$f":"IF(AND(D271>=F14,D271<=G14),T14,0)","v":0},{"$f":"IF(AND(D271>=F15,D271<=G15),T15,0)","v":0},{"$f":"IF(AND(D271>=F16,D271<=G16),T16,0)","v":0},0,0,0,1]
[null,null,null,"2023-01-08",{"$f":"IF(D272<=G7,T7,0)","v":0},{"$f":"IF(AND(D272>=F8,D272<=G8),T8,0)","v":0},{"$f":"IF(AND(D272>=F9,D272<=G9),T9,0)","v":0},{"$f":"IF(AND(D272>=F10,D272<=G10),T10,0)","v":0},{"$f":"IF(AND(D272>=F11,D272<=G11),T11,0)","v":0},{"$f":"IF(AND(D272>=F12,D272<=G12),T12,0)","v":0},{"$f":"IF(AND(D272>=F13,D272<=G13),T13,0)","v":0},{"$f":"IF(AND(D272>=F14,D272<=G14),T14,0)","v":0},{"$f":"IF(AND(D272>=F15,D272<=G15),T15,0)","v":0},{"$f":"IF(AND(D272>=F16,D272<=G16),T16,0)","v":0},0,0,0,1]
[null,null,null,"2023-01-09",{"$f":"IF(D273<=G7,T7,0)","v":0},{"$f":"IF(AND(D273>=F8,D273<=G8),T8,0)","v":0},{"$f":"IF(AND(D273>=F9,D273<=G9),T9,0)","v":0},{"$f":"IF(AND(D273>=F10,D273<=G10),T10,0)","v":0},{"$f":"IF(AND(D273>=F11,D273<=G11),T11,0)","v":0},{"$f":"IF(AND(D273>=F12,D273<=G12),T12,0)","v":0},{"$f":"IF(AND(D273>=F13,D273<=G13),T13,0)","v":0},{"$f":"IF(AND(D273>=F14,D273<=G14),T14,0)","v":0},{"$f":"IF(AND(D273>=F15,D273<=G15),T15,0)","v":0},{"$f":"IF(AND(D273>=F16,D273<=G16),T16,0)","v":0},0,0,0,1]
[null,null,null,"2023-01-10",{"$f":"IF(D274<=G7,T7,0)","v":0},{"$f":"IF(AND(D274>=F8,D274<=G8),T8,0)","v":0},{"$f":"IF(AND(D274>=F9,D274<=G9),T9,0)","v":0},{"$f":"IF(AND(D274>=F10,D274<=G10),T10,0)","v":0},{"$f":"IF(AND(D274>=F11,D274<=G11),T11,0)","v":0},{"$f":"IF(AND(D274>=F12,D274<=G12),T12,0)","v":0},{"$f":"IF(AND(D274>=F13,D274<=G13),T13,0)","v":0},{"$f":"IF(AND(D274>=F14,D274<=G14),T14,0)","v":0},{"$f":"IF(AND(D274>=F15,D274<=G15),T15,0)","v":0},{"$f":"IF(AND(D274>=F16,D274<=G16),T16,0)","v":0},0,0,0,1]
[null,null,null,"2023-01-11",{"$f":"IF(D275<=G7,T7,0)","v":0},{"$f":"IF(AND(D275>=F8,D275<=G8),T8,0)","v":0},{"$f":"IF(AND(D275>=F9,D275<=G9),T9,0)","v":0},{"$f":"IF(AND(D275>=F10,D275<=G10),T10,0)","v":0},{"$f":"IF(AND(D275>=F11,D275<=G11),T11,0)","v":0},{"$f":"IF(AND(D275>=F12,D275<=G12),T12,0)","v":0},{"$f":"IF(AND(D275>=F13,D275<=G13),T13,0)","v":0},{"$f":"IF(AND(D275>=F14,D275<=G14),T14,0)","v":0},{"$f":"IF(AND(D275>=F15,D275<=G15),T15,0)","v":0},{"$f":"IF(AND(D275>=F16,D275<=G16),T16,0)","v":0},0,0,0,1]
[null,null,null,"2023-01-12",{"$f":"IF(D276<=G7,T7,0)","v":0},{"$f":"IF(AND(D276>=F8,D276<=G8),T8,0)","v":0},{"$f":"IF(AND(D276>=F9,D276<=G9),T9,0)","v":0},{"$f":"IF(AND(D276>=F10,D276<=G10),T10,0)","v":0},{"$f":"IF(AND(D276>=F11,D276<=G11),T11,0)","v":0},{"$f":"IF(AND(D276>=F12,D276<=G12),T12,0)","v":0},{"$f":"IF(AND(D276>=F13,D276<=G13),T13,0)","v":0},{"$f":"IF(AND(D276>=F14,D276<=G14),T14,0)","v":0},{"$f":"IF(AND(D276>=F15,D276<=G15),T15,0)","v":0},{"$f":"IF(AND(D276>=F16,D276<=G16),T16,0)","v":0},0,0,0,1]
[null,null,null,"2023-01-13",{"$f":"IF(D277<=G7,T7,0)","v":0},{"$f":"IF(AND(D277>=F8,D277<=G8),T8,0)","v":0},{"$f":"IF(AND(D277>=F9,D277<=G9),T9,0)","v":0},{"$f":"IF(AND(D277>=F10,D277<=G10),T10,0)","v":0},{"$f":"IF(AND(D277>=F11,D277<=G11),T11,0)","v":0},{"$f":"IF(AND(D277>=F12,D277<=G12),T12,0)","v":0},{"$f":"IF(AND(D277>=F13,D277<=G13),T13,0)","v":0},{"$f":"IF(AND(D277>=F14,D277<=G14),T14,0)","v":0},{"$f":"IF(AND(D277>=F15,D277<=G15),T15,0)","v":0},{"$f":"IF(AND(D277>=F16,D277<=G16),T16,0)","v":0},0,0,0,1]
[null,null,null,"2023-01-14",{"$f":"IF(D278<=G7,T7,0)","v":0},{"$f":"IF(AND(D278>=F8,D278<=G8),T8,0)","v":0},{"$f":"IF(AND(D278>=F9,D278<=G9),T9,0)","v":0},{"$f":"IF(AND(D278>=F10,D278<=G10),T10,0)","v":0},{"$f":"IF(AND(D278>=F11,D278<=G11),T11,0)","v":0},{"$f":"IF(AND(D278>=F12,D278<=G12),T12,0)","v":0},{"$f":"IF(AND(D278>=F13,D278<=G13),T13,0)","v":0},{"$f":"IF(AND(D278>=F14,D278<=G14),T14,0)","v":0},{"$f":"IF(AND(D278>=F15,D278<=G15),T15,0)","v":0},{"$f":"IF(AND(D278>=F16,D278<=G16),T16,0)","v":0},0,0,0,1]
[null,null,null,"2023-01-15",{"$f":"IF(D279<=G7,T7,0)","v":0},{"$f":"IF(AND(D279>=F8,D279<=G8),T8,0)","v":0},{"$f":"IF(AND(D279>=F9,D279<=G9),T9,0)","v":0},{"$f":"IF(AND(D279>=F10,D279<=G10),T10,0)","v":0},{"$f":"IF(AND(D279>=F11,D279<=G11),T11,0)","v":0},{"$f":"IF(AND(D279>=F12,D279<=G12),T12,0)","v":0},{"$f":"IF(AND(D279>=F13,D279<=G13),T13,0)","v":0},{"$f":"IF(AND(D279>=F14,D279<=G14),T14,0)","v":0},{"$f":"IF(AND(D279>=F15,D279<=G15),T15,0)","v":0},{"$f":"IF(AND(D279>=F16,D279<=G16),T16,0)","v":0},0,0,0,1]
[null,null,null,"2023-01-16",{"$f":"IF(D280<=G7,T7,0)","v":0},{"$f":"IF(AND(D280>=F8,D280<=G8),T8,0)","v":0},{"$f":"IF(AND(D280>=F9,D280<=G9),T9,0)","v":0},{"$f":"IF(AND(D280>=F10,D280<=G10),T10,0)","v":0},{"$f":"IF(AND(D280>=F11,D280<=G11),T11,0)","v":0},{"$f":"IF(AND(D280>=F12,D280<=G12),T12,0)","v":0},{"$f":"IF(AND(D280>=F13,D280<=G13),T13,0)","v":0},{"$f":"IF(AND(D280>=F14,D280<=G14),T14,0)","v":0},{"$f":"IF(AND(D280>=F15,D280<=G15),T15,0)","v":0},{"$f":"IF(AND(D280>=F16,D280<=G16),T16,0)","v":0},0,0,0,1]
[null,null,null,"2023-01-17",{"$f":"IF(D281<=G7,T7,0)","v":0},{"$f":"IF(AND(D281>=F8,D281<=G8),T8,0)","v":0},{"$f":"IF(AND(D281>=F9,D281<=G9),T9,0)","v":0},{"$f":"IF(AND(D281>=F10,D281<=G10),T10,0)","v":0},{"$f":"IF(AND(D281>=F11,D281<=G11),T11,0)","v":0},{"$f":"IF(AND(D281>=F12,D281<=G12),T12,0)","v":0},{"$f":"IF(AND(D281>=F13,D281<=G13),T13,0)","v":0},{"$f":"IF(AND(D281>=F14,D281<=G14),T14,0)","v":0},{"$f":"IF(AND(D281>=F15,D281<=G15),T15,0)","v":0},{"$f":"IF(AND(D281>=F16,D281<=G16),T16,0)","v":0},0,0,0,1]
[null,null,null,"2023-01-18",{"$f":"IF(D282<=G7,T7,0)","v":0},{"$f":"IF(AND(D282>=F8,D282<=G8),T8,0)","v":0},{"$f":"IF(AND(D282>=F9,D282<=G9),T9,0)","v":0},{"$f":"IF(AND(D282>=F10,D282<=G10),T10,0)","v":0},{"$f":"IF(AND(D282>=F11,D282<=G11),T11,0)","v":0},{"$f":"IF(AND(D282>=F12,D282<=G12),T12,0)","v":0},{"$f":"IF(AND(D282>=F13,D282<=G13),T13,0)","v":0},{"$f":"IF(AND(D282>=F14,D282<=G14),T14,0)","v":0},{"$f":"IF(AND(D282>=F15,D282<=G15),T15,0)","v":0},{"$f":"IF(AND(D282>=F16,D282<=G16),T16,0)","v":0},0,0,0,1]
[null,null,null,"2023-01-19",{"$f":"IF(D283<=G7,T7,0)","v":0},{"$f":"IF(AND(D283>=F8,D283<=G8),T8,0)","v":0},{"$f":"IF(AND(D283>=F9,D283<=G9),T9,0)","v":0},{"$f":"IF(AND(D283>=F10,D283<=G10),T10,0)","v":0},{"$f":"IF(AND(D283>=F11,D283<=G11),T11,0)","v":0},{"$f":"IF(AND(D283>=F12,D283<=G12),T12,0)","v":0},{"$f":"IF(AND(D283>=F13,D283<=G13),T13,0)","v":0},{"$f":"IF(AND(D283>=F14,D283<=G14),T14,0)","v":0},{"$f":"IF(AND(D283>=F15,D283<=G15),T15,0)","v":0},{"$f":"IF(AND(D283>=F16,D283<=G16),T16,0)","v":0},0,0,0,1]
[null,null,null,"2023-01-20",{"$f":"IF(D284<=G7,T7,0)","v":0},{"$f":"IF(AND(D284>=F8,D284<=G8),T8,0)","v":0},{"$f":"IF(AND(D284>=F9,D284<=G9),T9,0)","v":0},{"$f":"IF(AND(D284>=F10,D284<=G10),T10,0)","v":0},{"$f":"IF(AND(D284>=F11,D284<=G11),T11,0)","v":0},{"$f":"IF(AND(D284>=F12,D284<=G12),T12,0)","v":0},{"$f":"IF(AND(D284>=F13,D284<=G13),T13,0)","v":0},{"$f":"IF(AND(D284>=F14,D284<=G14),T14,0)","v":0},{"$f":"IF(AND(D284>=F15,D284<=G15),T15,0)","v":0},{"$f":"IF(AND(D284>=F16,D284<=G16),T16,0)","v":0},0,0,0,1]
[null,null,null,"2023-01-21",{"$f":"IF(D285<=G7,T7,0)","v":0},{"$f":"IF(AND(D285>=F8,D285<=G8),T8,0)","v":0},{"$f":"IF(AND(D285>=F9,D285<=G9),T9,0)","v":0},{"$f":"IF(AND(D285>=F10,D285<=G10),T10,0)","v":0},{"$f":"IF(AND(D285>=F11,D285<=G11),T11,0)","v":0},{"$f":"IF(AND(D285>=F12,D285<=G12),T12,0)","v":0},{"$f":"IF(AND(D285>=F13,D285<=G13),T13,0)","v":0},{"$f":"IF(AND(D285>=F14,D285<=G14),T14,0)","v":0},{"$f":"IF(AND(D285>=F15,D285<=G15),T15,0)","v":0},{"$f":"IF(AND(D285>=F16,D285<=G16),T16,0)","v":0},0,0,0,1]
[null,null,null,"2023-01-22",{"$f":"IF(D286<=G7,T7,0)","v":0},{"$f":"IF(AND(D286>=F8,D286<=G8),T8,0)","v":0},{"$f":"IF(AND(D286>=F9,D286<=G9),T9,0)","v":0},{"$f":"IF(AND(D286>=F10,D286<=G10),T10,0)","v":0},{"$f":"IF(AND(D286>=F11,D286<=G11),T11,0)","v":0},{"$f":"IF(AND(D286>=F12,D286<=G12),T12,0)","v":0},{"$f":"IF(AND(D286>=F13,D286<=G13),T13,0)","v":0},{"$f":"IF(AND(D286>=F14,D286<=G14),T14,0)","v":0},{"$f":"IF(AND(D286>=F15,D286<=G15),T15,0)","v":0},{"$f":"IF(AND(D286>=F16,D286<=G16),T16,0)","v":0},0,0,0,1]
[null,null,null,"2023-01-23",{"$f":"IF(D287<=G7,T7,0)","v":0},{"$f":"IF(AND(D287>=F8,D287<=G8),T8,0)","v":0},{"$f":"IF(AND(D287>=F9,D287<=G9),T9,0)","v":0},{"$f":"IF(AND(D287>=F10,D287<=G10),T10,0)","v":0},{"$f":"IF(AND(D287>=F11,D287<=G11),T11,0)","v":0},{"$f":"IF(AND(D287>=F12,D287<=G12),T12,0)","v":0},{"$f":"IF(AND(D287>=F13,D287<=G13),T13,0)","v":0},{"$f":"IF(AND(D287>=F14,D287<=G14),T14,0)","v":0},{"$f":"IF(AND(D287>=F15,D287<=G15),T15,0)","v":0},{"$f":"IF(AND(D287>=F16,D287<=G16),T16,0)","v":0},0,0,0,1]
[null,null,null,"2023-01-24",{"$f":"IF(D288<=G7,T7,0)","v":0},{"$f":"IF(AND(D288>=F8,D288<=G8),T8,0)","v":0},{"$f":"IF(AND(D288>=F9,D288<=G9),T9,0)","v":0},{"$f":"IF(AND(D288>=F10,D288<=G10),T10,0)","v":0},{"$f":"IF(AND(D288>=F11,D288<=G11),T11,0)","v":0},{"$f":"IF(AND(D288>=F12,D288<=G12),T12,0)","v":0},{"$f":"IF(AND(D288>=F13,D288<=G13),T13,0)","v":0},{"$f":"IF(AND(D288>=F14,D288<=G14),T14,0)","v":0},{"$f":"IF(AND(D288>=F15,D288<=G15),T15,0)","v":0},{"$f":"IF(AND(D288>=F16,D288<=G16),T16,0)","v":0},0,0,0,1]
[null,null,null,"2023-01-25",{"$f":"IF(D289<=G7,T7,0)","v":0},{"$f":"IF(AND(D289>=F8,D289<=G8),T8,0)","v":0},{"$f":"IF(AND(D289>=F9,D289<=G9),T9,0)","v":0},{"$f":"IF(AND(D289>=F10,D289<=G10),T10,0)","v":0},{"$f":"IF(AND(D289>=F11,D289<=G11),T11,0)","v":0},{"$f":"IF(AND(D289>=F12,D289<=G12),T12,0)","v":0},{"$f":"IF(AND(D289>=F13,D289<=G13),T13,0)","v":0},{"$f":"IF(AND(D289>=F14,D289<=G14),T14,0)","v":0},{"$f":"IF(AND(D289>=F15,D289<=G15),T15,0)","v":0},{"$f":"IF(AND(D289>=F16,D289<=G16),T16,0)","v":0},0,0,0,1]
[null,null,null,"2023-01-26",{"$f":"IF(D290<=G7,T7,0)","v":0},{"$f":"IF(AND(D290>=F8,D290<=G8),T8,0)","v":0},{"$f":"IF(AND(D290>=F9,D290<=G9),T9,0)","v":0},{"$f":"IF(AND(D290>=F10,D290<=G10),T10,0)","v":0},{"$f":"IF(AND(D290>=F11,D290<=G11),T11,0)","v":0},{"$f":"IF(AND(D290>=F12,D290<=G12),T12,0)","v":0},{"$f":"IF(AND(D290>=F13,D290<=G13),T13,0)","v":0},{"$f":"IF(AND(D290>=F14,D290<=G14),T14,0)","v":0},{"$f":"IF(AND(D290>=F15,D290<=G15),T15,0)","v":0},{"$f":"IF(AND(D290>=F16,D290<=G16),T16,0)","v":0},0,0,0,1]
[null,null,null,"2023-01-27",{"$f":"IF(D291<=G7,T7,0)","v":0},{"$f":"IF(AND(D291>=F8,D291<=G8),T8,0)","v":0},{"$f":"IF(AND(D291>=F9,D291<=G9),T9,0)","v":0},{"$f":"IF(AND(D291>=F10,D291<=G10),T10,0)","v":0},{"$f":"IF(AND(D291>=F11,D291<=G11),T11,0)","v":0},{"$f":"IF(AND(D291>=F12,D291<=G12),T12,0)","v":0},{"$f":"IF(AND(D291>=F13,D291<=G13),T13,0)","v":0},{"$f":"IF(AND(D291>=F14,D291<=G14),T14,0)","v":0},{"$f":"IF(AND(D291>=F15,D291<=G15),T15,0)","v":0},{"$f":"IF(AND(D291>=F16,D291<=G16),T16,0)","v":0},0,0,0,1]
[null,null,null,"2023-01-28",{"$f":"IF(D292<=G7,T7,0)","v":0},{"$f":"IF(AND(D292>=F8,D292<=G8),T8,0)","v":0},{"$f":"IF(AND(D292>=F9,D292<=G9),T9,0)","v":0},{"$f":"IF(AND(D292>=F10,D292<=G10),T10,0)","v":0},{"$f":"IF(AND(D292>=F11,D292<=G11),T11,0)","v":0},{"$f":"IF(AND(D292>=F12,D292<=G12),T12,0)","v":0},{"$f":"IF(AND(D292>=F13,D292<=G13),T13,0)","v":0},{"$f":"IF(AND(D292>=F14,D292<=G14),T14,0)","v":0},{"$f":"IF(AND(D292>=F15,D292<=G15),T15,0)","v":0},{"$f":"IF(AND(D292>=F16,D292<=G16),T16,0)","v":0},0,0,0,1]
[null,null,null,"2023-01-29",{"$f":"IF(D293<=G7,T7,0)","v":0},{"$f":"IF(AND(D293>=F8,D293<=G8),T8,0)","v":0},{"$f":"IF(AND(D293>=F9,D293<=G9),T9,0)","v":0},{"$f":"IF(AND(D293>=F10,D293<=G10),T10,0)","v":0},{"$f":"IF(AND(D293>=F11,D293<=G11),T11,0)","v":0},{"$f":"IF(AND(D293>=F12,D293<=G12),T12,0)","v":0},{"$f":"IF(AND(D293>=F13,D293<=G13),T13,0)","v":0},{"$f":"IF(AND(D293>=F14,D293<=G14),T14,0)","v":0},{"$f":"IF(AND(D293>=F15,D293<=G15),T15,0)","v":0},{"$f":"IF(AND(D293>=F16,D293<=G16),T16,0)","v":0},0,0,0,1]
[null,null,null,"2023-01-30",{"$f":"IF(D294<=G7,T7,0)","v":0},{"$f":"IF(AND(D294>=F8,D294<=G8),T8,0)","v":0},{"$f":"IF(AND(D294>=F9,D294<=G9),T9,0)","v":0},{"$f":"IF(AND(D294>=F10,D294<=G10),T10,0)","v":0},{"$f":"IF(AND(D294>=F11,D294<=G11),T11,0)","v":0},{"$f":"IF(AND(D294>=F12,D294<=G12),T12,0)","v":0},{"$f":"IF(AND(D294>=F13,D294<=G13),T13,0)","v":0},{"$f":"IF(AND(D294>=F14,D294<=G14),T14,0)","v":0},{"$f":"IF(AND(D294>=F15,D294<=G15),T15,0)","v":0},{"$f":"IF(AND(D294>=F16,D294<=G16),T16,0)","v":0},0,0,0,1]
[null,null,null,"2023-02-01",{"$f":"IF(D295<=G7,T7,0)","v":0},{"$f":"IF(AND(D295>=F8,D295<=G8),T8,0)","v":0},{"$f":"IF(AND(D295>=F9,D295<=G9),T9,0)","v":0},{"$f":"IF(AND(D295>=F10,D295<=G10),T10,0)","v":0},{"$f":"IF(AND(D295>=F11,D295<=G11),T11,0)","v":0},{"$f":"IF(AND(D295>=F12,D295<=G12),T12,0)","v":0},{"$f":"IF(AND(D295>=F13,D295<=G13),T13,0)","v":0},{"$f":"IF(AND(D295>=F14,D295<=G14),T14,0)","v":0},{"$f":"IF(AND(D295>=F15,D295<=G15),T15,0)","v":0},{"$f":"IF(AND(D295>=F16,D295<=G16),T16,0)","v":0},0,0,0,1]
[null,null,null,"2023-02-02",{"$f":"IF(D296<=G7,T7,0)","v":0},{"$f":"IF(AND(D296>=F8,D296<=G8),T8,0)","v":0},{"$f":"IF(AND(D296>=F9,D296<=G9),T9,0)","v":0},{"$f":"IF(AND(D296>=F10,D296<=G10),T10,0)","v":0},{"$f":"IF(AND(D296>=F11,D296<=G11),T11,0)","v":0},{"$f":"IF(AND(D296>=F12,D296<=G12),T12,0)","v":0},{"$f":"IF(AND(D296>=F13,D296<=G13),T13,0)","v":0},{"$f":"IF(AND(D296>=F14,D296<=G14),T14,0)","v":0},{"$f":"IF(AND(D296>=F15,D296<=G15),T15,0)","v":0},{"$f":"IF(AND(D296>=F16,D296<=G16),T16,0)","v":0},0,0,0,1]
[null,null,null,"2023-02-03",{"$f":"IF(D297<=G7,T7,0)","v":0},{"$f":"IF(AND(D297>=F8,D297<=G8),T8,0)","v":0},{"$f":"IF(AND(D297>=F9,D297<=G9),T9,0)","v":0},{"$f":"IF(AND(D297>=F10,D297<=G10),T10,0)","v":0},{"$f":"IF(AND(D297>=F11,D297<=G11),T11,0)","v":0},{"$f":"IF(AND(D297>=F12,D297<=G12),T12,0)","v":0},{"$f":"IF(AND(D297>=F13,D297<=G13),T13,0)","v":0},{"$f":"IF(AND(D297>=F14,D297<=G14),T14,0)","v":0},{"$f":"IF(AND(D297>=F15,D297<=G15),T15,0)","v":0},{"$f":"IF(AND(D297>=F16,D297<=G16),T16,0)","v":0},0,0,0,1]
[null,null,null,"2023-02-04",{"$f":"IF(D298<=G7,T7,0)","v":0},{"$f":"IF(AND(D298>=F8,D298<=G8),T8,0)","v":0},{"$f":"IF(AND(D298>=F9,D298<=G9),T9,0)","v":0},{"$f":"IF(AND(D298>=F10,D298<=G10),T10,0)","v":0},{"$f":"IF(AND(D298>=F11,D298<=G11),T11,0)","v":0},{"$f":"IF(AND(D298>=F12,D298<=G12),T12,0)","v":0},{"$f":"IF(AND(D298>=F13,D298<=G13),T13,0)","v":0},{"$f":"IF(AND(D298>=F14,D298<=G14),T14,0)","v":0},{"$f":"IF(AND(D298>=F15,D298<=G15),T15,0)","v":0},{"$f":"IF(AND(D298>=F16,D298<=G16),T16,0)","v":0},0,0,0,1]
[null,null,null,"2023-02-05",{"$f":"IF(D299<=G7,T7,0)","v":0},{"$f":"IF(AND(D299>=F8,D299<=G8),T8,0)","v":0},{"$f":"IF(AND(D299>=F9,D299<=G9),T9,0)","v":0},{"$f":"IF(AND(D299>=F10,D299<=G10),T10,0)","v":0},{"$f":"IF(AND(D299>=F11,D299<=G11),T11,0)","v":0},{"$f":"IF(AND(D299>=F12,D299<=G12),T12,0)","v":0},{"$f":"IF(AND(D299>=F13,D299<=G13),T13,0)","v":0},{"$f":"IF(AND(D299>=F14,D299<=G14),T14,0)","v":0},{"$f":"IF(AND(D299>=F15,D299<=G15),T15,0)","v":0},{"$f":"IF(AND(D299>=F16,D299<=G16),T16,0)","v":0},0,0,0,1]
[null,null,null,"2023-02-06",{"$f":"IF(D300<=G7,T7,0)","v":0},{"$f":"IF(AND(D300>=F8,D300<=G8),T8,0)","v":0},{"$f":"IF(AND(D300>=F9,D300<=G9),T9,0)","v":0},{"$f":"IF(AND(D300>=F10,D300<=G10),T10,0)","v":0},{"$f":"IF(AND(D300>=F11,D300<=G11),T11,0)","v":0},{"$f":"IF(AND(D300>=F12,D300<=G12),T12,0)","v":0},{"$f":"IF(AND(D300>=F13,D300<=G13),T13,0)","v":0},{"$f":"IF(AND(D300>=F14,D300<=G14),T14,0)","v":0},{"$f":"IF(AND(D300>=F15,D300<=G15),T15,0)","v":0},{"$f":"IF(AND(D300>=F16,D300<=G16),T16,0)","v":0},0,0,0,1]
[null,null,null,"2023-02-07",{"$f":"IF(D301<=G7,T7,0)","v":0},{"$f":"IF(AND(D301>=F8,D301<=G8),T8,0)","v":0},{"$f":"IF(AND(D301>=F9,D301<=G9),T9,0)","v":0},{"$f":"IF(AND(D301>=F10,D301<=G10),T10,0)","v":0},{"$f":"IF(AND(D301>=F11,D301<=G11),T11,0)","v":0},{"$f":"IF(AND(D301>=F12,D301<=G12),T12,0)","v":0},{"$f":"IF(AND(D301>=F13,D301<=G13),T13,0)","v":0},{"$f":"IF(AND(D301>=F14,D301<=G14),T14,0)","v":0},{"$f":"IF(AND(D301>=F15,D301<=G15),T15,0)","v":0},{"$f":"IF(AND(D301>=F16,D301<=G16),T16,0)","v":0},0,0,0,1]
[null,null,null,"2023-02-08",{"$f":"IF(D302<=G7,T7,0)","v":0},{"$f":"IF(AND(D302>=F8,D302<=G8),T8,0)","v":0},{"$f":"IF(AND(D302>=F9,D302<=G9),T9,0)","v":0},{"$f":"IF(AND(D302>=F10,D302<=G10),T10,0)","v":0},{"$f":"IF(AND(D302>=F11,D302<=G11),T11,0)","v":0},{"$f":"IF(AND(D302>=F12,D302<=G12),T12,0)","v":0},{"$f":"IF(AND(D302>=F13,D302<=G13),T13,0)","v":0},{"$f":"IF(AND(D302>=F14,D302<=G14),T14,0)","v":0},{"$f":"IF(AND(D302>=F15,D302<=G15),T15,0)","v":0},{"$f":"IF(AND(D302>=F16,D302<=G16),T16,0)","v":0},0,0,0,1]
[null,null,null,"2023-02-09",{"$f":"IF(D303<=G7,T7,0)","v":0},{"$f":"IF(AND(D303>=F8,D303<=G8),T8,0)","v":0},{"$f":"IF(AND(D303>=F9,D303<=G9),T9,0)","v":0},{"$f":"IF(AND(D303>=F10,D303<=G10),T10,0)","v":0},{"$f":"IF(AND(D303>=F11,D303<=G11),T11,0)","v":0},{"$f":"IF(AND(D303>=F12,D303<=G12),T12,0)","v":0},{"$f":"IF(AND(D303>=F13,D303<=G13),T13,0)","v":0},{"$f":"IF(AND(D303>=F14,D303<=G14),T14,0)","v":0},{"$f":"IF(AND(D303>=F15,D303<=G15),T15,0)","v":0},{"$f":"IF(AND(D303>=F16,D303<=G16),T16,0)","v":0},0,0,0,1]
[null,null,null,"2023-02-10",{"$f":"IF(D304<=G7,T7,0)","v":0},{"$f":"IF(AND(D304>=F8,D304<=G8),T8,0)","v":0},{"$f":"IF(AND(D304>=F9,D304<=G9),T9,0)","v":0},{"$f":"IF(AND(D304>=F10,D304<=G10),T10,0)","v":0},{"$f":"IF(AND(D304>=F11,D304<=G11),T11,0)","v":0},{"$f":"IF(AND(D304>=F12,D304<=G12),T12,0)","v":0},{"$f":"IF(AND(D304>=F13,D304<=G13),T13,0)","v":0},{"$f":"IF(AND(D304>=F14,D304<=G14),T14,0)","v":0},{"$f":"IF(AND(D304>=F15,D304<=G15),T15,0)","v":0},{"$f":"IF(AND(D304>=F16,D304<=G16),T16,0)","v":0},0,0,0,1]
[null,null,null,"2023-02-11",{"$f":"IF(D305<=G7,T7,0)","v":0},{"$f":"IF(AND(D305>=F8,D305<=G8),T8,0)","v":0},{"$f":"IF(AND(D305>=F9,D305<=G9),T9,0)","v":0},{"$f":"IF(AND(D305>=F10,D305<=G10),T10,0)","v":0},{"$f":"IF(AND(D305>=F11,D305<=G11),T11,0)","v":0},{"$f":"IF(AND(D305>=F12,D305<=G12),T12,0)","v":0},{"$f":"IF(AND(D305>=F13,D305<=G13),T13,0)","v":0},{"$f":"IF(AND(D305>=F14,D305<=G14),T14,0)","v":0},{"$f":"IF(AND(D305>=F15,D305<=G15),T15,0)","v":0},{"$f":"IF(AND(D305>=F16,D305<=G16),T16,0)","v":0},0,0,0,1]
[null,null,null,"2023-02-12",{"$f":"IF(D306<=G7,T7,0)","v":0},{"$f":"IF(AND(D306>=F8,D306<=G8),T8,0)","v":0},{"$f":"IF(AND(D306>=F9,D306<=G9),T9,0)","v":0},{"$f":"IF(AND(D306>=F10,D306<=G10),T10,0)","v":0},{"$f":"IF(AND(D306>=F11,D306<=G11),T11,0)","v":0},{"$f":"IF(AND(D306>=F12,D306<=G12),T12,0)","v":0},{"$f":"IF(AND(D306>=F13,D306<=G13),T13,0)","v":0},{"$f":"IF(AND(D306>=F14,D306<=G14),T14,0)","v":0},{"$f":"IF(AND(D306>=F15,D306<=G15),T15,0)","v":0},{"$f":"IF(AND(D306>=F16,D306<=G16),T16,0)","v":0},0,{"$f":"IF(O306>=1,1,O306)","v":0},0,1]
[null,null,null,{"$f":"IF(DAY(D306)+1=31, D306+2, D306+1)","v":"2023-02-13"},{"$f":"IF(D307<=G7,T7,0)","v":0},{"$f":"IF(AND(D307>=F8,D307<=G8),T8,0)","v":0},{"$f":"IF(AND(D307>=F9,D307<=G9),T9,0)","v":0},{"$f":"IF(AND(D307>=F10,D307<=G10),T10,0)","v":0},{"$f":"IF(AND(D307>=F11,D307<=G11),T11,0)","v":0},{"$f":"IF(AND(D307>=F12,D307<=G12),T12,0)","v":0},{"$f":"IF(AND(D307>=F13,D307<=G13),T13,0)","v":0},{"$f":"IF(AND(D307>=F14,D307<=G14),T14,0)","v":0},{"$f":"IF(AND(D307>=F15,D307<=G15),T15,0)","v":0},{"$f":"IF(AND(D307>=F16,D307<=G16),T16,0)","v":0},0,0,0,{"$f":"SUM(Q306,R306)","v":1}]
[null,null,null,"2023-02-14",{"$f":"IF(D308<=G7,T7,0)","v":0},{"$f":"IF(AND(D308>=F8,D308<=G8),T8,0)","v":0},{"$f":"IF(AND(D308>=F9,D308<=G9),T9,0)","v":0},{"$f":"IF(AND(D308>=F10,D308<=G10),T10,0)","v":0},{"$f":"IF(AND(D308>=F11,D308<=G11),T11,0)","v":0},{"$f":"IF(AND(D308>=F12,D308<=G12),T12,0)","v":0},{"$f":"IF(AND(D308>=F13,D308<=G13),T13,0)","v":0},{"$f":"IF(AND(D308>=F14,D308<=G14),T14,0)","v":0},{"$f":"IF(AND(D308>=F15,D308<=G15),T15,0)","v":0},{"$f":"IF(AND(D308>=F16,D308<=G16),T16,0)","v":0},{"$f":"IF(AND(SUM(E308:N308)>0,SUM(E308:N308)<1),1,TRUNC(SUM(E308:N308),0))","v":0},0,0,1]
[null,null,null,"2023-02-15",{"$f":"IF(D309<=G7,T7,0)","v":0},{"$f":"IF(AND(D309>=F8,D309<=G8),T8,0)","v":0},{"$f":"IF(AND(D309>=F9,D309<=G9),T9,0)","v":0},{"$f":"IF(AND(D309>=F10,D309<=G10),T10,0)","v":0},{"$f":"IF(AND(D309>=F11,D309<=G11),T11,0)","v":0},{"$f":"IF(AND(D309>=F12,D309<=G12),T12,0)","v":0},{"$f":"IF(AND(D309>=F13,D309<=G13),T13,0)","v":0},{"$f":"IF(AND(D309>=F14,D309<=G14),T14,0)","v":0},{"$f":"IF(AND(D309>=F15,D309<=G15),T15,0)","v":0},{"$f":"IF(AND(D309>=F16,D309<=G16),T16,0)","v":0},0,0,{"$f":"IF(O308=O309,0,1)","v":0},1]
[null,null,null,"2023-02-16",{"$f":"IF(D310<=G7,T7,0)","v":0},{"$f":"IF(AND(D310>=F8,D310<=G8),T8,0)","v":0},{"$f":"IF(AND(D310>=F9,D310<=G9),T9,0)","v":0},{"$f":"IF(AND(D310>=F10,D310<=G10),T10,0)","v":0},{"$f":"IF(AND(D310>=F11,D310<=G11),T11,0)","v":0},{"$f":"IF(AND(D310>=F12,D310<=G12),T12,0)","v":0},{"$f":"IF(AND(D310>=F13,D310<=G13),T13,0)","v":0},{"$f":"IF(AND(D310>=F14,D310<=G14),T14,0)","v":0},{"$f":"IF(AND(D310>=F15,D310<=G15),T15,0)","v":0},{"$f":"IF(AND(D310>=F16,D310<=G16),T16,0)","v":0},0,0,0,1]
[null,null,null,"2023-02-17",{"$f":"IF(D311<=G7,T7,0)","v":0},{"$f":"IF(AND(D311>=F8,D311<=G8),T8,0)","v":0},{"$f":"IF(AND(D311>=F9,D311<=G9),T9,0)","v":0},{"$f":"IF(AND(D311>=F10,D311<=G10),T10,0)","v":0},{"$f":"IF(AND(D311>=F11,D311<=G11),T11,0)","v":0},{"$f":"IF(AND(D311>=F12,D311<=G12),T12,0)","v":0},{"$f":"IF(AND(D311>=F13,D311<=G13),T13,0)","v":0},{"$f":"IF(AND(D311>=F14,D311<=G14),T14,0)","v":0},{"$f":"IF(AND(D311>=F15,D311<=G15),T15,0)","v":0},{"$f":"IF(AND(D311>=F16,D311<=G16),T16,0)","v":0},0,0,0,1]
[null,null,null,"2023-02-18",{"$f":"IF(D312<=G7,T7,0)","v":0},{"$f":"IF(AND(D312>=F8,D312<=G8),T8,0)","v":0},{"$f":"IF(AND(D312>=F9,D312<=G9),T9,0)","v":0},{"$f":"IF(AND(D312>=F10,D312<=G10),T10,0)","v":0},{"$f":"IF(AND(D312>=F11,D312<=G11),T11,0)","v":0},{"$f":"IF(AND(D312>=F12,D312<=G12),T12,0)","v":0},{"$f":"IF(AND(D312>=F13,D312<=G13),T13,0)","v":0},{"$f":"IF(AND(D312>=F14,D312<=G14),T14,0)","v":0},{"$f":"IF(AND(D312>=F15,D312<=G15),T15,0)","v":0},{"$f":"IF(AND(D312>=F16,D312<=G16),T16,0)","v":0},0,0,0,1]
[null,null,null,"2023-02-19",{"$f":"IF(D313<=G7,T7,0)","v":0},{"$f":"IF(AND(D313>=F8,D313<=G8),T8,0)","v":0},{"$f":"IF(AND(D313>=F9,D313<=G9),T9,0)","v":0},{"$f":"IF(AND(D313>=F10,D313<=G10),T10,0)","v":0},{"$f":"IF(AND(D313>=F11,D313<=G11),T11,0)","v":0},{"$f":"IF(AND(D313>=F12,D313<=G12),T12,0)","v":0},{"$f":"IF(AND(D313>=F13,D313<=G13),T13,0)","v":0},{"$f":"IF(AND(D313>=F14,D313<=G14),T14,0)","v":0},{"$f":"IF(AND(D313>=F15,D313<=G15),T15,0)","v":0},{"$f":"IF(AND(D313>=F16,D313<=G16),T16,0)","v":0},0,0,0,1]
[null,null,null,"2023-02-20",{"$f":"IF(D314<=G7,T7,0)","v":0},{"$f":"IF(AND(D314>=F8,D314<=G8),T8,0)","v":0},{"$f":"IF(AND(D314>=F9,D314<=G9),T9,0)","v":0},{"$f":"IF(AND(D314>=F10,D314<=G10),T10,0)","v":0},{"$f":"IF(AND(D314>=F11,D314<=G11),T11,0)","v":0},{"$f":"IF(AND(D314>=F12,D314<=G12),T12,0)","v":0},{"$f":"IF(AND(D314>=F13,D314<=G13),T13,0)","v":0},{"$f":"IF(AND(D314>=F14,D314<=G14),T14,0)","v":0},{"$f":"IF(AND(D314>=F15,D314<=G15),T15,0)","v":0},{"$f":"IF(AND(D314>=F16,D314<=G16),T16,0)","v":0},0,0,0,1]
[null,null,null,"2023-02-21",{"$f":"IF(D315<=G7,T7,0)","v":0},{"$f":"IF(AND(D315>=F8,D315<=G8),T8,0)","v":0},{"$f":"IF(AND(D315>=F9,D315<=G9),T9,0)","v":0},{"$f":"IF(AND(D315>=F10,D315<=G10),T10,0)","v":0},{"$f":"IF(AND(D315>=F11,D315<=G11),T11,0)","v":0},{"$f":"IF(AND(D315>=F12,D315<=G12),T12,0)","v":0},{"$f":"IF(AND(D315>=F13,D315<=G13),T13,0)","v":0},{"$f":"IF(AND(D315>=F14,D315<=G14),T14,0)","v":0},{"$f":"IF(AND(D315>=F15,D315<=G15),T15,0)","v":0},{"$f":"IF(AND(D315>=F16,D315<=G16),T16,0)","v":0},0,0,0,1]
[null,null,null,"2023-02-22",{"$f":"IF(D316<=G7,T7,0)","v":0},{"$f":"IF(AND(D316>=F8,D316<=G8),T8,0)","v":0},{"$f":"IF(AND(D316>=F9,D316<=G9),T9,0)","v":0},{"$f":"IF(AND(D316>=F10,D316<=G10),T10,0)","v":0},{"$f":"IF(AND(D316>=F11,D316<=G11),T11,0)","v":0},{"$f":"IF(AND(D316>=F12,D316<=G12),T12,0)","v":0},{"$f":"IF(AND(D316>=F13,D316<=G13),T13,0)","v":0},{"$f":"IF(AND(D316>=F14,D316<=G14),T14,0)","v":0},{"$f":"IF(AND(D316>=F15,D316<=G15),T15,0)","v":0},{"$f":"IF(AND(D316>=F16,D316<=G16),T16,0)","v":0},0,0,0,1]
[null,null,null,"2023-02-23",{"$f":"IF(D317<=G7,T7,0)","v":0},{"$f":"IF(AND(D317>=F8,D317<=G8),T8,0)","v":0},{"$f":"IF(AND(D317>=F9,D317<=G9),T9,0)","v":0},{"$f":"IF(AND(D317>=F10,D317<=G10),T10,0)","v":0},{"$f":"IF(AND(D317>=F11,D317<=G11),T11,0)","v":0},{"$f":"IF(AND(D317>=F12,D317<=G12),T12,0)","v":0},{"$f":"IF(AND(D317>=F13,D317<=G13),T13,0)","v":0},{"$f":"IF(AND(D317>=F14,D317<=G14),T14,0)","v":0},{"$f":"IF(AND(D317>=F15,D317<=G15),T15,0)","v":0},{"$f":"IF(AND(D317>=F16,D317<=G16),T16,0)","v":0},0,0,0,1]
[null,null,null,"2023-02-24",{"$f":"IF(D318<=G7,T7,0)","v":0},{"$f":"IF(AND(D318>=F8,D318<=G8),T8,0)","v":0},{"$f":"IF(AND(D318>=F9,D318<=G9),T9,0)","v":0},{"$f":"IF(AND(D318>=F10,D318<=G10),T10,0)","v":0},{"$f":"IF(AND(D318>=F11,D318<=G11),T11,0)","v":0},{"$f":"IF(AND(D318>=F12,D318<=G12),T12,0)","v":0},{"$f":"IF(AND(D318>=F13,D318<=G13),T13,0)","v":0},{"$f":"IF(AND(D318>=F14,D318<=G14),T14,0)","v":0},{"$f":"IF(AND(D318>=F15,D318<=G15),T15,0)","v":0},{"$f":"IF(AND(D318>=F16,D318<=G16),T16,0)","v":0},0,0,0,1]
[null,null,null,"2023-02-25",{"$f":"IF(D319<=G7,T7,0)","v":0},{"$f":"IF(AND(D319>=F8,D319<=G8),T8,0)","v":0},{"$f":"IF(AND(D319>=F9,D319<=G9),T9,0)","v":0},{"$f":"IF(AND(D319>=F10,D319<=G10),T10,0)","v":0},{"$f":"IF(AND(D319>=F11,D319<=G11),T11,0)","v":0},{"$f":"IF(AND(D319>=F12,D319<=G12),T12,0)","v":0},{"$f":"IF(AND(D319>=F13,D319<=G13),T13,0)","v":0},{"$f":"IF(AND(D319>=F14,D319<=G14),T14,0)","v":0},{"$f":"IF(AND(D319>=F15,D319<=G15),T15,0)","v":0},{"$f":"IF(AND(D319>=F16,D319<=G16),T16,0)","v":0},0,0,0,1]
[null,null,null,"2023-02-26",{"$f":"IF(D320<=G7,T7,0)","v":0},{"$f":"IF(AND(D320>=F8,D320<=G8),T8,0)","v":0},{"$f":"IF(AND(D320>=F9,D320<=G9),T9,0)","v":0},{"$f":"IF(AND(D320>=F10,D320<=G10),T10,0)","v":0},{"$f":"IF(AND(D320>=F11,D320<=G11),T11,0)","v":0},{"$f":"IF(AND(D320>=F12,D320<=G12),T12,0)","v":0},{"$f":"IF(AND(D320>=F13,D320<=G13),T13,0)","v":0},{"$f":"IF(AND(D320>=F14,D320<=G14),T14,0)","v":0},{"$f":"IF(AND(D320>=F15,D320<=G15),T15,0)","v":0},{"$f":"IF(AND(D320>=F16,D320<=G16),T16,0)","v":0},0,0,0,1]
[null,null,null,"2023-02-27",{"$f":"IF(D321<=G7,T7,0)","v":0},{"$f":"IF(AND(D321>=F8,D321<=G8),T8,0)","v":0},{"$f":"IF(AND(D321>=F9,D321<=G9),T9,0)","v":0},{"$f":"IF(AND(D321>=F10,D321<=G10),T10,0)","v":0},{"$f":"IF(AND(D321>=F11,D321<=G11),T11,0)","v":0},{"$f":"IF(AND(D321>=F12,D321<=G12),T12,0)","v":0},{"$f":"IF(AND(D321>=F13,D321<=G13),T13,0)","v":0},{"$f":"IF(AND(D321>=F14,D321<=G14),T14,0)","v":0},{"$f":"IF(AND(D321>=F15,D321<=G15),T15,0)","v":0},{"$f":"IF(AND(D321>=F16,D321<=G16),T16,0)","v":0},0,0,0,1]
[null,null,null,"2023-02-28",{"$f":"IF(D322<=G7,T7,0)","v":0},{"$f":"IF(AND(D322>=F8,D322<=G8),T8,0)","v":0},{"$f":"IF(AND(D322>=F9,D322<=G9),T9,0)","v":0},{"$f":"IF(AND(D322>=F10,D322<=G10),T10,0)","v":0},{"$f":"IF(AND(D322>=F11,D322<=G11),T11,0)","v":0},{"$f":"IF(AND(D322>=F12,D322<=G12),T12,0)","v":0},{"$f":"IF(AND(D322>=F13,D322<=G13),T13,0)","v":0},{"$f":"IF(AND(D322>=F14,D322<=G14),T14,0)","v":0},{"$f":"IF(AND(D322>=F15,D322<=G15),T15,0)","v":0},{"$f":"IF(AND(D322>=F16,D322<=G16),T16,0)","v":0},0,0,0,1]
[null,null,null,"2023-03-01",{"$f":"IF(D323<=G7,T7,0)","v":0},{"$f":"IF(AND(D323>=F8,D323<=G8),T8,0)","v":0},{"$f":"IF(AND(D323>=F9,D323<=G9),T9,0)","v":0},{"$f":"IF(AND(D323>=F10,D323<=G10),T10,0)","v":0},{"$f":"IF(AND(D323>=F11,D323<=G11),T11,0)","v":0},{"$f":"IF(AND(D323>=F12,D323<=G12),T12,0)","v":0},{"$f":"IF(AND(D323>=F13,D323<=G13),T13,0)","v":0},{"$f":"IF(AND(D323>=F14,D323<=G14),T14,0)","v":0},{"$f":"IF(AND(D323>=F15,D323<=G15),T15,0)","v":0},{"$f":"IF(AND(D323>=F16,D323<=G16),T16,0)","v":0},0,0,0,1]
[null,null,null,"2023-03-02",{"$f":"IF(D324<=G7,T7,0)","v":0},{"$f":"IF(AND(D324>=F8,D324<=G8),T8,0)","v":0},{"$f":"IF(AND(D324>=F9,D324<=G9),T9,0)","v":0},{"$f":"IF(AND(D324>=F10,D324<=G10),T10,0)","v":0},{"$f":"IF(AND(D324>=F11,D324<=G11),T11,0)","v":0},{"$f":"IF(AND(D324>=F12,D324<=G12),T12,0)","v":0},{"$f":"IF(AND(D324>=F13,D324<=G13),T13,0)","v":0},{"$f":"IF(AND(D324>=F14,D324<=G14),T14,0)","v":0},{"$f":"IF(AND(D324>=F15,D324<=G15),T15,0)","v":0},{"$f":"IF(AND(D324>=F16,D324<=G16),T16,0)","v":0},0,0,0,1]
[null,null,null,"2023-03-03",{"$f":"IF(D325<=G7,T7,0)","v":0},{"$f":"IF(AND(D325>=F8,D325<=G8),T8,0)","v":0},{"$f":"IF(AND(D325>=F9,D325<=G9),T9,0)","v":0},{"$f":"IF(AND(D325>=F10,D325<=G10),T10,0)","v":0},{"$f":"IF(AND(D325>=F11,D325<=G11),T11,0)","v":0},{"$f":"IF(AND(D325>=F12,D325<=G12),T12,0)","v":0},{"$f":"IF(AND(D325>=F13,D325<=G13),T13,0)","v":0},{"$f":"IF(AND(D325>=F14,D325<=G14),T14,0)","v":0},{"$f":"IF(AND(D325>=F15,D325<=G15),T15,0)","v":0},{"$f":"IF(AND(D325>=F16,D325<=G16),T16,0)","v":0},0,0,0,1]
[null,null,null,"2023-03-04",{"$f":"IF(D326<=G7,T7,0)","v":0},{"$f":"IF(AND(D326>=F8,D326<=G8),T8,0)","v":0},{"$f":"IF(AND(D326>=F9,D326<=G9),T9,0)","v":0},{"$f":"IF(AND(D326>=F10,D326<=G10),T10,0)","v":0},{"$f":"IF(AND(D326>=F11,D326<=G11),T11,0)","v":0},{"$f":"IF(AND(D326>=F12,D326<=G12),T12,0)","v":0},{"$f":"IF(AND(D326>=F13,D326<=G13),T13,0)","v":0},{"$f":"IF(AND(D326>=F14,D326<=G14),T14,0)","v":0},{"$f":"IF(AND(D326>=F15,D326<=G15),T15,0)","v":0},{"$f":"IF(AND(D326>=F16,D326<=G16),T16,0)","v":0},0,0,0,1]
[null,null,null,"2023-03-05",{"$f":"IF(D327<=G7,T7,0)","v":0},{"$f":"IF(AND(D327>=F8,D327<=G8),T8,0)","v":0},{"$f":"IF(AND(D327>=F9,D327<=G9),T9,0)","v":0},{"$f":"IF(AND(D327>=F10,D327<=G10),T10,0)","v":0},{"$f":"IF(AND(D327>=F11,D327<=G11),T11,0)","v":0},{"$f":"IF(AND(D327>=F12,D327<=G12),T12,0)","v":0},{"$f":"IF(AND(D327>=F13,D327<=G13),T13,0)","v":0},{"$f":"IF(AND(D327>=F14,D327<=G14),T14,0)","v":0},{"$f":"IF(AND(D327>=F15,D327<=G15),T15,0)","v":0},{"$f":"IF(AND(D327>=F16,D327<=G16),T16,0)","v":0},0,0,0,1]
[null,null,null,"2023-03-06",{"$f":"IF(D328<=G7,T7,0)","v":0},{"$f":"IF(AND(D328>=F8,D328<=G8),T8,0)","v":0},{"$f":"IF(AND(D328>=F9,D328<=G9),T9,0)","v":0},{"$f":"IF(AND(D328>=F10,D328<=G10),T10,0)","v":0},{"$f":"IF(AND(D328>=F11,D328<=G11),T11,0)","v":0},{"$f":"IF(AND(D328>=F12,D328<=G12),T12,0)","v":0},{"$f":"IF(AND(D328>=F13,D328<=G13),T13,0)","v":0},{"$f":"IF(AND(D328>=F14,D328<=G14),T14,0)","v":0},{"$f":"IF(AND(D328>=F15,D328<=G15),T15,0)","v":0},{"$f":"IF(AND(D328>=F16,D328<=G16),T16,0)","v":0},0,0,0,1]
[null,null,null,"2023-03-07",{"$f":"IF(D329<=G7,T7,0)","v":0},{"$f":"IF(AND(D329>=F8,D329<=G8),T8,0)","v":0},{"$f":"IF(AND(D329>=F9,D329<=G9),T9,0)","v":0},{"$f":"IF(AND(D329>=F10,D329<=G10),T10,0)","v":0},{"$f":"IF(AND(D329>=F11,D329<=G11),T11,0)","v":0},{"$f":"IF(AND(D329>=F12,D329<=G12),T12,0)","v":0},{"$f":"IF(AND(D329>=F13,D329<=G13),T13,0)","v":0},{"$f":"IF(AND(D329>=F14,D329<=G14),T14,0)","v":0},{"$f":"IF(AND(D329>=F15,D329<=G15),T15,0)","v":0},{"$f":"IF(AND(D329>=F16,D329<=G16),T16,0)","v":0},0,0,0,1]
[null,null,null,"2023-03-08",{"$f":"IF(D330<=G7,T7,0)","v":0},{"$f":"IF(AND(D330>=F8,D330<=G8),T8,0)","v":0},{"$f":"IF(AND(D330>=F9,D330<=G9),T9,0)","v":0},{"$f":"IF(AND(D330>=F10,D330<=G10),T10,0)","v":0},{"$f":"IF(AND(D330>=F11,D330<=G11),T11,0)","v":0},{"$f":"IF(AND(D330>=F12,D330<=G12),T12,0)","v":0},{"$f":"IF(AND(D330>=F13,D330<=G13),T13,0)","v":0},{"$f":"IF(AND(D330>=F14,D330<=G14),T14,0)","v":0},{"$f":"IF(AND(D330>=F15,D330<=G15),T15,0)","v":0},{"$f":"IF(AND(D330>=F16,D330<=G16),T16,0)","v":0},0,0,0,1]
[null,null,null,"2023-03-09",{"$f":"IF(D331<=G7,T7,0)","v":0},{"$f":"IF(AND(D331>=F8,D331<=G8),T8,0)","v":0},{"$f":"IF(AND(D331>=F9,D331<=G9),T9,0)","v":0},{"$f":"IF(AND(D331>=F10,D331<=G10),T10,0)","v":0},{"$f":"IF(AND(D331>=F11,D331<=G11),T11,0)","v":0},{"$f":"IF(AND(D331>=F12,D331<=G12),T12,0)","v":0},{"$f":"IF(AND(D331>=F13,D331<=G13),T13,0)","v":0},{"$f":"IF(AND(D331>=F14,D331<=G14),T14,0)","v":0},{"$f":"IF(AND(D331>=F15,D331<=G15),T15,0)","v":0},{"$f":"IF(AND(D331>=F16,D331<=G16),T16,0)","v":0},0,0,0,1]
[null,null,null,"2023-03-10",{"$f":"IF(D332<=G7,T7,0)","v":0},{"$f":"IF(AND(D332>=F8,D332<=G8),T8,0)","v":0},{"$f":"IF(AND(D332>=F9,D332<=G9),T9,0)","v":0},{"$f":"IF(AND(D332>=F10,D332<=G10),T10,0)","v":0},{"$f":"IF(AND(D332>=F11,D332<=G11),T11,0)","v":0},{"$f":"IF(AND(D332>=F12,D332<=G12),T12,0)","v":0},{"$f":"IF(AND(D332>=F13,D332<=G13),T13,0)","v":0},{"$f":"IF(AND(D332>=F14,D332<=G14),T14,0)","v":0},{"$f":"IF(AND(D332>=F15,D332<=G15),T15,0)","v":0},{"$f":"IF(AND(D332>=F16,D332<=G16),T16,0)","v":0},0,0,0,1]
[null,null,null,"2023-03-11",{"$f":"IF(D333<=G7,T7,0)","v":0},{"$f":"IF(AND(D333>=F8,D333<=G8),T8,0)","v":0},{"$f":"IF(AND(D333>=F9,D333<=G9),T9,0)","v":0},{"$f":"IF(AND(D333>=F10,D333<=G10),T10,0)","v":0},{"$f":"IF(AND(D333>=F11,D333<=G11),T11,0)","v":0},{"$f":"IF(AND(D333>=F12,D333<=G12),T12,0)","v":0},{"$f":"IF(AND(D333>=F13,D333<=G13),T13,0)","v":0},{"$f":"IF(AND(D333>=F14,D333<=G14),T14,0)","v":0},{"$f":"IF(AND(D333>=F15,D333<=G15),T15,0)","v":0},{"$f":"IF(AND(D333>=F16,D333<=G16),T16,0)","v":0},0,0,0,1]
[null,null,null,"2023-03-12",{"$f":"IF(D334<=G7,T7,0)","v":0},{"$f":"IF(AND(D334>=F8,D334<=G8),T8,0)","v":0},{"$f":"IF(AND(D334>=F9,D334<=G9),T9,0)","v":0},{"$f":"IF(AND(D334>=F10,D334<=G10),T10,0)","v":0},{"$f":"IF(AND(D334>=F11,D334<=G11),T11,0)","v":0},{"$f":"IF(AND(D334>=F12,D334<=G12),T12,0)","v":0},{"$f":"IF(AND(D334>=F13,D334<=G13),T13,0)","v":0},{"$f":"IF(AND(D334>=F14,D334<=G14),T14,0)","v":0},{"$f":"IF(AND(D334>=F15,D334<=G15),T15,0)","v":0},{"$f":"IF(AND(D334>=F16,D334<=G16),T16,0)","v":0},0,0,0,1]
[null,null,null,"2023-03-13",{"$f":"IF(D335<=G7,T7,0)","v":0},{"$f":"IF(AND(D335>=F8,D335<=G8),T8,0)","v":0},{"$f":"IF(AND(D335>=F9,D335<=G9),T9,0)","v":0},{"$f":"IF(AND(D335>=F10,D335<=G10),T10,0)","v":0},{"$f":"IF(AND(D335>=F11,D335<=G11),T11,0)","v":0},{"$f":"IF(AND(D335>=F12,D335<=G12),T12,0)","v":0},{"$f":"IF(AND(D335>=F13,D335<=G13),T13,0)","v":0},{"$f":"IF(AND(D335>=F14,D335<=G14),T14,0)","v":0},{"$f":"IF(AND(D335>=F15,D335<=G15),T15,0)","v":0},{"$f":"IF(AND(D335>=F16,D335<=G16),T16,0)","v":0},0,0,0,1]
[null,null,null,"2023-03-14",{"$f":"IF(D336<=G7,T7,0)","v":0},{"$f":"IF(AND(D336>=F8,D336<=G8),T8,0)","v":0},{"$f":"IF(AND(D336>=F9,D336<=G9),T9,0)","v":0},{"$f":"IF(AND(D336>=F10,D336<=G10),T10,0)","v":0},{"$f":"IF(AND(D336>=F11,D336<=G11),T11,0)","v":0},{"$f":"IF(AND(D336>=F12,D336<=G12),T12,0)","v":0},{"$f":"IF(AND(D336>=F13,D336<=G13),T13,0)","v":0},{"$f":"IF(AND(D336>=F14,D336<=G14),T14,0)","v":0},{"$f":"IF(AND(D336>=F15,D336<=G15),T15,0)","v":0},{"$f":"IF(AND(D336>=F16,D336<=G16),T16,0)","v":0},0,0,0,1]
[null,null,null,"2023-03-15",{"$f":"IF(D337<=G7,T7,0)","v":0},{"$f":"IF(AND(D337>=F8,D337<=G8),T8,0)","v":0},{"$f":"IF(AND(D337>=F9,D337<=G9),T9,0)","v":0},{"$f":"IF(AND(D337>=F10,D337<=G10),T10,0)","v":0},{"$f":"IF(AND(D337>=F11,D337<=G11),T11,0)","v":0},{"$f":"IF(AND(D337>=F12,D337<=G12),T12,0)","v":0},{"$f":"IF(AND(D337>=F13,D337<=G13),T13,0)","v":0},{"$f":"IF(AND(D337>=F14,D337<=G14),T14,0)","v":0},{"$f":"IF(AND(D337>=F15,D337<=G15),T15,0)","v":0},{"$f":"IF(AND(D337>=F16,D337<=G16),T16,0)","v":0},0,0,0,1]
[null,null,null,"2023-03-16",{"$f":"IF(D338<=G7,T7,0)","v":0},{"$f":"IF(AND(D338>=F8,D338<=G8),T8,0)","v":0},{"$f":"IF(AND(D338>=F9,D338<=G9),T9,0)","v":0},{"$f":"IF(AND(D338>=F10,D338<=G10),T10,0)","v":0},{"$f":"IF(AND(D338>=F11,D338<=G11),T11,0)","v":0},{"$f":"IF(AND(D338>=F12,D338<=G12),T12,0)","v":0},{"$f":"IF(AND(D338>=F13,D338<=G13),T13,0)","v":0},{"$f":"IF(AND(D338>=F14,D338<=G14),T14,0)","v":0},{"$f":"IF(AND(D338>=F15,D338<=G15),T15,0)","v":0},{"$f":"IF(AND(D338>=F16,D338<=G16),T16,0)","v":0},0,0,0,1]
[null,null,null,"2023-03-17",{"$f":"IF(D339<=G7,T7,0)","v":0},{"$f":"IF(AND(D339>=F8,D339<=G8),T8,0)","v":0},{"$f":"IF(AND(D339>=F9,D339<=G9),T9,0)","v":0},{"$f":"IF(AND(D339>=F10,D339<=G10),T10,0)","v":0},{"$f":"IF(AND(D339>=F11,D339<=G11),T11,0)","v":0},{"$f":"IF(AND(D339>=F12,D339<=G12),T12,0)","v":0},{"$f":"IF(AND(D339>=F13,D339<=G13),T13,0)","v":0},{"$f":"IF(AND(D339>=F14,D339<=G14),T14,0)","v":0},{"$f":"IF(AND(D339>=F15,D339<=G15),T15,0)","v":0},{"$f":"IF(AND(D339>=F16,D339<=G16),T16,0)","v":0},0,0,0,1]
[null,null,null,"2023-03-18",{"$f":"IF(D340<=G7,T7,0)","v":0},{"$f":"IF(AND(D340>=F8,D340<=G8),T8,0)","v":0},{"$f":"IF(AND(D340>=F9,D340<=G9),T9,0)","v":0},{"$f":"IF(AND(D340>=F10,D340<=G10),T10,0)","v":0},{"$f":"IF(AND(D340>=F11,D340<=G11),T11,0)","v":0},{"$f":"IF(AND(D340>=F12,D340<=G12),T12,0)","v":0},{"$f":"IF(AND(D340>=F13,D340<=G13),T13,0)","v":0},{"$f":"IF(AND(D340>=F14,D340<=G14),T14,0)","v":0},{"$f":"IF(AND(D340>=F15,D340<=G15),T15,0)","v":0},{"$f":"IF(AND(D340>=F16,D340<=G16),T16,0)","v":0},0,0,0,1]
[null,null,null,"2023-03-19",{"$f":"IF(D341<=G7,T7,0)","v":0},{"$f":"IF(AND(D341>=F8,D341<=G8),T8,0)","v":0},{"$f":"IF(AND(D341>=F9,D341<=G9),T9,0)","v":0},{"$f":"IF(AND(D341>=F10,D341<=G10),T10,0)","v":0},{"$f":"IF(AND(D341>=F11,D341<=G11),T11,0)","v":0},{"$f":"IF(AND(D341>=F12,D341<=G12),T12,0)","v":0},{"$f":"IF(AND(D341>=F13,D341<=G13),T13,0)","v":0},{"$f":"IF(AND(D341>=F14,D341<=G14),T14,0)","v":0},{"$f":"IF(AND(D341>=F15,D341<=G15),T15,0)","v":0},{"$f":"IF(AND(D341>=F16,D341<=G16),T16,0)","v":0},0,0,0,1]
[null,null,null,"2023-03-20",{"$f":"IF(D342<=G7,T7,0)","v":0},{"$f":"IF(AND(D342>=F8,D342<=G8),T8,0)","v":0},{"$f":"IF(AND(D342>=F9,D342<=G9),T9,0)","v":0},{"$f":"IF(AND(D342>=F10,D342<=G10),T10,0)","v":0},{"$f":"IF(AND(D342>=F11,D342<=G11),T11,0)","v":0},{"$f":"IF(AND(D342>=F12,D342<=G12),T12,0)","v":0},{"$f":"IF(AND(D342>=F13,D342<=G13),T13,0)","v":0},{"$f":"IF(AND(D342>=F14,D342<=G14),T14,0)","v":0},{"$f":"IF(AND(D342>=F15,D342<=G15),T15,0)","v":0},{"$f":"IF(AND(D342>=F16,D342<=G16),T16,0)","v":0},0,0,0,1]
[null,null,null,"2023-03-21",{"$f":"IF(D343<=G7,T7,0)","v":0},{"$f":"IF(AND(D343>=F8,D343<=G8),T8,0)","v":0},{"$f":"IF(AND(D343>=F9,D343<=G9),T9,0)","v":0},{"$f":"IF(AND(D343>=F10,D343<=G10),T10,0)","v":0},{"$f":"IF(AND(D343>=F11,D343<=G11),T11,0)","v":0},{"$f":"IF(AND(D343>=F12,D343<=G12),T12,0)","v":0},{"$f":"IF(AND(D343>=F13,D343<=G13),T13,0)","v":0},{"$f":"IF(AND(D343>=F14,D343<=G14),T14,0)","v":0},{"$f":"IF(AND(D343>=F15,D343<=G15),T15,0)","v":0},{"$f":"IF(AND(D343>=F16,D343<=G16),T16,0)","v":0},0,0,0,1]
[null,null,null,"2023-03-22",{"$f":"IF(D344<=G7,T7,0)","v":0},{"$f":"IF(AND(D344>=F8,D344<=G8),T8,0)","v":0},{"$f":"IF(AND(D344>=F9,D344<=G9),T9,0)","v":0},{"$f":"IF(AND(D344>=F10,D344<=G10),T10,0)","v":0},{"$f":"IF(AND(D344>=F11,D344<=G11),T11,0)","v":0},{"$f":"IF(AND(D344>=F12,D344<=G12),T12,0)","v":0},{"$f":"IF(AND(D344>=F13,D344<=G13),T13,0)","v":0},{"$f":"IF(AND(D344>=F14,D344<=G14),T14,0)","v":0},{"$f":"IF(AND(D344>=F15,D344<=G15),T15,0)","v":0},{"$f":"IF(AND(D344>=F16,D344<=G16),T16,0)","v":0},0,0,0,1]
[null,null,null,"2023-03-23",{"$f":"IF(D345<=G7,T7,0)","v":0},{"$f":"IF(AND(D345>=F8,D345<=G8),T8,0)","v":0},{"$f":"IF(AND(D345>=F9,D345<=G9),T9,0)","v":0},{"$f":"IF(AND(D345>=F10,D345<=G10),T10,0)","v":0},{"$f":"IF(AND(D345>=F11,D345<=G11),T11,0)","v":0},{"$f":"IF(AND(D345>=F12,D345<=G12),T12,0)","v":0},{"$f":"IF(AND(D345>=F13,D345<=G13),T13,0)","v":0},{"$f":"IF(AND(D345>=F14,D345<=G14),T14,0)","v":0},{"$f":"IF(AND(D345>=F15,D345<=G15),T15,0)","v":0},{"$f":"IF(AND(D345>=F16,D345<=G16),T16,0)","v":0},0,0,0,1]
[null,null,null,"2023-03-24",{"$f":"IF(D346<=G7,T7,0)","v":0},{"$f":"IF(AND(D346>=F8,D346<=G8),T8,0)","v":0},{"$f":"IF(AND(D346>=F9,D346<=G9),T9,0)","v":0},{"$f":"IF(AND(D346>=F10,D346<=G10),T10,0)","v":0},{"$f":"IF(AND(D346>=F11,D346<=G11),T11,0)","v":0},{"$f":"IF(AND(D346>=F12,D346<=G12),T12,0)","v":0},{"$f":"IF(AND(D346>=F13,D346<=G13),T13,0)","v":0},{"$f":"IF(AND(D346>=F14,D346<=G14),T14,0)","v":0},{"$f":"IF(AND(D346>=F15,D346<=G15),T15,0)","v":0},{"$f":"IF(AND(D346>=F16,D346<=G16),T16,0)","v":0},0,0,0,1]
[null,null,null,"2023-03-25",{"$f":"IF(D347<=G7,T7,0)","v":0},{"$f":"IF(AND(D347>=F8,D347<=G8),T8,0)","v":0},{"$f":"IF(AND(D347>=F9,D347<=G9),T9,0)","v":0},{"$f":"IF(AND(D347>=F10,D347<=G10),T10,0)","v":0},{"$f":"IF(AND(D347>=F11,D347<=G11),T11,0)","v":0},{"$f":"IF(AND(D347>=F12,D347<=G12),T12,0)","v":0},{"$f":"IF(AND(D347>=F13,D347<=G13),T13,0)","v":0},{"$f":"IF(AND(D347>=F14,D347<=G14),T14,0)","v":0},{"$f":"IF(AND(D347>=F15,D347<=G15),T15,0)","v":0},{"$f":"IF(AND(D347>=F16,D347<=G16),T16,0)","v":0},0,0,0,1]
[null,null,null,"2023-03-26",{"$f":"IF(D348<=G7,T7,0)","v":0},{"$f":"IF(AND(D348>=F8,D348<=G8),T8,0)","v":0},{"$f":"IF(AND(D348>=F9,D348<=G9),T9,0)","v":0},{"$f":"IF(AND(D348>=F10,D348<=G10),T10,0)","v":0},{"$f":"IF(AND(D348>=F11,D348<=G11),T11,0)","v":0},{"$f":"IF(AND(D348>=F12,D348<=G12),T12,0)","v":0},{"$f":"IF(AND(D348>=F13,D348<=G13),T13,0)","v":0},{"$f":"IF(AND(D348>=F14,D348<=G14),T14,0)","v":0},{"$f":"IF(AND(D348>=F15,D348<=G15),T15,0)","v":0},{"$f":"IF(AND(D348>=F16,D348<=G16),T16,0)","v":0},0,0,0,1]
[null,null,null,"2023-03-27",{"$f":"IF(D349<=G7,T7,0)","v":0},{"$f":"IF(AND(D349>=F208,D349<=G208),T208,0)","v":0},{"$f":"IF(AND(D349>=F208,D349<=H208),U208,0)","v":0},{"$f":"IF(AND(D349>=H208,D349<=I208),V208,0)","v":0},{"$f":"IF(AND(D349>=I208,D349<=J208),W208,0)","v":0},{"$f":"IF(AND(D349>=J208,D349<=K208),X208,0)","v":0},{"$f":"IF(AND(D349>=K208,D349<=L208),Y208,0)","v":0},{"$f":"IF(AND(D349>=L208,D349<=M208),Z208,0)","v":0},{"$f":"IF(AND(D349>=M208,D349<=N208),AA208,0)","v":0},{"$f":"IF(AND(D349>=N208,D349<=O208),AB208,0)","v":0},0,0,0,1]
[null,null,null,"2023-03-28",{"$f":"IF(D350<=G7,T7,0)","v":0},{"$f":"IF(AND(D350>=F8,D350<=G8),T8,0)","v":0},{"$f":"IF(AND(D350>=F9,D350<=G9),T9,0)","v":0},{"$f":"IF(AND(D350>=F10,D350<=G10),T10,0)","v":0},{"$f":"IF(AND(D350>=F11,D350<=G11),T11,0)","v":0},{"$f":"IF(AND(D350>=F12,D350<=G12),T12,0)","v":0},{"$f":"IF(AND(D350>=F13,D350<=G13),T13,0)","v":0},{"$f":"IF(AND(D350>=F14,D350<=G14),T14,0)","v":0},{"$f":"IF(AND(D350>=F15,D350<=G15),T15,0)","v":0},{"$f":"IF(AND(D350>=F16,D350<=G16),T16,0)","v":0},0,0,0,1]
[null,null,null,"2023-03-29",{"$f":"IF(D351<=G7,T7,0)","v":0},{"$f":"IF(AND(D351>=F8,D351<=G8),T8,0)","v":0},{"$f":"IF(AND(D351>=F9,D351<=G9),T9,0)","v":0},{"$f":"IF(AND(D351>=F10,D351<=G10),T10,0)","v":0},{"$f":"IF(AND(D351>=F11,D351<=G11),T11,0)","v":0},{"$f":"IF(AND(D351>=F12,D351<=G12),T12,0)","v":0},{"$f":"IF(AND(D351>=F13,D351<=G13),T13,0)","v":0},{"$f":"IF(AND(D351>=F14,D351<=G14),T14,0)","v":0},{"$f":"IF(AND(D351>=F15,D351<=G15),T15,0)","v":0},{"$f":"IF(AND(D351>=F16,D351<=G16),T16,0)","v":0},0,0,0,1]
[null,null,null,"2023-03-30",{"$f":"IF(D352<=G7,T7,0)","v":0},{"$f":"IF(AND(D352>=F8,D352<=G8),T8,0)","v":0},{"$f":"IF(AND(D352>=F9,D352<=G9),T9,0)","v":0},{"$f":"IF(AND(D352>=F10,D352<=G10),T10,0)","v":0},{"$f":"IF(AND(D352>=F11,D352<=G11),T11,0)","v":0},{"$f":"IF(AND(D352>=F12,D352<=G12),T12,0)","v":0},{"$f":"IF(AND(D352>=F13,D352<=G13),T13,0)","v":0},{"$f":"IF(AND(D352>=F14,D352<=G14),T14,0)","v":0},{"$f":"IF(AND(D352>=F15,D352<=G15),T15,0)","v":0},{"$f":"IF(AND(D352>=F16,D352<=G16),T16,0)","v":0},0,0,0,1]
[null,null,null,"2023-04-01",{"$f":"IF(D353<=G7,T7,0)","v":0},{"$f":"IF(AND(D353>=F8,D353<=G8),T8,0)","v":0},{"$f":"IF(AND(D353>=F9,D353<=G9),T9,0)","v":0},{"$f":"IF(AND(D353>=F10,D353<=G10),T10,0)","v":0},{"$f":"IF(AND(D353>=F11,D353<=G11),T11,0)","v":0},{"$f":"IF(AND(D353>=F12,D353<=G12),T12,0)","v":0},{"$f":"IF(AND(D353>=F13,D353<=G13),T13,0)","v":0},{"$f":"IF(AND(D353>=F14,D353<=G14),T14,0)","v":0},{"$f":"IF(AND(D353>=F15,D353<=G15),T15,0)","v":0},{"$f":"IF(AND(D353>=F16,D353<=G16),T16,0)","v":0},0,0,0,1]
[null,null,null,"2023-04-02",{"$f":"IF(D354<=G7,T7,0)","v":0},{"$f":"IF(AND(D354>=F8,D354<=G8),T8,0)","v":0},{"$f":"IF(AND(D354>=F9,D354<=G9),T9,0)","v":0},{"$f":"IF(AND(D354>=F10,D354<=G10),T10,0)","v":0},{"$f":"IF(AND(D354>=F11,D354<=G11),T11,0)","v":0},{"$f":"IF(AND(D354>=F12,D354<=G12),T12,0)","v":0},{"$f":"IF(AND(D354>=F13,D354<=G13),T13,0)","v":0},{"$f":"IF(AND(D354>=F14,D354<=G14),T14,0)","v":0},{"$f":"IF(AND(D354>=F15,D354<=G15),T15,0)","v":0},{"$f":"IF(AND(D354>=F16,D354<=G16),T16,0)","v":0},0,0,0,1]
[null,null,null,"2023-04-03",{"$f":"IF(D355<=G7,T7,0)","v":0},{"$f":"IF(AND(D355>=F8,D355<=G8),T8,0)","v":0},{"$f":"IF(AND(D355>=F9,D355<=G9),T9,0)","v":0},{"$f":"IF(AND(D355>=F10,D355<=G10),T10,0)","v":0},{"$f":"IF(AND(D355>=F11,D355<=G11),T11,0)","v":0},{"$f":"IF(AND(D355>=F12,D355<=G12),T12,0)","v":0},{"$f":"IF(AND(D355>=F13,D355<=G13),T13,0)","v":0},{"$f":"IF(AND(D355>=F14,D355<=G14),T14,0)","v":0},{"$f":"IF(AND(D355>=F15,D355<=G15),T15,0)","v":0},{"$f":"IF(AND(D355>=F16,D355<=G16),T16,0)","v":0},0,0,0,1]
[null,null,null,"2023-04-04",{"$f":"IF(D356<=G7,T7,0)","v":0},{"$f":"IF(AND(D356>=F8,D356<=G8),T8,0)","v":0},{"$f":"IF(AND(D356>=F9,D356<=G9),T9,0)","v":0},{"$f":"IF(AND(D356>=F10,D356<=G10),T10,0)","v":0},{"$f":"IF(AND(D356>=F11,D356<=G11),T11,0)","v":0},{"$f":"IF(AND(D356>=F12,D356<=G12),T12,0)","v":0},{"$f":"IF(AND(D356>=F13,D356<=G13),T13,0)","v":0},{"$f":"IF(AND(D356>=F14,D356<=G14),T14,0)","v":0},{"$f":"IF(AND(D356>=F15,D356<=G15),T15,0)","v":0},{"$f":"IF(AND(D356>=F16,D356<=G16),T16,0)","v":0},0,0,0,1]
[null,null,null,"2023-04-05",{"$f":"IF(D357<=G7,T7,0)","v":0},{"$f":"IF(AND(D357>=F8,D357<=G8),T8,0)","v":0},{"$f":"IF(AND(D357>=F9,D357<=G9),T9,0)","v":0},{"$f":"IF(AND(D357>=F10,D357<=G10),T10,0)","v":0},{"$f":"IF(AND(D357>=F11,D357<=G11),T11,0)","v":0},{"$f":"IF(AND(D357>=F12,D357<=G12),T12,0)","v":0},{"$f":"IF(AND(D357>=F13,D357<=G13),T13,0)","v":0},{"$f":"IF(AND(D357>=F14,D357<=G14),T14,0)","v":0},{"$f":"IF(AND(D357>=F15,D357<=G15),T15,0)","v":0},{"$f":"IF(AND(D357>=F16,D357<=G16),T16,0)","v":0},0,0,0,1]
[null,null,null,"2023-04-06",{"$f":"IF(D358<=G7,T7,0)","v":0},{"$f":"IF(AND(D358>=F8,D358<=G8),T8,0)","v":0},{"$f":"IF(AND(D358>=F9,D358<=G9),T9,0)","v":0},{"$f":"IF(AND(D358>=F10,D358<=G10),T10,0)","v":0},{"$f":"IF(AND(D358>=F11,D358<=G11),T11,0)","v":0},{"$f":"IF(AND(D358>=F12,D358<=G12),T12,0)","v":0},{"$f":"IF(AND(D358>=F13,D358<=G13),T13,0)","v":0},{"$f":"IF(AND(D358>=F14,D358<=G14),T14,0)","v":0},{"$f":"IF(AND(D358>=F15,D358<=G15),T15,0)","v":0},{"$f":"IF(AND(D358>=F16,D358<=G16),T16,0)","v":0},0,0,0,1]
[null,null,null,"2023-04-07",{"$f":"IF(D359<=G7,T7,0)","v":0},{"$f":"IF(AND(D359>=F8,D359<=G8),T8,0)","v":0},{"$f":"IF(AND(D359>=F9,D359<=G9),T9,0)","v":0},{"$f":"IF(AND(D359>=F10,D359<=G10),T10,0)","v":0},{"$f":"IF(AND(D359>=F11,D359<=G11),T11,0)","v":0},{"$f":"IF(AND(D359>=F12,D359<=G12),T12,0)","v":0},{"$f":"IF(AND(D359>=F13,D359<=G13),T13,0)","v":0},{"$f":"IF(AND(D359>=F14,D359<=G14),T14,0)","v":0},{"$f":"IF(AND(D359>=F15,D359<=G15),T15,0)","v":0},{"$f":"IF(AND(D359>=F16,D359<=G16),T16,0)","v":0},0,0,0,1]
[null,null,null,"2023-04-08",{"$f":"IF(D360<=G7,T7,0)","v":0},{"$f":"IF(AND(D360>=F8,D360<=G8),T8,0)","v":0},{"$f":"IF(AND(D360>=F9,D360<=G9),T9,0)","v":0},{"$f":"IF(AND(D360>=F10,D360<=G10),T10,0)","v":0},{"$f":"IF(AND(D360>=F11,D360<=G11),T11,0)","v":0},{"$f":"IF(AND(D360>=F12,D360<=G12),T12,0)","v":0},{"$f":"IF(AND(D360>=F13,D360<=G13),T13,0)","v":0},{"$f":"IF(AND(D360>=F14,D360<=G14),T14,0)","v":0},{"$f":"IF(AND(D360>=F15,D360<=G15),T15,0)","v":0},{"$f":"IF(AND(D360>=F16,D360<=G16),T16,0)","v":0},0,0,0,1]
[null,null,null,"2023-04-09",{"$f":"IF(D361<=G7,T7,0)","v":0},{"$f":"IF(AND(D361>=F8,D361<=G8),T8,0)","v":0},{"$f":"IF(AND(D361>=F9,D361<=G9),T9,0)","v":0},{"$f":"IF(AND(D361>=F10,D361<=G10),T10,0)","v":0},{"$f":"IF(AND(D361>=F11,D361<=G11),T11,0)","v":0},{"$f":"IF(AND(D361>=F12,D361<=G12),T12,0)","v":0},{"$f":"IF(AND(D361>=F13,D361<=G13),T13,0)","v":0},{"$f":"IF(AND(D361>=F14,D361<=G14),T14,0)","v":0},{"$f":"IF(AND(D361>=F15,D361<=G15),T15,0)","v":0},{"$f":"IF(AND(D361>=F16,D361<=G16),T16,0)","v":0},0,0,0,1]
[null,null,null,"2023-04-10",{"$f":"IF(D362<=G7,T7,0)","v":0},{"$f":"IF(AND(D362>=F8,D362<=G8),T8,0)","v":0},{"$f":"IF(AND(D362>=F9,D362<=G9),T9,0)","v":0},{"$f":"IF(AND(D362>=F10,D362<=G10),T10,0)","v":0},{"$f":"IF(AND(D362>=F11,D362<=G11),T11,0)","v":0},{"$f":"IF(AND(D362>=F12,D362<=G12),T12,0)","v":0},{"$f":"IF(AND(D362>=F13,D362<=G13),T13,0)","v":0},{"$f":"IF(AND(D362>=F14,D362<=G14),T14,0)","v":0},{"$f":"IF(AND(D362>=F15,D362<=G15),T15,0)","v":0},{"$f":"IF(AND(D362>=F16,D362<=G16),T16,0)","v":0},0,0,0,1]
[null,null,null,"2023-04-11",{"$f":"IF(D363<=G7,T7,0)","v":0},{"$f":"IF(AND(D363>=F8,D363<=G8),T8,0)","v":0},{"$f":"IF(AND(D363>=F9,D363<=G9),T9,0)","v":0},{"$f":"IF(AND(D363>=F10,D363<=G10),T10,0)","v":0},{"$f":"IF(AND(D363>=F11,D363<=G11),T11,0)","v":0},{"$f":"IF(AND(D363>=F12,D363<=G12),T12,0)","v":0},{"$f":"IF(AND(D363>=F13,D363<=G13),T13,0)","v":0},{"$f":"IF(AND(D363>=F14,D363<=G14),T14,0)","v":0},{"$f":"IF(AND(D363>=F15,D363<=G15),T15,0)","v":0},{"$f":"IF(AND(D363>=F16,D363<=G16),T16,0)","v":0},0,0,0,1]
[null,null,null,"2023-04-12",{"$f":"IF(D364<=G7,T7,0)","v":0},{"$f":"IF(AND(D364>=F8,D364<=G8),T8,0)","v":0},{"$f":"IF(AND(D364>=F9,D364<=G9),T9,0)","v":0},{"$f":"IF(AND(D364>=F10,D364<=G10),T10,0)","v":0},{"$f":"IF(AND(D364>=F11,D364<=G11),T11,0)","v":0},{"$f":"IF(AND(D364>=F12,D364<=G12),T12,0)","v":0},{"$f":"IF(AND(D364>=F13,D364<=G13),T13,0)","v":0},{"$f":"IF(AND(D364>=F14,D364<=G14),T14,0)","v":0},{"$f":"IF(AND(D364>=F15,D364<=G15),T15,0)","v":0},{"$f":"IF(AND(D364>=F16,D364<=G16),T16,0)","v":0},0,0,0,1]
[null,null,null,"2023-04-13",{"$f":"IF(D365<=G7,T7,0)","v":0},{"$f":"IF(AND(D365>=F8,D365<=G8),T8,0)","v":0},{"$f":"IF(AND(D365>=F9,D365<=G9),T9,0)","v":0},{"$f":"IF(AND(D365>=F10,D365<=G10),T10,0)","v":0},{"$f":"IF(AND(D365>=F11,D365<=G11),T11,0)","v":0},{"$f":"IF(AND(D365>=F12,D365<=G12),T12,0)","v":0},{"$f":"IF(AND(D365>=F13,D365<=G13),T13,0)","v":0},{"$f":"IF(AND(D365>=F14,D365<=G14),T14,0)","v":0},{"$f":"IF(AND(D365>=F15,D365<=G15),T15,0)","v":0},{"$f":"IF(AND(D365>=F16,D365<=G16),T16,0)","v":0},0,0,0,1]
[null,null,null,"2023-04-14",{"$f":"IF(D366<=G7,T7,0)","v":0},{"$f":"IF(AND(D366>=F8,D366<=G8),T8,0)","v":0},{"$f":"IF(AND(D366>=F9,D366<=G9),T9,0)","v":0},{"$f":"IF(AND(D366>=F10,D366<=G10),T10,0)","v":0},{"$f":"IF(AND(D366>=F11,D366<=G11),T11,0)","v":0},{"$f":"IF(AND(D366>=F12,D366<=G12),T12,0)","v":0},{"$f":"IF(AND(D366>=F13,D366<=G13),T13,0)","v":0},{"$f":"IF(AND(D366>=F14,D366<=G14),T14,0)","v":0},{"$f":"IF(AND(D366>=F15,D366<=G15),T15,0)","v":0},{"$f":"IF(AND(D366>=F16,D366<=G16),T16,0)","v":0},0,0,0,1]
[null,null,null,"2023-04-15",{"$f":"IF(D367<=G7,T7,0)","v":0},{"$f":"IF(AND(D367>=F8,D367<=G8),T8,0)","v":0},{"$f":"IF(AND(D367>=F9,D367<=G9),T9,0)","v":0},{"$f":"IF(AND(D367>=F10,D367<=G10),T10,0)","v":0},{"$f":"IF(AND(D367>=F11,D367<=G11),T11,0)","v":0},{"$f":"IF(AND(D367>=F12,D367<=G12),T12,0)","v":0},{"$f":"IF(AND(D367>=F13,D367<=G13),T13,0)","v":0},{"$f":"IF(AND(D367>=F14,D367<=G14),T14,0)","v":0},{"$f":"IF(AND(D367>=F15,D367<=G15),T15,0)","v":0},{"$f":"IF(AND(D367>=F16,D367<=G16),T16,0)","v":0},0,0,0,1]
[null,null,null,"2023-04-16",{"$f":"IF(D368<=G7,T7,0)","v":0},{"$f":"IF(AND(D368>=F8,D368<=G8),T8,0)","v":0},{"$f":"IF(AND(D368>=F9,D368<=G9),T9,0)","v":0},{"$f":"IF(AND(D368>=F10,D368<=G10),T10,0)","v":0},{"$f":"IF(AND(D368>=F11,D368<=G11),T11,0)","v":0},{"$f":"IF(AND(D368>=F12,D368<=G12),T12,0)","v":0},{"$f":"IF(AND(D368>=F13,D368<=G13),T13,0)","v":0},{"$f":"IF(AND(D368>=F14,D368<=G14),T14,0)","v":0},{"$f":"IF(AND(D368>=F15,D368<=G15),T15,0)","v":0},{"$f":"IF(AND(D368>=F16,D368<=G16),T16,0)","v":0},0,0,0,1]
[null,null,null,"2023-04-17",{"$f":"IF(D369<=G7,T7,0)","v":0},{"$f":"IF(AND(D369>=F8,D369<=G8),T8,0)","v":0},{"$f":"IF(AND(D369>=F9,D369<=G9),T9,0)","v":0},{"$f":"IF(AND(D369>=F10,D369<=G10),T10,0)","v":0},{"$f":"IF(AND(D369>=F11,D369<=G11),T11,0)","v":0},{"$f":"IF(AND(D369>=F12,D369<=G12),T12,0)","v":0},{"$f":"IF(AND(D369>=F13,D369<=G13),T13,0)","v":0},{"$f":"IF(AND(D369>=F14,D369<=G14),T14,0)","v":0},{"$f":"IF(AND(D369>=F15,D369<=G15),T15,0)","v":0},{"$f":"IF(AND(D369>=F16,D369<=G16),T16,0)","v":0},0,0,0,1]
[null,null,null,"2023-04-18",{"$f":"IF(D370<=G7,T7,0)","v":0},{"$f":"IF(AND(D370>=F8,D370<=G8),T8,0)","v":0},{"$f":"IF(AND(D370>=F9,D370<=G9),T9,0)","v":0},{"$f":"IF(AND(D370>=F10,D370<=G10),T10,0)","v":0},{"$f":"IF(AND(D370>=F11,D370<=G11),T11,0)","v":0},{"$f":"IF(AND(D370>=F12,D370<=G12),T12,0)","v":0},{"$f":"IF(AND(D370>=F13,D370<=G13),T13,0)","v":0},{"$f":"IF(AND(D370>=F14,D370<=G14),T14,0)","v":0},{"$f":"IF(AND(D370>=F15,D370<=G15),T15,0)","v":0},{"$f":"IF(AND(D370>=F16,D370<=G16),T16,0)","v":0},0,{"$f":"IF(O370>=1,1,O370)","v":0},0,1]
[null,null,null,{"$f":"IF(DAY(D370)+1=31, D370+2, D370+1)","v":"2023-04-19"},{"$f":"IF(D371<=G7,T7,0)","v":0},{"$f":"IF(AND(D371>=F8,D371<=G8),T8,0)","v":0},{"$f":"IF(AND(D371>=F9,D371<=G9),T9,0)","v":0},{"$f":"IF(AND(D371>=F10,D371<=G10),T10,0)","v":0},{"$f":"IF(AND(D371>=F11,D371<=G11),T11,0)","v":0},{"$f":"IF(AND(D371>=F12,D371<=G12),T12,0)","v":0},{"$f":"IF(AND(D371>=F13,D371<=G13),T13,0)","v":0},{"$f":"IF(AND(D371>=F14,D371<=G14),T14,0)","v":0},{"$f":"IF(AND(D371>=F15,D371<=G15),T15,0)","v":0},{"$f":"IF(AND(D371>=F16,D371<=G16),T16,0)","v":0},0,0,0,{"$f":"SUM(Q370,R370)","v":1}]
[null,null,null,"2023-04-20",{"$f":"IF(D372<=G7,T7,0)","v":0},{"$f":"IF(AND(D372>=F8,D372<=G8),T8,0)","v":0},{"$f":"IF(AND(D372>=F9,D372<=G9),T9,0)","v":0},{"$f":"IF(AND(D372>=F10,D372<=G10),T10,0)","v":0},{"$f":"IF(AND(D372>=F11,D372<=G11),T11,0)","v":0},{"$f":"IF(AND(D372>=F12,D372<=G12),T12,0)","v":0},{"$f":"IF(AND(D372>=F13,D372<=G13),T13,0)","v":0},{"$f":"IF(AND(D372>=F14,D372<=G14),T14,0)","v":0},{"$f":"IF(AND(D372>=F15,D372<=G15),T15,0)","v":0},{"$f":"IF(AND(D372>=F16,D372<=G16),T16,0)","v":0},{"$f":"IF(AND(SUM(E372:N372)>0,SUM(E372:N372)<1),1,TRUNC(SUM(E372:N372),0))","v":0},0,0,1]
[null,null,null,"2023-04-21",{"$f":"IF(D373<=G7,T7,0)","v":0},{"$f":"IF(AND(D373>=F8,D373<=G8),T8,0)","v":0},{"$f":"IF(AND(D373>=F9,D373<=G9),T9,0)","v":0},{"$f":"IF(AND(D373>=F10,D373<=G10),T10,0)","v":0},{"$f":"IF(AND(D373>=F11,D373<=G11),T11,0)","v":0},{"$f":"IF(AND(D373>=F12,D373<=G12),T12,0)","v":0},{"$f":"IF(AND(D373>=F13,D373<=G13),T13,0)","v":0},{"$f":"IF(AND(D373>=F14,D373<=G14),T14,0)","v":0},{"$f":"IF(AND(D373>=F15,D373<=G15),T15,0)","v":0},{"$f":"IF(AND(D373>=F16,D373<=G16),T16,0)","v":0},0,0,{"$f":"IF(O372=O373,0,1)","v":0},1]
[null,null,null,"2023-04-22",{"$f":"IF(D374<=G7,T7,0)","v":0},{"$f":"IF(AND(D374>=F8,D374<=G8),T8,0)","v":0},{"$f":"IF(AND(D374>=F9,D374<=G9),T9,0)","v":0},{"$f":"IF(AND(D374>=F10,D374<=G10),T10,0)","v":0},{"$f":"IF(AND(D374>=F11,D374<=G11),T11,0)","v":0},{"$f":"IF(AND(D374>=F12,D374<=G12),T12,0)","v":0},{"$f":"IF(AND(D374>=F13,D374<=G13),T13,0)","v":0},{"$f":"IF(AND(D374>=F14,D374<=G14),T14,0)","v":0},{"$f":"IF(AND(D374>=F15,D374<=G15),T15,0)","v":0},{"$f":"IF(AND(D374>=F16,D374<=G16),T16,0)","v":0},0,0,0,1]
[null,null,null,"2023-04-23",{"$f":"IF(D375<=G7,T7,0)","v":0},{"$f":"IF(AND(D375>=F8,D375<=G8),T8,0)","v":0},{"$f":"IF(AND(D375>=F9,D375<=G9),T9,0)","v":0},{"$f":"IF(AND(D375>=F10,D375<=G10),T10,0)","v":0},{"$f":"IF(AND(D375>=F11,D375<=G11),T11,0)","v":0},{"$f":"IF(AND(D375>=F12,D375<=G12),T12,0)","v":0},{"$f":"IF(AND(D375>=F13,D375<=G13),T13,0)","v":0},{"$f":"IF(AND(D375>=F14,D375<=G14),T14,0)","v":0},{"$f":"IF(AND(D375>=F15,D375<=G15),T15,0)","v":0},{"$f":"IF(AND(D375>=F16,D375<=G16),T16,0)","v":0},0,0,0,1]
[null,null,null,"2023-04-24",{"$f":"IF(D376<=G7,T7,0)","v":0},{"$f":"IF(AND(D376>=F8,D376<=G8),T8,0)","v":0},{"$f":"IF(AND(D376>=F9,D376<=G9),T9,0)","v":0},{"$f":"IF(AND(D376>=F10,D376<=G10),T10,0)","v":0},{"$f":"IF(AND(D376>=F11,D376<=G11),T11,0)","v":0},{"$f":"IF(AND(D376>=F12,D376<=G12),T12,0)","v":0},{"$f":"IF(AND(D376>=F13,D376<=G13),T13,0)","v":0},{"$f":"IF(AND(D376>=F14,D376<=G14),T14,0)","v":0},{"$f":"IF(AND(D376>=F15,D376<=G15),T15,0)","v":0},{"$f":"IF(AND(D376>=F16,D376<=G16),T16,0)","v":0},0,0,0,1]
[null,null,null,"2023-04-25",{"$f":"IF(D377<=G7,T7,0)","v":0},{"$f":"IF(AND(D377>=F8,D377<=G8),T8,0)","v":0},{"$f":"IF(AND(D377>=F9,D377<=G9),T9,0)","v":0},{"$f":"IF(AND(D377>=F10,D377<=G10),T10,0)","v":0},{"$f":"IF(AND(D377>=F11,D377<=G11),T11,0)","v":0},{"$f":"IF(AND(D377>=F12,D377<=G12),T12,0)","v":0},{"$f":"IF(AND(D377>=F13,D377<=G13),T13,0)","v":0},{"$f":"IF(AND(D377>=F14,D377<=G14),T14,0)","v":0},{"$f":"IF(AND(D377>=F15,D377<=G15),T15,0)","v":0},{"$f":"IF(AND(D377>=F16,D377<=G16),T16,0)","v":0},0,0,0,1]
[null,null,null,"2023-04-26",{"$f":"IF(D378<=G7,T7,0)","v":0},{"$f":"IF(AND(D378>=F8,D378<=G8),T8,0)","v":0},{"$f":"IF(AND(D378>=F9,D378<=G9),T9,0)","v":0},{"$f":"IF(AND(D378>=F10,D378<=G10),T10,0)","v":0},{"$f":"IF(AND(D378>=F11,D378<=G11),T11,0)","v":0},{"$f":"IF(AND(D378>=F12,D378<=G12),T12,0)","v":0},{"$f":"IF(AND(D378>=F13,D378<=G13),T13,0)","v":0},{"$f":"IF(AND(D378>=F14,D378<=G14),T14,0)","v":0},{"$f":"IF(AND(D378>=F15,D378<=G15),T15,0)","v":0},{"$f":"IF(AND(D378>=F16,D378<=G16),T16,0)","v":0},0,0,0,1]
[null,null,null,"2023-04-27",{"$f":"IF(D379<=G7,T7,0)","v":0},{"$f":"IF(AND(D379>=F8,D379<=G8),T8,0)","v":0},{"$f":"IF(AND(D379>=F9,D379<=G9),T9,0)","v":0},{"$f":"IF(AND(D379>=F10,D379<=G10),T10,0)","v":0},{"$f":"IF(AND(D379>=F11,D379<=G11),T11,0)","v":0},{"$f":"IF(AND(D379>=F12,D379<=G12),T12,0)","v":0},{"$f":"IF(AND(D379>=F13,D379<=G13),T13,0)","v":0},{"$f":"IF(AND(D379>=F14,D379<=G14),T14,0)","v":0},{"$f":"IF(AND(D379>=F15,D379<=G15),T15,0)","v":0},{"$f":"IF(AND(D379>=F16,D379<=G16),T16,0)","v":0},0,0,0,1]
[null,null,null,"2023-04-28",{"$f":"IF(D380<=G7,T7,0)","v":0},{"$f":"IF(AND(D380>=F8,D380<=G8),T8,0)","v":0},{"$f":"IF(AND(D380>=F9,D380<=G9),T9,0)","v":0},{"$f":"IF(AND(D380>=F10,D380<=G10),T10,0)","v":0},{"$f":"IF(AND(D380>=F11,D380<=G11),T11,0)","v":0},{"$f":"IF(AND(D380>=F12,D380<=G12),T12,0)","v":0},{"$f":"IF(AND(D380>=F13,D380<=G13),T13,0)","v":0},{"$f":"IF(AND(D380>=F14,D380<=G14),T14,0)","v":0},{"$f":"IF(AND(D380>=F15,D380<=G15),T15,0)","v":0},{"$f":"IF(AND(D380>=F16,D380<=G16),T16,0)","v":0},0,0,0,1]
[null,null,null,"2023-04-29",{"$f":"IF(D381<=G7,T7,0)","v":0},{"$f":"IF(AND(D381>=F8,D381<=G8),T8,0)","v":0},{"$f":"IF(AND(D381>=F9,D381<=G9),T9,0)","v":0},{"$f":"IF(AND(D381>=F10,D381<=G10),T10,0)","v":0},{"$f":"IF(AND(D381>=F11,D381<=G11),T11,0)","v":0},{"$f":"IF(AND(D381>=F12,D381<=G12),T12,0)","v":0},{"$f":"IF(AND(D381>=F13,D381<=G13),T13,0)","v":0},{"$f":"IF(AND(D381>=F14,D381<=G14),T14,0)","v":0},{"$f":"IF(AND(D381>=F15,D381<=G15),T15,0)","v":0},{"$f":"IF(AND(D381>=F16,D381<=G16),T16,0)","v":0},0,0,0,1]
[null,null,null,"2023-04-30",{"$f":"IF(D382<=G7,T7,0)","v":0},{"$f":"IF(AND(D382>=F8,D382<=G8),T8,0)","v":0},{"$f":"IF(AND(D382>=F9,D382<=G9),T9,0)","v":0},{"$f":"IF(AND(D382>=F10,D382<=G10),T10,0)","v":0},{"$f":"IF(AND(D382>=F11,D382<=G11),T11,0)","v":0},{"$f":"IF(AND(D382>=F12,D382<=G12),T12,0)","v":0},{"$f":"IF(AND(D382>=F13,D382<=G13),T13,0)","v":0},{"$f":"IF(AND(D382>=F14,D382<=G14),T14,0)","v":0},{"$f":"IF(AND(D382>=F15,D382<=G15),T15,0)","v":0},{"$f":"IF(AND(D382>=F16,D382<=G16),T16,0)","v":0},0,0,0,1]
[null,null,null,"2023-05-02",{"$f":"IF(D383<=G7,T7,0)","v":0},{"$f":"IF(AND(D383>=F8,D383<=G8),T8,0)","v":0},{"$f":"IF(AND(D383>=F9,D383<=G9),T9,0)","v":0},{"$f":"IF(AND(D383>=F10,D383<=G10),T10,0)","v":0},{"$f":"IF(AND(D383>=F11,D383<=G11),T11,0)","v":0},{"$f":"IF(AND(D383>=F12,D383<=G12),T12,0)","v":0},{"$f":"IF(AND(D383>=F13,D383<=G13),T13,0)","v":0},{"$f":"IF(AND(D383>=F14,D383<=G14),T14,0)","v":0},{"$f":"IF(AND(D383>=F15,D383<=G15),T15,0)","v":0},{"$f":"IF(AND(D383>=F16,D383<=G16),T16,0)","v":0},0,0,0,1]
[null,null,null,"2023-05-03",{"$f":"IF(D384<=G7,T7,0)","v":0},{"$f":"IF(AND(D384>=F8,D384<=G8),T8,0)","v":0},{"$f":"IF(AND(D384>=F9,D384<=G9),T9,0)","v":0},{"$f":"IF(AND(D384>=F10,D384<=G10),T10,0)","v":0},{"$f":"IF(AND(D384>=F11,D384<=G11),T11,0)","v":0},{"$f":"IF(AND(D384>=F12,D384<=G12),T12,0)","v":0},{"$f":"IF(AND(D384>=F13,D384<=G13),T13,0)","v":0},{"$f":"IF(AND(D384>=F14,D384<=G14),T14,0)","v":0},{"$f":"IF(AND(D384>=F15,D384<=G15),T15,0)","v":0},{"$f":"IF(AND(D384>=F16,D384<=G16),T16,0)","v":0},0,0,0,1]
[null,null,null,"2023-05-04",{"$f":"IF(D385<=G7,T7,0)","v":0},{"$f":"IF(AND(D385>=F8,D385<=G8),T8,0)","v":0},{"$f":"IF(AND(D385>=F9,D385<=G9),T9,0)","v":0},{"$f":"IF(AND(D385>=F10,D385<=G10),T10,0)","v":0},{"$f":"IF(AND(D385>=F11,D385<=G11),T11,0)","v":0},{"$f":"IF(AND(D385>=F12,D385<=G12),T12,0)","v":0},{"$f":"IF(AND(D385>=F13,D385<=G13),T13,0)","v":0},{"$f":"IF(AND(D385>=F14,D385<=G14),T14,0)","v":0},{"$f":"IF(AND(D385>=F15,D385<=G15),T15,0)","v":0},{"$f":"IF(AND(D385>=F16,D385<=G16),T16,0)","v":0},0,0,0,1]
[null,null,null,"2023-05-05",{"$f":"IF(D386<=G7,T7,0)","v":0},{"$f":"IF(AND(D386>=F8,D386<=G8),T8,0)","v":0},{"$f":"IF(AND(D386>=F9,D386<=G9),T9,0)","v":0},{"$f":"IF(AND(D386>=F10,D386<=G10),T10,0)","v":0},{"$f":"IF(AND(D386>=F11,D386<=G11),T11,0)","v":0},{"$f":"IF(AND(D386>=F12,D386<=G12),T12,0)","v":0},{"$f":"IF(AND(D386>=F13,D386<=G13),T13,0)","v":0},{"$f":"IF(AND(D386>=F14,D386<=G14),T14,0)","v":0},{"$f":"IF(AND(D386>=F15,D386<=G15),T15,0)","v":0},{"$f":"IF(AND(D386>=F16,D386<=G16),T16,0)","v":0},0,0,0,1]
[null,null,null,"2023-05-06",{"$f":"IF(D387<=G7,T7,0)","v":0},{"$f":"IF(AND(D387>=F8,D387<=G8),T8,0)","v":0},{"$f":"IF(AND(D387>=F9,D387<=G9),T9,0)","v":0},{"$f":"IF(AND(D387>=F10,D387<=G10),T10,0)","v":0},{"$f":"IF(AND(D387>=F11,D387<=G11),T11,0)","v":0},{"$f":"IF(AND(D387>=F12,D387<=G12),T12,0)","v":0},{"$f":"IF(AND(D387>=F13,D387<=G13),T13,0)","v":0},{"$f":"IF(AND(D387>=F14,D387<=G14),T14,0)","v":0},{"$f":"IF(AND(D387>=F15,D387<=G15),T15,0)","v":0},{"$f":"IF(AND(D387>=F16,D387<=G16),T16,0)","v":0},0,0,0,1]
[null,null,null,"2023-05-07",{"$f":"IF(D388<=G7,T7,0)","v":0},{"$f":"IF(AND(D388>=F8,D388<=G8),T8,0)","v":0},{"$f":"IF(AND(D388>=F9,D388<=G9),T9,0)","v":0},{"$f":"IF(AND(D388>=F10,D388<=G10),T10,0)","v":0},{"$f":"IF(AND(D388>=F11,D388<=G11),T11,0)","v":0},{"$f":"IF(AND(D388>=F12,D388<=G12),T12,0)","v":0},{"$f":"IF(AND(D388>=F13,D388<=G13),T13,0)","v":0},{"$f":"IF(AND(D388>=F14,D388<=G14),T14,0)","v":0},{"$f":"IF(AND(D388>=F15,D388<=G15),T15,0)","v":0},{"$f":"IF(AND(D388>=F16,D388<=G16),T16,0)","v":0},0,0,0,1]
[null,null,null,"2023-05-08",{"$f":"IF(D389<=G7,T7,0)","v":0},{"$f":"IF(AND(D389>=F8,D389<=G8),T8,0)","v":0},{"$f":"IF(AND(D389>=F9,D389<=G9),T9,0)","v":0},{"$f":"IF(AND(D389>=F10,D389<=G10),T10,0)","v":0},{"$f":"IF(AND(D389>=F11,D389<=G11),T11,0)","v":0},{"$f":"IF(AND(D389>=F12,D389<=G12),T12,0)","v":0},{"$f":"IF(AND(D389>=F13,D389<=G13),T13,0)","v":0},{"$f":"IF(AND(D389>=F14,D389<=G14),T14,0)","v":0},{"$f":"IF(AND(D389>=F15,D389<=G15),T15,0)","v":0},{"$f":"IF(AND(D389>=F16,D389<=G16),T16,0)","v":0},0,0,0,1]
[null,null,null,"2023-05-09",{"$f":"IF(D390<=G7,T7,0)","v":0},{"$f":"IF(AND(D390>=F8,D390<=G8),T8,0)","v":0},{"$f":"IF(AND(D390>=F9,D390<=G9),T9,0)","v":0},{"$f":"IF(AND(D390>=F10,D390<=G10),T10,0)","v":0},{"$f":"IF(AND(D390>=F11,D390<=G11),T11,0)","v":0},{"$f":"IF(AND(D390>=F12,D390<=G12),T12,0)","v":0},{"$f":"IF(AND(D390>=F13,D390<=G13),T13,0)","v":0},{"$f":"IF(AND(D390>=F14,D390<=G14),T14,0)","v":0},{"$f":"IF(AND(D390>=F15,D390<=G15),T15,0)","v":0},{"$f":"IF(AND(D390>=F16,D390<=G16),T16,0)","v":0},0,0,0,1]
[null,null,null,"2023-05-10",{"$f":"IF(D391<=G7,T7,0)","v":0},{"$f":"IF(AND(D391>=F8,D391<=G8),T8,0)","v":0},{"$f":"IF(AND(D391>=F9,D391<=G9),T9,0)","v":0},{"$f":"IF(AND(D391>=F10,D391<=G10),T10,0)","v":0},{"$f":"IF(AND(D391>=F11,D391<=G11),T11,0)","v":0},{"$f":"IF(AND(D391>=F12,D391<=G12),T12,0)","v":0},{"$f":"IF(AND(D391>=F13,D391<=G13),T13,0)","v":0},{"$f":"IF(AND(D391>=F14,D391<=G14),T14,0)","v":0},{"$f":"IF(AND(D391>=F15,D391<=G15),T15,0)","v":0},{"$f":"IF(AND(D391>=F16,D391<=G16),T16,0)","v":0},0,0,0,1]
[null,null,null,"2023-05-11",{"$f":"IF(D392<=G7,T7,0)","v":0},{"$f":"IF(AND(D392>=F8,D392<=G8),T8,0)","v":0},{"$f":"IF(AND(D392>=F9,D392<=G9),T9,0)","v":0},{"$f":"IF(AND(D392>=F10,D392<=G10),T10,0)","v":0},{"$f":"IF(AND(D392>=F11,D392<=G11),T11,0)","v":0},{"$f":"IF(AND(D392>=F12,D392<=G12),T12,0)","v":0},{"$f":"IF(AND(D392>=F13,D392<=G13),T13,0)","v":0},{"$f":"IF(AND(D392>=F14,D392<=G14),T14,0)","v":0},{"$f":"IF(AND(D392>=F15,D392<=G15),T15,0)","v":0},{"$f":"IF(AND(D392>=F16,D392<=G16),T16,0)","v":0},0,0,0,1]
[null,null,null,"2023-05-12",{"$f":"IF(D393<=G7,T7,0)","v":0},{"$f":"IF(AND(D393>=F8,D393<=G8),T8,0)","v":0},{"$f":"IF(AND(D393>=F9,D393<=G9),T9,0)","v":0},{"$f":"IF(AND(D393>=F10,D393<=G10),T10,0)","v":0},{"$f":"IF(AND(D393>=F11,D393<=G11),T11,0)","v":0},{"$f":"IF(AND(D393>=F12,D393<=G12),T12,0)","v":0},{"$f":"IF(AND(D393>=F13,D393<=G13),T13,0)","v":0},{"$f":"IF(AND(D393>=F14,D393<=G14),T14,0)","v":0},{"$f":"IF(AND(D393>=F15,D393<=G15),T15,0)","v":0},{"$f":"IF(AND(D393>=F16,D393<=G16),T16,0)","v":0},0,0,0,1]
[null,null,null,"2023-05-13",{"$f":"IF(D394<=G7,T7,0)","v":0},{"$f":"IF(AND(D394>=F8,D394<=G8),T8,0)","v":0},{"$f":"IF(AND(D394>=F9,D394<=G9),T9,0)","v":0},{"$f":"IF(AND(D394>=F10,D394<=G10),T10,0)","v":0},{"$f":"IF(AND(D394>=F11,D394<=G11),T11,0)","v":0},{"$f":"IF(AND(D394>=F12,D394<=G12),T12,0)","v":0},{"$f":"IF(AND(D394>=F13,D394<=G13),T13,0)","v":0},{"$f":"IF(AND(D394>=F14,D394<=G14),T14,0)","v":0},{"$f":"IF(AND(D394>=F15,D394<=G15),T15,0)","v":0},{"$f":"IF(AND(D394>=F16,D394<=G16),T16,0)","v":0},0,0,0,1]
[null,null,null,"2023-05-14",{"$f":"IF(D395<=G7,T7,0)","v":0},{"$f":"IF(AND(D395>=F8,D395<=G8),T8,0)","v":0},{"$f":"IF(AND(D395>=F9,D395<=G9),T9,0)","v":0},{"$f":"IF(AND(D395>=F10,D395<=G10),T10,0)","v":0},{"$f":"IF(AND(D395>=F11,D395<=G11),T11,0)","v":0},{"$f":"IF(AND(D395>=F12,D395<=G12),T12,0)","v":0},{"$f":"IF(AND(D395>=F13,D395<=G13),T13,0)","v":0},{"$f":"IF(AND(D395>=F14,D395<=G14),T14,0)","v":0},{"$f":"IF(AND(D395>=F15,D395<=G15),T15,0)","v":0},{"$f":"IF(AND(D395>=F16,D395<=G16),T16,0)","v":0},0,0,0,1]
[null,null,null,"2023-05-15",{"$f":"IF(D396<=G7,T7,0)","v":0},{"$f":"IF(AND(D396>=F8,D396<=G8),T8,0)","v":0},{"$f":"IF(AND(D396>=F9,D396<=G9),T9,0)","v":0},{"$f":"IF(AND(D396>=F10,D396<=G10),T10,0)","v":0},{"$f":"IF(AND(D396>=F11,D396<=G11),T11,0)","v":0},{"$f":"IF(AND(D396>=F12,D396<=G12),T12,0)","v":0},{"$f":"IF(AND(D396>=F13,D396<=G13),T13,0)","v":0},{"$f":"IF(AND(D396>=F14,D396<=G14),T14,0)","v":0},{"$f":"IF(AND(D396>=F15,D396<=G15),T15,0)","v":0},{"$f":"IF(AND(D396>=F16,D396<=G16),T16,0)","v":0},0,0,0,1]
[null,null,null,"2023-05-16",{"$f":"IF(D397<=G7,T7,0)","v":0},{"$f":"IF(AND(D397>=F8,D397<=G8),T8,0)","v":0},{"$f":"IF(AND(D397>=F9,D397<=G9),T9,0)","v":0},{"$f":"IF(AND(D397>=F10,D397<=G10),T10,0)","v":0},{"$f":"IF(AND(D397>=F11,D397<=G11),T11,0)","v":0},{"$f":"IF(AND(D397>=F12,D397<=G12),T12,0)","v":0},{"$f":"IF(AND(D397>=F13,D397<=G13),T13,0)","v":0},{"$f":"IF(AND(D397>=F14,D397<=G14),T14,0)","v":0},{"$f":"IF(AND(D397>=F15,D397<=G15),T15,0)","v":0},{"$f":"IF(AND(D397>=F16,D397<=G16),T16,0)","v":0},0,0,0,1]
[null,null,null,"2023-05-17",{"$f":"IF(D398<=G7,T7,0)","v":0},{"$f":"IF(AND(D398>=F8,D398<=G8),T8,0)","v":0},{"$f":"IF(AND(D398>=F9,D398<=G9),T9,0)","v":0},{"$f":"IF(AND(D398>=F10,D398<=G10),T10,0)","v":0},{"$f":"IF(AND(D398>=F11,D398<=G11),T11,0)","v":0},{"$f":"IF(AND(D398>=F12,D398<=G12),T12,0)","v":0},{"$f":"IF(AND(D398>=F13,D398<=G13),T13,0)","v":0},{"$f":"IF(AND(D398>=F14,D398<=G14),T14,0)","v":0},{"$f":"IF(AND(D398>=F15,D398<=G15),T15,0)","v":0},{"$f":"IF(AND(D398>=F16,D398<=G16),T16,0)","v":0},0,0,0,1]
[null,null,null,"2023-05-18",{"$f":"IF(D399<=G7,T7,0)","v":0},{"$f":"IF(AND(D399>=F8,D399<=G8),T8,0)","v":0},{"$f":"IF(AND(D399>=F9,D399<=G9),T9,0)","v":0},{"$f":"IF(AND(D399>=F10,D399<=G10),T10,0)","v":0},{"$f":"IF(AND(D399>=F11,D399<=G11),T11,0)","v":0},{"$f":"IF(AND(D399>=F12,D399<=G12),T12,0)","v":0},{"$f":"IF(AND(D399>=F13,D399<=G13),T13,0)","v":0},{"$f":"IF(AND(D399>=F14,D399<=G14),T14,0)","v":0},{"$f":"IF(AND(D399>=F15,D399<=G15),T15,0)","v":0},{"$f":"IF(AND(D399>=F16,D399<=G16),T16,0)","v":0},0,0,0,1]
[null,null,null,"2023-05-19",{"$f":"IF(D400<=G7,T7,0)","v":0},{"$f":"IF(AND(D400>=F8,D400<=G8),T8,0)","v":0},{"$f":"IF(AND(D400>=F9,D400<=G9),T9,0)","v":0},{"$f":"IF(AND(D400>=F10,D400<=G10),T10,0)","v":0},{"$f":"IF(AND(D400>=F11,D400<=G11),T11,0)","v":0},{"$f":"IF(AND(D400>=F12,D400<=G12),T12,0)","v":0},{"$f":"IF(AND(D400>=F13,D400<=G13),T13,0)","v":0},{"$f":"IF(AND(D400>=F14,D400<=G14),T14,0)","v":0},{"$f":"IF(AND(D400>=F15,D400<=G15),T15,0)","v":0},{"$f":"IF(AND(D400>=F16,D400<=G16),T16,0)","v":0},0,0,0,1]
[null,null,null,"2023-05-20",{"$f":"IF(D401<=G7,T7,0)","v":0},{"$f":"IF(AND(D401>=F8,D401<=G8),T8,0)","v":0},{"$f":"IF(AND(D401>=F9,D401<=G9),T9,0)","v":0},{"$f":"IF(AND(D401>=F10,D401<=G10),T10,0)","v":0},{"$f":"IF(AND(D401>=F11,D401<=G11),T11,0)","v":0},{"$f":"IF(AND(D401>=F12,D401<=G12),T12,0)","v":0},{"$f":"IF(AND(D401>=F13,D401<=G13),T13,0)","v":0},{"$f":"IF(AND(D401>=F14,D401<=G14),T14,0)","v":0},{"$f":"IF(AND(D401>=F15,D401<=G15),T15,0)","v":0},{"$f":"IF(AND(D401>=F16,D401<=G16),T16,0)","v":0},0,0,0,1]
[null,null,null,"2023-05-21",{"$f":"IF(D402<=G7,T7,0)","v":0},{"$f":"IF(AND(D402>=F8,D402<=G8),T8,0)","v":0},{"$f":"IF(AND(D402>=F9,D402<=G9),T9,0)","v":0},{"$f":"IF(AND(D402>=F10,D402<=G10),T10,0)","v":0},{"$f":"IF(AND(D402>=F11,D402<=G11),T11,0)","v":0},{"$f":"IF(AND(D402>=F12,D402<=G12),T12,0)","v":0},{"$f":"IF(AND(D402>=F13,D402<=G13),T13,0)","v":0},{"$f":"IF(AND(D402>=F14,D402<=G14),T14,0)","v":0},{"$f":"IF(AND(D402>=F15,D402<=G15),T15,0)","v":0},{"$f":"IF(AND(D402>=F16,D402<=G16),T16,0)","v":0},0,0,0,1]
[null,null,null,"2023-05-22",{"$f":"IF(D403<=G7,T7,0)","v":0},{"$f":"IF(AND(D403>=F8,D403<=G8),T8,0)","v":0},{"$f":"IF(AND(D403>=F9,D403<=G9),T9,0)","v":0},{"$f":"IF(AND(D403>=F10,D403<=G10),T10,0)","v":0},{"$f":"IF(AND(D403>=F11,D403<=G11),T11,0)","v":0},{"$f":"IF(AND(D403>=F12,D403<=G12),T12,0)","v":0},{"$f":"IF(AND(D403>=F13,D403<=G13),T13,0)","v":0},{"$f":"IF(AND(D403>=F14,D403<=G14),T14,0)","v":0},{"$f":"IF(AND(D403>=F15,D403<=G15),T15,0)","v":0},{"$f":"IF(AND(D403>=F16,D403<=G16),T16,0)","v":0},0,0,0,1]
[null,null,null,"2023-05-23",{"$f":"IF(D404<=G7,T7,0)","v":0},{"$f":"IF(AND(D404>=F8,D404<=G8),T8,0)","v":0},{"$f":"IF(AND(D404>=F9,D404<=G9),T9,0)","v":0},{"$f":"IF(AND(D404>=F10,D404<=G10),T10,0)","v":0},{"$f":"IF(AND(D404>=F11,D404<=G11),T11,0)","v":0},{"$f":"IF(AND(D404>=F12,D404<=G12),T12,0)","v":0},{"$f":"IF(AND(D404>=F13,D404<=G13),T13,0)","v":0},{"$f":"IF(AND(D404>=F14,D404<=G14),T14,0)","v":0},{"$f":"IF(AND(D404>=F15,D404<=G15),T15,0)","v":0},{"$f":"IF(AND(D404>=F16,D404<=G16),T16,0)","v":0},0,0,0,1]
[null,null,null,"2023-05-24",{"$f":"IF(D405<=G7,T7,0)","v":0},{"$f":"IF(AND(D405>=F8,D405<=G8),T8,0)","v":0},{"$f":"IF(AND(D405>=F9,D405<=G9),T9,0)","v":0},{"$f":"IF(AND(D405>=F10,D405<=G10),T10,0)","v":0},{"$f":"IF(AND(D405>=F11,D405<=G11),T11,0)","v":0},{"$f":"IF(AND(D405>=F12,D405<=G12),T12,0)","v":0},{"$f":"IF(AND(D405>=F13,D405<=G13),T13,0)","v":0},{"$f":"IF(AND(D405>=F14,D405<=G14),T14,0)","v":0},{"$f":"IF(AND(D405>=F15,D405<=G15),T15,0)","v":0},{"$f":"IF(AND(D405>=F16,D405<=G16),T16,0)","v":0},0,0,0,1]
[null,null,null,"2023-05-25",{"$f":"IF(D406<=G7,T7,0)","v":0},{"$f":"IF(AND(D406>=F8,D406<=G8),T8,0)","v":0},{"$f":"IF(AND(D406>=F9,D406<=G9),T9,0)","v":0},{"$f":"IF(AND(D406>=F10,D406<=G10),T10,0)","v":0},{"$f":"IF(AND(D406>=F11,D406<=G11),T11,0)","v":0},{"$f":"IF(AND(D406>=F12,D406<=G12),T12,0)","v":0},{"$f":"IF(AND(D406>=F13,D406<=G13),T13,0)","v":0},{"$f":"IF(AND(D406>=F14,D406<=G14),T14,0)","v":0},{"$f":"IF(AND(D406>=F15,D406<=G15),T15,0)","v":0},{"$f":"IF(AND(D406>=F16,D406<=G16),T16,0)","v":0},0,0,0,1]
[null,null,null,"2023-05-26",{"$f":"IF(D407<=G7,T7,0)","v":0},{"$f":"IF(AND(D407>=F8,D407<=G8),T8,0)","v":0},{"$f":"IF(AND(D407>=F9,D407<=G9),T9,0)","v":0},{"$f":"IF(AND(D407>=F10,D407<=G10),T10,0)","v":0},{"$f":"IF(AND(D407>=F11,D407<=G11),T11,0)","v":0},{"$f":"IF(AND(D407>=F12,D407<=G12),T12,0)","v":0},{"$f":"IF(AND(D407>=F13,D407<=G13),T13,0)","v":0},{"$f":"IF(AND(D407>=F14,D407<=G14),T14,0)","v":0},{"$f":"IF(AND(D407>=F15,D407<=G15),T15,0)","v":0},{"$f":"IF(AND(D407>=F16,D407<=G16),T16,0)","v":0},0,0,0,1]
[null,null,null,"2023-05-27",{"$f":"IF(D408<=G7,T7,0)","v":0},{"$f":"IF(AND(D408>=F8,D408<=G8),T8,0)","v":0},{"$f":"IF(AND(D408>=F9,D408<=G9),T9,0)","v":0},{"$f":"IF(AND(D408>=F10,D408<=G10),T10,0)","v":0},{"$f":"IF(AND(D408>=F11,D408<=G11),T11,0)","v":0},{"$f":"IF(AND(D408>=F12,D408<=G12),T12,0)","v":0},{"$f":"IF(AND(D408>=F13,D408<=G13),T13,0)","v":0},{"$f":"IF(AND(D408>=F14,D408<=G14),T14,0)","v":0},{"$f":"IF(AND(D408>=F15,D408<=G15),T15,0)","v":0},{"$f":"IF(AND(D408>=F16,D408<=G16),T16,0)","v":0},0,0,0,1]
[null,null,null,"2023-05-28",{"$f":"IF(D409<=G7,T7,0)","v":0},{"$f":"IF(AND(D409>=F8,D409<=G8),T8,0)","v":0},{"$f":"IF(AND(D409>=F9,D409<=G9),T9,0)","v":0},{"$f":"IF(AND(D409>=F10,D409<=G10),T10,0)","v":0},{"$f":"IF(AND(D409>=F11,D409<=G11),T11,0)","v":0},{"$f":"IF(AND(D409>=F12,D409<=G12),T12,0)","v":0},{"$f":"IF(AND(D409>=F13,D409<=G13),T13,0)","v":0},{"$f":"IF(AND(D409>=F14,D409<=G14),T14,0)","v":0},{"$f":"IF(AND(D409>=F15,D409<=G15),T15,0)","v":0},{"$f":"IF(AND(D409>=F16,D409<=G16),T16,0)","v":0},0,0,0,1]
[null,null,null,"2023-05-29",{"$f":"IF(D410<=G7,T7,0)","v":0},{"$f":"IF(AND(D410>=F8,D410<=G8),T8,0)","v":0},{"$f":"IF(AND(D410>=F9,D410<=G9),T9,0)","v":0},{"$f":"IF(AND(D410>=F10,D410<=G10),T10,0)","v":0},{"$f":"IF(AND(D410>=F11,D410<=G11),T11,0)","v":0},{"$f":"IF(AND(D410>=F12,D410<=G12),T12,0)","v":0},{"$f":"IF(AND(D410>=F13,D410<=G13),T13,0)","v":0},{"$f":"IF(AND(D410>=F14,D410<=G14),T14,0)","v":0},{"$f":"IF(AND(D410>=F15,D410<=G15),T15,0)","v":0},{"$f":"IF(AND(D410>=F16,D410<=G16),T16,0)","v":0},0,0,0,1]
[null,null,null,"2023-05-30",{"$f":"IF(D411<=G7,T7,0)","v":0},{"$f":"IF(AND(D411>=F8,D411<=G8),T8,0)","v":0},{"$f":"IF(AND(D411>=F9,D411<=G9),T9,0)","v":0},{"$f":"IF(AND(D411>=F10,D411<=G10),T10,0)","v":0},{"$f":"IF(AND(D411>=F11,D411<=G11),T11,0)","v":0},{"$f":"IF(AND(D411>=F12,D411<=G12),T12,0)","v":0},{"$f":"IF(AND(D411>=F13,D411<=G13),T13,0)","v":0},{"$f":"IF(AND(D411>=F14,D411<=G14),T14,0)","v":0},{"$f":"IF(AND(D411>=F15,D411<=G15),T15,0)","v":0},{"$f":"IF(AND(D411>=F16,D411<=G16),T16,0)","v":0},0,0,0,1]
[null,null,null,"2023-06-01",{"$f":"IF(D412<=G7,T7,0)","v":0},{"$f":"IF(AND(D412>=F8,D412<=G8),T8,0)","v":0},{"$f":"IF(AND(D412>=F9,D412<=G9),T9,0)","v":0},{"$f":"IF(AND(D412>=F10,D412<=G10),T10,0)","v":0},{"$f":"IF(AND(D412>=F11,D412<=G11),T11,0)","v":0},{"$f":"IF(AND(D412>=F12,D412<=G12),T12,0)","v":0},{"$f":"IF(AND(D412>=F13,D412<=G13),T13,0)","v":0},{"$f":"IF(AND(D412>=F14,D412<=G14),T14,0)","v":0},{"$f":"IF(AND(D412>=F15,D412<=G15),T15,0)","v":0},{"$f":"IF(AND(D412>=F16,D412<=G16),T16,0)","v":0},0,0,0,1]
[null,null,null,"2023-06-02",{"$f":"IF(D413<=G7,T7,0)","v":0},{"$f":"IF(AND(D413>=F8,D413<=G8),T8,0)","v":0},{"$f":"IF(AND(D413>=F9,D413<=G9),T9,0)","v":0},{"$f":"IF(AND(D413>=F10,D413<=G10),T10,0)","v":0},{"$f":"IF(AND(D413>=F11,D413<=G11),T11,0)","v":0},{"$f":"IF(AND(D413>=F12,D413<=G12),T12,0)","v":0},{"$f":"IF(AND(D413>=F13,D413<=G13),T13,0)","v":0},{"$f":"IF(AND(D413>=F14,D413<=G14),T14,0)","v":0},{"$f":"IF(AND(D413>=F15,D413<=G15),T15,0)","v":0},{"$f":"IF(AND(D413>=F16,D413<=G16),T16,0)","v":0},0,0,0,1]
[null,null,null,"2023-06-03",{"$f":"IF(D414<=G7,T7,0)","v":0},{"$f":"IF(AND(D414>=F8,D414<=G8),T8,0)","v":0},{"$f":"IF(AND(D414>=F9,D414<=G9),T9,0)","v":0},{"$f":"IF(AND(D414>=F10,D414<=G10),T10,0)","v":0},{"$f":"IF(AND(D414>=F11,D414<=G11),T11,0)","v":0},{"$f":"IF(AND(D414>=F12,D414<=G12),T12,0)","v":0},{"$f":"IF(AND(D414>=F13,D414<=G13),T13,0)","v":0},{"$f":"IF(AND(D414>=F14,D414<=G14),T14,0)","v":0},{"$f":"IF(AND(D414>=F15,D414<=G15),T15,0)","v":0},{"$f":"IF(AND(D414>=F16,D414<=G16),T16,0)","v":0},0,0,0,1]
[null,null,null,"2023-06-04",{"$f":"IF(D415<=G7,T7,0)","v":0},{"$f":"IF(AND(D415>=F8,D415<=G8),T8,0)","v":0},{"$f":"IF(AND(D415>=F9,D415<=G9),T9,0)","v":0},{"$f":"IF(AND(D415>=F10,D415<=G10),T10,0)","v":0},{"$f":"IF(AND(D415>=F11,D415<=G11),T11,0)","v":0},{"$f":"IF(AND(D415>=F12,D415<=G12),T12,0)","v":0},{"$f":"IF(AND(D415>=F13,D415<=G13),T13,0)","v":0},{"$f":"IF(AND(D415>=F14,D415<=G14),T14,0)","v":0},{"$f":"IF(AND(D415>=F15,D415<=G15),T15,0)","v":0},{"$f":"IF(AND(D415>=F16,D415<=G16),T16,0)","v":0},0,0,0,1]

{"sheet":"Non-33 TT","index":4,"n_rows":46,"n_cols":10,"rows_kept":46,"cut":false,"hidden":false,"merged":[[4,2,4,3],[4,4,4,5]]}
[]
[]
[]
[]
[null,null,"       TERM       ",null,"    HOLIDAY    "]
[]
[]
[null,null,"Start","End","Start","End","Term Type","Training Level","Hours","Grad FT Rate"]
[]
[null,"*1","2022-05-23","2022-08-08",null,null,"Non-Standard Semester",null,6,2]
[null,2,"2021-06-07","2021-08-01",null,null,"Non-Standard Semester",null,3]
[null,3,"2021-06-28","2021-08-08",null,null,"Non-Standard Semester",null,3]
[null,4]
[null,5]
[null,6]
[null,7]
[null,8]
[null,9]
[null,10]
[null,null,"*Important* The earliest term start date must be listed on line 1 above."]
[null,null,"Starting:","  Eq Hrs:","Training Time"]
[]
[]
[]
[]
[null,null,{"$f":"'30'!F21","v":"2022-05-23"},{"$f":"'30'!G21","v":9},{"$f":"IF('30'!G21>=12,\"FULL\",IF('30'!G21>=9,\"3/4\",IF('30'!G21>=6,\"1/2\",IF('30'!G21>=4,\"<1/2\",IF('30'!G21>=1,\"1/4\",\"\")))))","v":"3/4"}]
[null,null,{"$f":"'30'!F22","v":"2022-08-09"},{"$f":"IF(AND('30'!G21=0,'30'!G22=0),\"\",'30'!G22)","v":0},{"$f":"IF('30'!G22>=12,\"FULL\",IF('30'!G22>=9,\"3/4\",IF('30'!G22>=6,\"1/2\",IF('30'!G22>=4,\"<1/2\",IF('30'!G22>=1,\"1/4\",\"\")))))","v":""}]
[null,null,{"$f":"'30'!F23","v":"00:00:00"},{"$f":"IF(AND('30'!G22=0,'30'!G23=0),\"\",'30'!G23)","v":""},{"$f":"IF('30'!G23>=12,\"FULL\",IF('30'!G23>=9,\"3/4\",IF('30'!G23>=6,\"1/2\",IF('30'!G23>=4,\"<1/2\",IF('30'!G23>=1,\"1/4\",\"\")))))","v":""}]
[null,null,{"$f":"'30'!F24","v":"00:00:00"},{"$f":"IF(AND('30'!G23=0,'30'!G24=0),\"\",'30'!G24)","v":""},{"$f":"IF('30'!G24>=12,\"FULL\",IF('30'!G24>=9,\"3/4\",IF('30'!G24>=6,\"1/2\",IF('30'!G24>=4,\"<1/2\",IF('30'!G24>=1,\"1/4\",\"\")))))","v":""}]
[null,null,{"$f":"'30'!F25","v":"00:00:00"},{"$f":"IF(AND('30'!G24=0,'30'!G25=0),\"\",'30'!G25)","v":""},{"$f":"IF('30'!G25>=12,\"FULL\",IF('30'!G25>=9,\"3/4\",IF('30'!G25>=6,\"1/2\",IF('30'!G25>=4,\"<1/2\",IF('30'!G25>=1,\"1/4\",\"\")))))","v":""}]
[null,null,{"$f":"'30'!F26","v":"00:00:00"},{"$f":"IF(AND('30'!G25=0,'30'!G26=0),\"\",'30'!G26)","v":""},{"$f":"IF('30'!G26>=12,\"FULL\",IF('30'!G26>=9,\"3/4\",IF('30'!G26>=6,\"1/2\",IF('30'!G26>=4,\"<1/2\",IF('30'!G26>=1,\"1/4\",\"\")))))","v":""}]
[null,null,{"$f":"'30'!F27","v":"00:00:00"},{"$f":"IF(AND('30'!G26=0,'30'!G27=0),\"\",'30'!G27)","v":""},{"$f":"IF('30'!G27>=12,\"FULL\",IF('30'!G27>=9,\"3/4\",IF('30'!G27>=6,\"1/2\",IF('30'!G27>=4,\"<1/2\",IF('30'!G27>=1,\"1/4\",\"\")))))","v":""}]
[null,null,{"$f":"'30'!F28","v":"00:00:00"},{"$f":"IF(AND('30'!G27=0,'30'!G28=0),\"\",'30'!G28)","v":""},{"$f":"IF('30'!G28>=12,\"FULL\",IF('30'!G28>=9,\"3/4\",IF('30'!G28>=6,\"1/2\",IF('30'!G28>=4,\"<1/2\",IF('30'!G28>=1,\"1/4\",\"\")))))","v":""}]
[null,null,{"$f":"'30'!F29","v":"00:00:00"},{"$f":"IF(AND('30'!G28=0,'30'!G29=0),\"\",'30'!G29)","v":""},{"$f":"IF('30'!G29>=12,\"FULL\",IF('30'!G29>=9,\"3/4\",IF('30'!G29>=6,\"1/2\",IF('30'!G29>=4,\"<1/2\",IF('30'!G29>=1,\"1/4\",\"\")))))","v":""}]
[null,null,{"$f":"'30'!F30","v":"00:00:00"},{"$f":"IF(AND('30'!G29=0,'30'!G30=0),\"\",'30'!G30)","v":""},{"$f":"IF('30'!G30>=12,\"FULL\",IF('30'!G30>=9,\"3/4\",IF('30'!G30>=6,\"1/2\",IF('30'!G30>=4,\"<1/2\",IF('30'!G30>=1,\"1/4\",\"\")))))","v":""}]
[null,null,{"$f":"'30'!F31","v":"00:00:00"},{"$f":"IF(AND('30'!G30=0,'30'!G31=0),\"\",'30'!G31)","v":""},{"$f":"IF('30'!G31>=12,\"FULL\",IF('30'!G31>=9,\"3/4\",IF('30'!G31>=6,\"1/2\",IF('30'!G31>=4,\"<1/2\",IF('30'!G31>=1,\"1/4\",\"\")))))","v":""}]
[null,null,{"$f":"'30'!F32","v":"00:00:00"},{"$f":"IF(AND('30'!G31=0,'30'!G32=0),\"\",'30'!G32)","v":""},{"$f":"IF('30'!G32>=12,\"FULL\",IF('30'!G32>=9,\"3/4\",IF('30'!G32>=6,\"1/2\",IF('30'!G32>=4,\"<1/2\",IF('30'!G32>=1,\"1/4\",\"\")))))","v":""}]
[null,null,{"$f":"'30'!F33","v":"00:00:00"},{"$f":"IF(AND('30'!G32=0,'30'!G33=0),\"\",'30'!G33)","v":""},{"$f":"IF('30'!G33>=12,\"FULL\",IF('30'!G33>=9,\"3/4\",IF('30'!G33>=6,\"1/2\",IF('30'!G33>=4,\"<1/2\",IF('30'!G33>=1,\"1/4\",\"\")))))","v":""}]
[null,null,{"$f":"'30'!F34","v":"00:00:00"},{"$f":"IF(AND('30'!G33=0,'30'!G34=0),\"\",'30'!G34)","v":""},{"$f":"IF('30'!G34>=12,\"FULL\",IF('30'!G34>=9,\"3/4\",IF('30'!G34>=6,\"1/2\",IF('30'!G34>=4,\"<1/2\",IF('30'!G34>=1,\"1/4\",\"\")))))","v":""}]
[null,null,{"$f":"'30'!F35","v":"00:00:00"},{"$f":"IF(AND('30'!G34=0,'30'!G35=0),\"\",'30'!G35)","v":""},{"$f":"IF('30'!G35>=12,\"FULL\",IF('30'!G35>=9,\"3/4\",IF('30'!G35>=6,\"1/2\",IF('30'!G35>=4,\"<1/2\",IF('30'!G35>=1,\"1/4\",\"\")))))","v":""}]
[null,null,{"$f":"'30'!F36","v":"00:00:00"},{"$f":"IF(AND('30'!G35=0,'30'!G36=0),\"\",'30'!G36)","v":""},{"$f":"IF('30'!G36>=12,\"FULL\",IF('30'!G36>=9,\"3/4\",IF('30'!G36>=6,\"1/2\",IF('30'!G36>=4,\"<1/2\",IF('30'!G36>=1,\"1/4\",\"\")))))","v":""}]
[null,null,{"$f":"'30'!F37","v":"00:00:00"},{"$f":"IF(AND('30'!G36=0,'30'!G37=0),\"\",'30'!G37)","v":""},{"$f":"IF('30'!G37>=12,\"FULL\",IF('30'!G37>=9,\"3/4\",IF('30'!G37>=6,\"1/2\",IF('30'!G37>=4,\"<1/2\",IF('30'!G37>=1,\"1/4\",\"\")))))","v":""}]
[null,null,{"$f":"'30'!F38","v":"00:00:00"},{"$f":"IF(AND('30'!G37=0,'30'!G38=0),\"\",'30'!G38)","v":""},{"$f":"IF('30'!G38>=12,\"FULL\",IF('30'!G38>=9,\"3/4\",IF('30'!G38>=6,\"1/2\",IF('30'!G38>=4,\"<1/2\",IF('30'!G38>=1,\"1/4\",\"\")))))","v":""}]
[null,null,{"$f":"'30'!F39","v":"00:00:00"},{"$f":"IF(AND('30'!G38=0,'30'!G39=0),\"\",'30'!G39)","v":""},{"$f":"IF('30'!G39>=12,\"FULL\",IF('30'!G39>=9,\"3/4\",IF('30'!G39>=6,\"1/2\",IF('30'!G39>=4,\"<1/2\",IF('30'!G39>=1,\"1/4\",\"\")))))","v":""}]
[null,null,{"$f":"'30'!F40","v":"00:00:00"},{"$f":"IF(AND('30'!G39=0,'30'!G40=0),\"\",'30'!G40)","v":""},{"$f":"IF('30'!G40>=12,\"FULL\",IF('30'!G40>=9,\"3/4\",IF('30'!G40>=6,\"1/2\",IF('30'!G40>=4,\"<1/2\",IF('30'!G40>=1,\"1/4\",\"\")))))","v":""}]
[null,null,{"$f":"'30'!F41","v":"00:00:00"},{"$f":"IF(AND('30'!G40=0,'30'!G41=0),\"\",'30'!G41)","v":""},{"$f":"IF('30'!G41>=12,\"FULL\",IF('30'!G41>=9,\"3/4\",IF('30'!G41>=6,\"1/2\",IF('30'!G41>=4,\"<1/2\",IF('30'!G41>=1,\"1/4\",\"\")))))","v":""}]